From mboxrd@z Thu Jan 1 00:00:00 1970 Return-Path: Received: from mails.dpdk.org (mails.dpdk.org [217.70.189.124]) by inbox.dpdk.org (Postfix) with ESMTP id 2C23E46F8C for ; Fri, 26 Sep 2025 20:28:52 +0200 (CEST) Received: from mails.dpdk.org (localhost [127.0.0.1]) by mails.dpdk.org (Postfix) with ESMTP id 0AD4340262; Fri, 26 Sep 2025 20:28:52 +0200 (CEST) Received: from mail-il1-f227.google.com (mail-il1-f227.google.com [209.85.166.227]) by mails.dpdk.org (Postfix) with ESMTP id 12F7340262 for ; Fri, 26 Sep 2025 20:28:50 +0200 (CEST) Received: by mail-il1-f227.google.com with SMTP id e9e14a558f8ab-4278a8ecf9fso4429735ab.0 for ; Fri, 26 Sep 2025 11:28:50 -0700 (PDT) DKIM-Signature: v=1; a=rsa-sha256; c=relaxed/relaxed; d=iol.unh.edu; s=unh-iol; t=1758911329; x=1759516129; darn=dpdk.org; h=references:in-reply-to:cc:to:from:subject:message-id:date:from:to :cc:subject:date:message-id:reply-to; bh=ojWZOwdIgwLeVzYBPeQ8INZv4Urf17FVhWJ1K8eC6xg=; b=Xx3okPWnMXCBFbb2PBxX6LXbu7WZX60c/Z8wundyc4ouAhobDYSsLF5j9HPg/TO1IE K+N+SN3lNH4aYzjMFinskV2b4emAHMKheMvrBMYFxMnI1As9M0PZNvZoYMBYN5ZSwGWr yxSheDdSvYyApfKsDNtz/RS8z/FtipvRGW5wc= X-Google-DKIM-Signature: v=1; a=rsa-sha256; c=relaxed/relaxed; d=1e100.net; s=20230601; t=1758911329; x=1759516129; h=references:in-reply-to:cc:to:from:subject:message-id:date :x-gm-message-state:from:to:cc:subject:date:message-id:reply-to; bh=ojWZOwdIgwLeVzYBPeQ8INZv4Urf17FVhWJ1K8eC6xg=; b=OKe90cb3cVk6V+YqwkppQsO+qAYcVIBJHApa9jZjQaEOKaZj4LAwFJVnjK9FnuYGa/ uiDy59QG2Jw+5Q2HYe/uc/jFLnDNVf7hxJXBjrBh2e+w/rVAGNYTtZEILBUler5oegta SaEofdEjSJ/KnyaVOSV8rjZwm26YWFHIvNB6miCPh4jyVAhhWwLz9BUmDKKDAlVKiN2z 3EpN5huMxv2ff18yLbRjdNTCsGUPssCCH+oQT9dSV+/RVwsgr1RtZlRpIFKAqDkUSNKl lxpXCZhxTi0FmAo3MMFij+b/fnZm2VajAau9kFUaMwK19vwKmB9Pi312DcMFwZdrN6cq KgcA== X-Gm-Message-State: AOJu0Yw/rEOnyYtXhxB3OaSE7JtP8LAZrwKHEAt2xJYTVJFGNR68iAGP vJ6GSa0oJEe0+nj6y3m3Hu7yE9j7Fr+nDwKAAjVZWPCbBanpxlaWzYLqyv5xoJPEgHYRs3QjG+E juph/AGQcFpdRuED+TiOiZ1sV+1tiOUzcS3lTLLSGu9Sk X-Gm-Gg: ASbGncsAUaVWfn4ECr7Anf2DD45I4LLM1zT6ID67LP3LqmV2u3+bCAuQKnE0mnCxf/p qfR5iWUNB9NjNp5//CWA6tQFSSGEu8kmMWz8iynz3HkkX7sHNrB0CIHWynAS5x6V9HLpc0XI/A3 Bit2O9oQB/SQ7jQcwcE4SXQAm34jQsfqFzOPLSZnF9HqWRuJkx19ARPfHUAoluFN7QTl5nbdmHN Q519MOwg4n6eFGORZGGn7EBp+bwdBiNVSJGIVVh8mQfsOWeNxOdqZA41As15ZiBKuE/oOzIjcgl X9qS1Rbtth6Y5QxeEn0lwhtVUmjbfYkbLUwbIlN0o+tXqghlZsDFCXjgMerG2egZes2YENzL X-Google-Smtp-Source: AGHT+IFFlkkEwRnJlKSv74fbLct3+7FPi50ctS5g3b9vfbj84coKK5J0GuL18hXbAKKvTsrG35KhFMconMst X-Received: by 2002:a5e:8d14:0:b0:918:46b7:4d35 with SMTP id ca18e2360f4ac-91846b75241mr29437739f.6.1758911329365; Fri, 26 Sep 2025 11:28:49 -0700 (PDT) Received: from postal.iol.unh.edu (postal.iol.unh.edu. [132.177.123.84]) by smtp-relay.gmail.com with ESMTPS id ca18e2360f4ac-913ed62db43sm6183639f.5.2025.09.26.11.28.49 (version=TLS1_2 cipher=ECDHE-ECDSA-AES128-GCM-SHA256 bits=128/128); Fri, 26 Sep 2025 11:28:49 -0700 (PDT) X-Relaying-Domain: iol.unh.edu Date: Fri, 26 Sep 2025 11:28:49 -0700 (PDT) Message-ID: <68d6db61.050a0220.4a079.3480SMTPIN_ADDED_MISSING@mx.google.com> Received: from [172.21.0.7] (unknown [172.18.0.240]) by postal.iol.unh.edu (Postfix) with ESMTP id D30B66050A61; Fri, 26 Sep 2025 14:28:48 -0400 (EDT) Subject: |SUCCESS| pw157004-157005 [PATCH] [v2,2/2] crypto/ipsec-mb: use cons From: dpdklab@iol.unh.edu To: Test Report Cc: dpdk-test-reports@iol.unh.edu In-Reply-To: <20250926154905.54416-2-kai.ji@intel.com> References: <20250926154905.54416-2-kai.ji@intel.com> Content-Type: text/plain X-BeenThere: test-report@dpdk.org X-Mailman-Version: 2.1.29 Precedence: list List-Id: automatic DPDK test reports List-Unsubscribe: , List-Archive: List-Post: List-Help: List-Subscribe: , Errors-To: test-report-bounces@dpdk.org Test-Label: iol-compile-amd64-testing Test-Status: SUCCESS http://dpdk.org/patch/157005 _Testing PASS_ Submitter: Kai Ji Date: Friday, September 26 2025 15:49:05 DPDK git baseline: Repo:dpdk Branch: master CommitID:1d627ea13aeec2bcccf27246e6be2508370d171e 157004-157005 --> testing pass Upstream job id: Generic-DPDK-Compile-Meson#429035 Test environment and result as below: +-------------------------------+--------------------+------------------+-------------------+-------------------------+-------------------+----------------------+ | Environment | dpdk_meson_compile | dpdk_compile_ovs | dpdk_compile_spdk | dpdk_llvm_clang_compile | dpdk_msvc_compile | dpdk_mingw64_compile | +===============================+====================+==================+===================+=========================+===================+======================+ | CentOS Stream 10 | PASS | SKIPPED | SKIPPED | SKIPPED | SKIPPED | SKIPPED | +-------------------------------+--------------------+------------------+-------------------+-------------------------+-------------------+----------------------+ | Fedora Linux 42 | PASS | PASS | PASS | SKIPPED | SKIPPED | SKIPPED | +-------------------------------+--------------------+------------------+-------------------+-------------------------+-------------------+----------------------+ | Debian GNU/Linux 12 | PASS | SKIPPED | PASS | SKIPPED | SKIPPED | SKIPPED | +-------------------------------+--------------------+------------------+-------------------+-------------------------+-------------------+----------------------+ | CentOS Stream 9 | PASS | SKIPPED | PASS | SKIPPED | SKIPPED | SKIPPED | +-------------------------------+--------------------+------------------+-------------------+-------------------------+-------------------+----------------------+ | Ubuntu 24.04 | PASS | PASS | PASS | SKIPPED | SKIPPED | SKIPPED | +-------------------------------+--------------------+------------------+-------------------+-------------------------+-------------------+----------------------+ | FreeBSD 14.2 | PASS | SKIPPED | SKIPPED | SKIPPED | SKIPPED | SKIPPED | +-------------------------------+--------------------+------------------+-------------------+-------------------------+-------------------+----------------------+ | Ubuntu 20.04 | PASS | SKIPPED | SKIPPED | SKIPPED | SKIPPED | SKIPPED | +-------------------------------+--------------------+------------------+-------------------+-------------------------+-------------------+----------------------+ | openSUSE Leap 15.6 | PASS | SKIPPED | SKIPPED | SKIPPED | SKIPPED | SKIPPED | +-------------------------------+--------------------+------------------+-------------------+-------------------------+-------------------+----------------------+ | Red Hat Enterprise Linux 8.10 | PASS | SKIPPED | SKIPPED | SKIPPED | SKIPPED | SKIPPED | +-------------------------------+--------------------+------------------+-------------------+-------------------------+-------------------+----------------------+ | Red Hat Enterprise Linux 9.5 | PASS | SKIPPED | SKIPPED | SKIPPED | SKIPPED | SKIPPED | +-------------------------------+--------------------+------------------+-------------------+-------------------------+-------------------+----------------------+ | Ubuntu 22.04 | PASS | SKIPPED | PASS | SKIPPED | SKIPPED | SKIPPED | +-------------------------------+--------------------+------------------+-------------------+-------------------------+-------------------+----------------------+ | Alpine Linux 3.22.0 | PASS | SKIPPED | SKIPPED | SKIPPED | SKIPPED | SKIPPED | +-------------------------------+--------------------+------------------+-------------------+-------------------------+-------------------+----------------------+ | Windows Server 2022 | SKIPPED | SKIPPED | SKIPPED | PASS | PASS | PASS | +-------------------------------+--------------------+------------------+-------------------+-------------------------+-------------------+----------------------+ CentOS Stream 10 Kernel: 5.15 Compiler: gcc gcc (GCC) 14.2.1 20250110 (Red Hat 14.2.1-8) Fedora Linux 42 Kernel: 5.15 Compiler: gcc gcc (GCC) 15.2.1 20250808 (Red Hat 15.2.1-1) Debian GNU/Linux 12 Kernel: 5.15 Compiler: gcc gcc (Debian 12.2.0-14+deb12u1) 12.2.0 CentOS Stream 9 Kernel: 5.15 Compiler: gcc gcc (GCC) 11.5.0 20240719 (Red Hat 11.5.0-11) Ubuntu 24.04 Kernel: 5.15 Compiler: gcc gcc (Ubuntu 13.3.0-6ubuntu2~24.04) 13.3.0 FreeBSD 14.2 Kernel: 14.2-RELEASE Compiler: clang 18.1.6 Ubuntu 20.04 Kernel: 5.15 Compiler: gcc gcc (Ubuntu 9.4.0-1ubuntu1~20.04.2) 9.4.0 openSUSE Leap 15.6 Kernel: 5.15 Compiler: gcc gcc (SUSE Linux) 7.5.0 Red Hat Enterprise Linux 8.10 Kernel: 5.15 Compiler: gcc gcc (GCC) 8.5.0 20210514 (Red Hat 8.5.0-22) Red Hat Enterprise Linux 9.5 Kernel: 5.15 Compiler: gcc gcc (GCC) 11.5.0 20240719 (Red Hat 11.5.0-2) Ubuntu 22.04 Kernel: 5.15 Compiler: gcc gcc (Ubuntu 11.4.0-1ubuntu1~22.04) 11.4.0 Alpine Linux 3.22.0 Kernel: 5.15 Compiler: gcc gcc (Alpine 14.2.0) 14.2.0 Windows Server 2022 Kernel: 10.0.20348.2031 Compiler: clang 15.0.7, gcc 14.1.0 (MinGW), and MSVC VS 19.39.33521 To view detailed results, visit: https://lab.dpdk.org/results/dashboard/patchsets/34159/ UNH-IOL DPDK Community Lab To manage your email subscriptions, visit: https://lab.dpdk.org/results/dashboard/preferences/subscriptions/