From mboxrd@z Thu Jan 1 00:00:00 1970 Return-Path: Received: from mails.dpdk.org (mails.dpdk.org [217.70.189.124]) by inbox.dpdk.org (Postfix) with ESMTP id 1EBFE46F8C for ; Fri, 26 Sep 2025 20:29:11 +0200 (CEST) Received: from mails.dpdk.org (localhost [127.0.0.1]) by mails.dpdk.org (Postfix) with ESMTP id 1B13340262; Fri, 26 Sep 2025 20:29:11 +0200 (CEST) Received: from mail-il1-f227.google.com (mail-il1-f227.google.com [209.85.166.227]) by mails.dpdk.org (Postfix) with ESMTP id DC4B840262 for ; Fri, 26 Sep 2025 20:29:09 +0200 (CEST) Received: by mail-il1-f227.google.com with SMTP id e9e14a558f8ab-42576a07eeeso21775415ab.0 for ; Fri, 26 Sep 2025 11:29:09 -0700 (PDT) DKIM-Signature: v=1; a=rsa-sha256; c=relaxed/relaxed; d=iol.unh.edu; s=unh-iol; t=1758911349; x=1759516149; darn=dpdk.org; h=references:in-reply-to:cc:to:from:subject:message-id:date:from:to :cc:subject:date:message-id:reply-to; bh=LWTQOM9y6BqEPXHrK9vNOxBdUVbgysFPP8oAbCRWZtM=; b=iqjyY3qOK0g4KRnw7nkx8ZwXmmdJ9jDoBWgas5E9liTulJO1QTcmdQ9K3ybWhi5BpX POXAS3oHhz9S34QJBeds2HdJRjLO1HNYCPVygNSur7OXCOYCZe8LklzeL38YlmjeyVPv 1ZP6goTtZvpRP1Bq6G0BaxiZrj7DTX49d3vck= X-Google-DKIM-Signature: v=1; a=rsa-sha256; c=relaxed/relaxed; d=1e100.net; s=20230601; t=1758911349; x=1759516149; h=references:in-reply-to:cc:to:from:subject:message-id:date :x-gm-message-state:from:to:cc:subject:date:message-id:reply-to; bh=LWTQOM9y6BqEPXHrK9vNOxBdUVbgysFPP8oAbCRWZtM=; b=Cp6N79CbMaU/26aP5gr6+Y9P6/fsB+X0RGJzmbuwjArrKLabyn1Hm0SVG+/q7ikzBg iptMQcdXIzKRL9rYxaFH8+xvaGna99jWO3iHt/D4yTLZFbSHwAwPwqPwK+6rgfZx9DXS OtwYitRZrJL5r1t1cAFo/WxmpmuZel1lBeQFOs4B3Ii04+xozZrhxR/9Rsqb3yqx/jwS 0CpcU/Pj0hmYLQs2chLUCqXageupHOvm/Zq27Ez2lc05D8dwT3vfq122f/Vgl5DLAG6l rjKoTg66XRBgbshLthVOJSk09lai5hgYDzPZHJ28eb2OAsc47bFIjvrAbdpWHzKPyU7h wLvw== X-Gm-Message-State: AOJu0YxRUJr964ZPUU+ArNMZrbl9wTKcLIhYlEuaBE3EyuP4FqExjBcg ALwcUfp5YTQS/QdG5wmf4aiCmgukXEATqFMFUxgd9us/4m9zDiqvDzU9FBtnXHBIN85f1YWb+17 8YjJRCAoZBteLUELR1cPvdU73AhC+OuiE8EdkXnyBL31qU5wZJW3g1xP47pd4 X-Gm-Gg: ASbGncu//gcb68/o07TsmBmlmk+H4LYKcGUMTw55M4MLwGrLHPdl/wJr2fiVCni19kR OPDTR0Tm+oyTM0vDij0Pq8+vnlv1js3KT1hR8VIaoglBZ2C12XuEtPZuSjjX8N1sqDBe1NzounD dY4tTE3k88ysr3QhDGZnbJq5SyM6SnZmW+JuiK7s3Z4fDpcKZ+buk9iX08apoXodJ/Koep8z3wl Ln+tyRmtb4jDDEfoPHUk9zLmozRRaO2SxKCXJE+qvMGE1EOhMcDpmWqCPihRmJeM8zhHZaZDop0 y/eDIyUljTlnGW6CTXuf4CF3/yvUkO67IUJACMxEVL9/cDZ+/w== X-Google-Smtp-Source: AGHT+IFFkfniRTdYYqneIaS05G1ZZGijWNAtqjB2gq3fi2sQvlWiaTJCag7ffRS2ofFHnSphw0mYBOgcIBhE X-Received: by 2002:a05:6e02:1c29:b0:426:2f95:31a5 with SMTP id e9e14a558f8ab-4262f953bf1mr114496675ab.29.1758911348007; Fri, 26 Sep 2025 11:29:08 -0700 (PDT) Received: from postal.iol.unh.edu (postal.iol.unh.edu. [2606:4100:3880:1234::84]) by smtp-relay.gmail.com with ESMTPS id 8926c6da1cb9f-56a6b152af0sm287720173.46.2025.09.26.11.29.07 (version=TLS1_2 cipher=ECDHE-ECDSA-AES128-GCM-SHA256 bits=128/128); Fri, 26 Sep 2025 11:29:07 -0700 (PDT) X-Relaying-Domain: iol.unh.edu Date: Fri, 26 Sep 2025 11:29:08 -0700 (PDT) Message-ID: <68d6db73.050a0220.271fae.080bSMTPIN_ADDED_MISSING@mx.google.com> Received: from [172.21.0.3] (unknown [172.18.0.240]) by postal.iol.unh.edu (Postfix) with ESMTP id 8F4F86050A61; Fri, 26 Sep 2025 14:29:07 -0400 (EDT) Subject: |SUCCESS| pw157004-157005 [PATCH] [v2,2/2] crypto/ipsec-mb: use cons From: dpdklab@iol.unh.edu To: Test Report Cc: dpdk-test-reports@iol.unh.edu In-Reply-To: <20250926154905.54416-2-kai.ji@intel.com> References: <20250926154905.54416-2-kai.ji@intel.com> Content-Type: text/plain X-BeenThere: test-report@dpdk.org X-Mailman-Version: 2.1.29 Precedence: list List-Id: automatic DPDK test reports List-Unsubscribe: , List-Archive: List-Post: List-Help: List-Subscribe: , Errors-To: test-report-bounces@dpdk.org Test-Label: iol-compile-amd64-testing Test-Status: SUCCESS http://dpdk.org/patch/157005 _Testing PASS_ Submitter: Kai Ji Date: Friday, September 26 2025 15:49:05 DPDK git baseline: Repo:dpdk Branch: master CommitID:1d627ea13aeec2bcccf27246e6be2508370d171e 157004-157005 --> testing pass Upstream job id: Generic-DPDK-Compile-Meson#429041 Test environment and result as below: +-------------------------------+--------------------+------------------+-------------------+-------------------------+-------------------+----------------------+ | Environment | dpdk_meson_compile | dpdk_compile_ovs | dpdk_compile_spdk | dpdk_llvm_clang_compile | dpdk_msvc_compile | dpdk_mingw64_compile | +===============================+====================+==================+===================+=========================+===================+======================+ | CentOS Stream 10 | PASS | SKIPPED | SKIPPED | SKIPPED | SKIPPED | SKIPPED | +-------------------------------+--------------------+------------------+-------------------+-------------------------+-------------------+----------------------+ | Fedora Linux 42 | PASS | PASS | PASS | SKIPPED | SKIPPED | SKIPPED | +-------------------------------+--------------------+------------------+-------------------+-------------------------+-------------------+----------------------+ | Debian GNU/Linux 12 | PASS | SKIPPED | PASS | SKIPPED | SKIPPED | SKIPPED | +-------------------------------+--------------------+------------------+-------------------+-------------------------+-------------------+----------------------+ | CentOS Stream 9 | PASS | SKIPPED | PASS | SKIPPED | SKIPPED | SKIPPED | +-------------------------------+--------------------+------------------+-------------------+-------------------------+-------------------+----------------------+ | Ubuntu 24.04 | PASS | PASS | PASS | SKIPPED | SKIPPED | SKIPPED | +-------------------------------+--------------------+------------------+-------------------+-------------------------+-------------------+----------------------+ | FreeBSD 14.2 | PASS | SKIPPED | SKIPPED | SKIPPED | SKIPPED | SKIPPED | +-------------------------------+--------------------+------------------+-------------------+-------------------------+-------------------+----------------------+ | Ubuntu 20.04 | PASS | SKIPPED | SKIPPED | SKIPPED | SKIPPED | SKIPPED | +-------------------------------+--------------------+------------------+-------------------+-------------------------+-------------------+----------------------+ | openSUSE Leap 15.6 | PASS | SKIPPED | SKIPPED | SKIPPED | SKIPPED | SKIPPED | +-------------------------------+--------------------+------------------+-------------------+-------------------------+-------------------+----------------------+ | Red Hat Enterprise Linux 8.10 | PASS | SKIPPED | SKIPPED | SKIPPED | SKIPPED | SKIPPED | +-------------------------------+--------------------+------------------+-------------------+-------------------------+-------------------+----------------------+ | Red Hat Enterprise Linux 9.5 | PASS | SKIPPED | SKIPPED | SKIPPED | SKIPPED | SKIPPED | +-------------------------------+--------------------+------------------+-------------------+-------------------------+-------------------+----------------------+ | Ubuntu 22.04 | PASS | SKIPPED | PASS | SKIPPED | SKIPPED | SKIPPED | +-------------------------------+--------------------+------------------+-------------------+-------------------------+-------------------+----------------------+ | Alpine Linux 3.22.0 | PASS | SKIPPED | SKIPPED | SKIPPED | SKIPPED | SKIPPED | +-------------------------------+--------------------+------------------+-------------------+-------------------------+-------------------+----------------------+ | Windows Server 2022 | SKIPPED | SKIPPED | SKIPPED | PASS | PASS | PASS | +-------------------------------+--------------------+------------------+-------------------+-------------------------+-------------------+----------------------+ CentOS Stream 10 Kernel: 5.15 Compiler: gcc gcc (GCC) 14.2.1 20250110 (Red Hat 14.2.1-8) Fedora Linux 42 Kernel: 5.15 Compiler: gcc gcc (GCC) 15.2.1 20250808 (Red Hat 15.2.1-1) Debian GNU/Linux 12 Kernel: 5.15 Compiler: gcc gcc (Debian 12.2.0-14+deb12u1) 12.2.0 CentOS Stream 9 Kernel: 5.15 Compiler: gcc gcc (GCC) 11.5.0 20240719 (Red Hat 11.5.0-11) Ubuntu 24.04 Kernel: 5.15 Compiler: gcc gcc (Ubuntu 13.3.0-6ubuntu2~24.04) 13.3.0 FreeBSD 14.2 Kernel: 14.2-RELEASE Compiler: clang 18.1.6 Ubuntu 20.04 Kernel: 5.15 Compiler: gcc gcc (Ubuntu 9.4.0-1ubuntu1~20.04.2) 9.4.0 openSUSE Leap 15.6 Kernel: 5.15 Compiler: gcc gcc (SUSE Linux) 7.5.0 Red Hat Enterprise Linux 8.10 Kernel: 5.15 Compiler: gcc gcc (GCC) 8.5.0 20210514 (Red Hat 8.5.0-22) Red Hat Enterprise Linux 9.5 Kernel: 5.15 Compiler: gcc gcc (GCC) 11.5.0 20240719 (Red Hat 11.5.0-2) Ubuntu 22.04 Kernel: 5.15 Compiler: gcc gcc (Ubuntu 11.4.0-1ubuntu1~22.04) 11.4.0 Alpine Linux 3.22.0 Kernel: 5.15 Compiler: gcc gcc (Alpine 14.2.0) 14.2.0 Windows Server 2022 Kernel: 10.0.20348.2031 Compiler: clang 15.0.7, gcc 14.1.0 (MinGW), and MSVC VS 19.39.33521 To view detailed results, visit: https://lab.dpdk.org/results/dashboard/patchsets/34159/ UNH-IOL DPDK Community Lab To manage your email subscriptions, visit: https://lab.dpdk.org/results/dashboard/preferences/subscriptions/