automatic DPDK test reports
 help / color / mirror / Atom feed
From: dpdklab@iol.unh.edu
To: Test Report <test-report@dpdk.org>
Cc: dpdk-test-reports@iol.unh.edu
Subject: |SUCCESS| pw157004-157005 [PATCH] [v2,2/2] crypto/ipsec-mb: use cons
Date: Fri, 26 Sep 2025 11:29:18 -0700 (PDT)	[thread overview]
Message-ID: <68d6db7e.050a0220.1b97f2.5e9aSMTPIN_ADDED_MISSING@mx.google.com> (raw)
In-Reply-To: <20250926154905.54416-2-kai.ji@intel.com>

Test-Label: iol-compile-amd64-testing
Test-Status: SUCCESS
http://dpdk.org/patch/157005

_Testing PASS_

Submitter: Kai Ji <kai.ji@intel.com>
Date: Friday, September 26 2025 15:49:05 
DPDK git baseline: Repo:dpdk
  Branch: master
  CommitID:1d627ea13aeec2bcccf27246e6be2508370d171e

157004-157005 --> testing pass

Upstream job id: Generic-DPDK-Compile-Meson#429042

Test environment and result as below:

+-------------------------------+--------------------+------------------+-------------------+-------------------------+-------------------+----------------------+
|          Environment          | dpdk_meson_compile | dpdk_compile_ovs | dpdk_compile_spdk | dpdk_llvm_clang_compile | dpdk_msvc_compile | dpdk_mingw64_compile |
+===============================+====================+==================+===================+=========================+===================+======================+
| CentOS Stream 10              | PASS               | SKIPPED          | SKIPPED           | SKIPPED                 | SKIPPED           | SKIPPED              |
+-------------------------------+--------------------+------------------+-------------------+-------------------------+-------------------+----------------------+
| Fedora Linux 42               | PASS               | PASS             | PASS              | SKIPPED                 | SKIPPED           | SKIPPED              |
+-------------------------------+--------------------+------------------+-------------------+-------------------------+-------------------+----------------------+
| Debian GNU/Linux 12           | PASS               | SKIPPED          | PASS              | SKIPPED                 | SKIPPED           | SKIPPED              |
+-------------------------------+--------------------+------------------+-------------------+-------------------------+-------------------+----------------------+
| CentOS Stream 9               | PASS               | SKIPPED          | PASS              | SKIPPED                 | SKIPPED           | SKIPPED              |
+-------------------------------+--------------------+------------------+-------------------+-------------------------+-------------------+----------------------+
| Ubuntu 24.04                  | PASS               | PASS             | PASS              | SKIPPED                 | SKIPPED           | SKIPPED              |
+-------------------------------+--------------------+------------------+-------------------+-------------------------+-------------------+----------------------+
| FreeBSD 14.2                  | PASS               | SKIPPED          | SKIPPED           | SKIPPED                 | SKIPPED           | SKIPPED              |
+-------------------------------+--------------------+------------------+-------------------+-------------------------+-------------------+----------------------+
| Ubuntu 20.04                  | PASS               | SKIPPED          | SKIPPED           | SKIPPED                 | SKIPPED           | SKIPPED              |
+-------------------------------+--------------------+------------------+-------------------+-------------------------+-------------------+----------------------+
| openSUSE Leap 15.6            | PASS               | SKIPPED          | SKIPPED           | SKIPPED                 | SKIPPED           | SKIPPED              |
+-------------------------------+--------------------+------------------+-------------------+-------------------------+-------------------+----------------------+
| Red Hat Enterprise Linux 8.10 | PASS               | SKIPPED          | SKIPPED           | SKIPPED                 | SKIPPED           | SKIPPED              |
+-------------------------------+--------------------+------------------+-------------------+-------------------------+-------------------+----------------------+
| Red Hat Enterprise Linux 9.5  | PASS               | SKIPPED          | SKIPPED           | SKIPPED                 | SKIPPED           | SKIPPED              |
+-------------------------------+--------------------+------------------+-------------------+-------------------------+-------------------+----------------------+
| Ubuntu 22.04                  | PASS               | SKIPPED          | PASS              | SKIPPED                 | SKIPPED           | SKIPPED              |
+-------------------------------+--------------------+------------------+-------------------+-------------------------+-------------------+----------------------+
| Alpine Linux 3.22.0           | PASS               | SKIPPED          | SKIPPED           | SKIPPED                 | SKIPPED           | SKIPPED              |
+-------------------------------+--------------------+------------------+-------------------+-------------------------+-------------------+----------------------+
| Windows Server 2022           | SKIPPED            | SKIPPED          | SKIPPED           | PASS                    | PASS              | PASS                 |
+-------------------------------+--------------------+------------------+-------------------+-------------------------+-------------------+----------------------+


CentOS Stream 10
	Kernel: 5.15
	Compiler: gcc gcc (GCC) 14.2.1 20250110 (Red Hat 14.2.1-8)

Fedora Linux 42
	Kernel: 5.15
	Compiler: gcc gcc (GCC) 15.2.1 20250808 (Red Hat 15.2.1-1)

Debian GNU/Linux 12
	Kernel: 5.15
	Compiler: gcc gcc (Debian 12.2.0-14+deb12u1) 12.2.0

CentOS Stream 9
	Kernel: 5.15
	Compiler: gcc gcc (GCC) 11.5.0 20240719 (Red Hat 11.5.0-11)

Ubuntu 24.04
	Kernel: 5.15
	Compiler: gcc gcc (Ubuntu 13.3.0-6ubuntu2~24.04) 13.3.0

FreeBSD 14.2
	Kernel: 14.2-RELEASE
	Compiler: clang 18.1.6

Ubuntu 20.04
	Kernel: 5.15
	Compiler: gcc gcc (Ubuntu 9.4.0-1ubuntu1~20.04.2) 9.4.0

openSUSE Leap 15.6
	Kernel: 5.15
	Compiler: gcc gcc (SUSE Linux) 7.5.0

Red Hat Enterprise Linux 8.10
	Kernel: 5.15
	Compiler: gcc gcc (GCC) 8.5.0 20210514 (Red Hat 8.5.0-22)

Red Hat Enterprise Linux 9.5
	Kernel: 5.15
	Compiler: gcc gcc (GCC) 11.5.0 20240719 (Red Hat 11.5.0-2)

Ubuntu 22.04
	Kernel: 5.15
	Compiler: gcc gcc (Ubuntu 11.4.0-1ubuntu1~22.04) 11.4.0

Alpine Linux 3.22.0
	Kernel: 5.15
	Compiler: gcc gcc (Alpine 14.2.0) 14.2.0

Windows Server 2022
	Kernel: 10.0.20348.2031
	Compiler: clang 15.0.7, gcc 14.1.0 (MinGW), and MSVC VS 19.39.33521

To view detailed results, visit:
https://lab.dpdk.org/results/dashboard/patchsets/34159/

UNH-IOL DPDK Community Lab

To manage your email subscriptions, visit: 
https://lab.dpdk.org/results/dashboard/preferences/subscriptions/

  parent reply	other threads:[~2025-09-26 18:29 UTC|newest]

Thread overview: 20+ messages / expand[flat|nested]  mbox.gz  Atom feed  top
     [not found] <20250926154905.54416-2-kai.ji@intel.com>
2025-09-26 15:19 ` |SUCCESS| pw157004-157005 [dpdk-dev v2 2/2] crypto/ipsec-mb: use constant-time memory comparison qemudev
2025-09-26 15:24 ` qemudev
2025-09-26 15:48 ` |WARNING| pw157005 " checkpatch
2025-09-26 16:14 ` |SUCCESS| pw157004-157005 [PATCH] [v2,2/2] crypto/ipsec-mb: use cons dpdklab
2025-09-26 16:18 ` dpdklab
2025-09-26 16:25 ` |PENDING| " dpdklab
2025-09-26 16:30 ` dpdklab
2025-09-26 16:35 ` |SUCCESS| " dpdklab
2025-09-26 16:50 ` |PENDING| " dpdklab
2025-09-26 18:04 ` |SUCCESS| " dpdklab
2025-09-26 18:26 ` dpdklab
2025-09-26 18:26 ` |PENDING| " dpdklab
2025-09-26 18:28 ` |SUCCESS| " dpdklab
2025-09-26 18:29 ` dpdklab
2025-09-26 18:29 ` dpdklab [this message]
2025-09-26 18:34 ` dpdklab
2025-09-26 19:54 ` dpdklab
2025-09-26 20:11 ` dpdklab
2025-09-27  0:11 ` dpdklab
2025-09-27  9:10 ` dpdklab

Reply instructions:

You may reply publicly to this message via plain-text email
using any one of the following methods:

* Save the following mbox file, import it into your mail client,
  and reply-to-all from there: mbox

  Avoid top-posting and favor interleaved quoting:
  https://en.wikipedia.org/wiki/Posting_style#Interleaved_style

* Reply using the --to, --cc, and --in-reply-to
  switches of git-send-email(1):

  git send-email \
    --in-reply-to=68d6db7e.050a0220.1b97f2.5e9aSMTPIN_ADDED_MISSING@mx.google.com \
    --to=dpdklab@iol.unh.edu \
    --cc=dpdk-test-reports@iol.unh.edu \
    --cc=test-report@dpdk.org \
    /path/to/YOUR_REPLY

  https://kernel.org/pub/software/scm/git/docs/git-send-email.html

* If your mail client supports setting the In-Reply-To header
  via mailto: links, try the mailto: link
Be sure your reply has a Subject: header at the top and a blank line before the message body.
This is a public inbox, see mirroring instructions
for how to clone and mirror all data and code used for this inbox;
as well as URLs for NNTP newsgroup(s).