From mboxrd@z Thu Jan 1 00:00:00 1970 Return-Path: Received: from mails.dpdk.org (mails.dpdk.org [217.70.189.124]) by inbox.dpdk.org (Postfix) with ESMTP id 2A83F46F8C for ; Fri, 26 Sep 2025 20:29:22 +0200 (CEST) Received: from mails.dpdk.org (localhost [127.0.0.1]) by mails.dpdk.org (Postfix) with ESMTP id 2621A40262; Fri, 26 Sep 2025 20:29:22 +0200 (CEST) Received: from mail-il1-f226.google.com (mail-il1-f226.google.com [209.85.166.226]) by mails.dpdk.org (Postfix) with ESMTP id 0528740262 for ; Fri, 26 Sep 2025 20:29:21 +0200 (CEST) Received: by mail-il1-f226.google.com with SMTP id e9e14a558f8ab-425715aeccdso12765715ab.2 for ; Fri, 26 Sep 2025 11:29:20 -0700 (PDT) DKIM-Signature: v=1; a=rsa-sha256; c=relaxed/relaxed; d=iol.unh.edu; s=unh-iol; t=1758911360; x=1759516160; darn=dpdk.org; h=references:in-reply-to:cc:to:from:subject:message-id:date:from:to :cc:subject:date:message-id:reply-to; bh=cA+aMsutBePWZ4wq4N9Q/Ht/kDo8S6fWRNoVNEo93eY=; b=Nh/Rh67xtDSCU5gXrP2Cz1kVBkr6ADfqUGD3qeM+WbR77wnPwJ/jb/7sQrUYzyU9q9 fwToxxyLahN6KUxdMAaozy1UsPD3ygtX+rOgDwUTm0KAWQ5xXVD8Chb9nVpELWT/FUJt umIT7VdWs3j7HsNuwbfoUYzptDoDivofe+DYQ= X-Google-DKIM-Signature: v=1; a=rsa-sha256; c=relaxed/relaxed; d=1e100.net; s=20230601; t=1758911360; x=1759516160; h=references:in-reply-to:cc:to:from:subject:message-id:date :x-gm-message-state:from:to:cc:subject:date:message-id:reply-to; bh=cA+aMsutBePWZ4wq4N9Q/Ht/kDo8S6fWRNoVNEo93eY=; b=tYVTRb3dRvnGMbrGDZ2HkeLAlEb29GPmnpOSSEHMk9mWUgNALATrsOh75elvyGDpnt cscMnkNl7aFanTpoUTgOOiQZ7GykhhHHCaV1RfjwNqFhkcRI8m/2rexbrdqMThU4dhws M8lSyH2yd1QXJyXxF3BXYtfU66e8XVBUElSQv0lDU9vPeW8U47mh9ATaKlIl8kBKe0NG AHql/AWg0GqgQXYd9tVUCsiqgoVWNcqSZtR3zOAugzljtZCFBCjj9T/JYtCnyI+cVb1M rpuIQ2aWtf2yo9LwzPrqzGT2ZtWgmT8cHTU4kJmLSiGJo/jhi/cs3Aj9uk2dMw4PLVWC 2ykQ== X-Gm-Message-State: AOJu0YyRXZhF4T8i0p3lLpN/qyMaqf5/V7pARf7KOUHCtNnDAf/pKmpw Pgs/wJU0WUyGQJ9M4IU38FvTkABVvsdnD87ZAwTtYjUui+9m1adF2vDTPNiLiGj+L0i/W4WQVNn pK//pY3bsjq38KtbAcJr0h3eSYDsL/wrFkSLjuEprthSRfx6QyaZchYhAJbUy X-Gm-Gg: ASbGncvsf1Fq1C11cth9POT0qev+G5dq3K8pLoIRS0PWBPmX55pOEAiDXEErIgmwnTG x52GwB+Y/FDPJGsAa0uoMRz/hVbnjONOegKUDrU4hy6+79IwsMn0B7uGnFoP2ClFwV/Jrjr8Fzj 4T9NZ80Al7WJ0E0VzmMinTwYef2faODmSGR2fE0JbLoyo8cteq4LPwNOMedObTfFmItBGrQrfFU hvqI7a02t8Cxf1TnZxeSmaZptlypGRqHOGCcHdZgZT1AApeE8NkLzZSk+gMV8X+t7yuz4A/KI1y 9PFhD2H/f2tBkPAMMSJj/EnYyqWv6kf+2baQ5KDLAQSsWqnTkw== X-Google-Smtp-Source: AGHT+IFB8pmLS1/6eeMjtu4p63J6mxC/9xahoRZG175uSDwsmmo0fDkhVVqqa8ZvSr/bo0CRhbFfuWQlXXXN X-Received: by 2002:a05:6e02:1fc8:b0:428:76ec:b2ab with SMTP id e9e14a558f8ab-42876ecb3d5mr8489215ab.6.1758911358446; Fri, 26 Sep 2025 11:29:18 -0700 (PDT) Received: from postal.iol.unh.edu (postal.iol.unh.edu. [2606:4100:3880:1234::84]) by smtp-relay.gmail.com with ESMTPS id e9e14a558f8ab-425bc68f3a8sm3812765ab.19.2025.09.26.11.29.18 (version=TLS1_2 cipher=ECDHE-ECDSA-AES128-GCM-SHA256 bits=128/128); Fri, 26 Sep 2025 11:29:18 -0700 (PDT) X-Relaying-Domain: iol.unh.edu Date: Fri, 26 Sep 2025 11:29:18 -0700 (PDT) Message-ID: <68d6db7e.050a0220.1b97f2.5e9aSMTPIN_ADDED_MISSING@mx.google.com> Received: from [172.21.0.6] (unknown [172.18.0.240]) by postal.iol.unh.edu (Postfix) with ESMTP id 06CF06050A61; Fri, 26 Sep 2025 14:29:18 -0400 (EDT) Subject: |SUCCESS| pw157004-157005 [PATCH] [v2,2/2] crypto/ipsec-mb: use cons From: dpdklab@iol.unh.edu To: Test Report Cc: dpdk-test-reports@iol.unh.edu In-Reply-To: <20250926154905.54416-2-kai.ji@intel.com> References: <20250926154905.54416-2-kai.ji@intel.com> Content-Type: text/plain X-BeenThere: test-report@dpdk.org X-Mailman-Version: 2.1.29 Precedence: list List-Id: automatic DPDK test reports List-Unsubscribe: , List-Archive: List-Post: List-Help: List-Subscribe: , Errors-To: test-report-bounces@dpdk.org Test-Label: iol-compile-amd64-testing Test-Status: SUCCESS http://dpdk.org/patch/157005 _Testing PASS_ Submitter: Kai Ji Date: Friday, September 26 2025 15:49:05 DPDK git baseline: Repo:dpdk Branch: master CommitID:1d627ea13aeec2bcccf27246e6be2508370d171e 157004-157005 --> testing pass Upstream job id: Generic-DPDK-Compile-Meson#429042 Test environment and result as below: +-------------------------------+--------------------+------------------+-------------------+-------------------------+-------------------+----------------------+ | Environment | dpdk_meson_compile | dpdk_compile_ovs | dpdk_compile_spdk | dpdk_llvm_clang_compile | dpdk_msvc_compile | dpdk_mingw64_compile | +===============================+====================+==================+===================+=========================+===================+======================+ | CentOS Stream 10 | PASS | SKIPPED | SKIPPED | SKIPPED | SKIPPED | SKIPPED | +-------------------------------+--------------------+------------------+-------------------+-------------------------+-------------------+----------------------+ | Fedora Linux 42 | PASS | PASS | PASS | SKIPPED | SKIPPED | SKIPPED | +-------------------------------+--------------------+------------------+-------------------+-------------------------+-------------------+----------------------+ | Debian GNU/Linux 12 | PASS | SKIPPED | PASS | SKIPPED | SKIPPED | SKIPPED | +-------------------------------+--------------------+------------------+-------------------+-------------------------+-------------------+----------------------+ | CentOS Stream 9 | PASS | SKIPPED | PASS | SKIPPED | SKIPPED | SKIPPED | +-------------------------------+--------------------+------------------+-------------------+-------------------------+-------------------+----------------------+ | Ubuntu 24.04 | PASS | PASS | PASS | SKIPPED | SKIPPED | SKIPPED | +-------------------------------+--------------------+------------------+-------------------+-------------------------+-------------------+----------------------+ | FreeBSD 14.2 | PASS | SKIPPED | SKIPPED | SKIPPED | SKIPPED | SKIPPED | +-------------------------------+--------------------+------------------+-------------------+-------------------------+-------------------+----------------------+ | Ubuntu 20.04 | PASS | SKIPPED | SKIPPED | SKIPPED | SKIPPED | SKIPPED | +-------------------------------+--------------------+------------------+-------------------+-------------------------+-------------------+----------------------+ | openSUSE Leap 15.6 | PASS | SKIPPED | SKIPPED | SKIPPED | SKIPPED | SKIPPED | +-------------------------------+--------------------+------------------+-------------------+-------------------------+-------------------+----------------------+ | Red Hat Enterprise Linux 8.10 | PASS | SKIPPED | SKIPPED | SKIPPED | SKIPPED | SKIPPED | +-------------------------------+--------------------+------------------+-------------------+-------------------------+-------------------+----------------------+ | Red Hat Enterprise Linux 9.5 | PASS | SKIPPED | SKIPPED | SKIPPED | SKIPPED | SKIPPED | +-------------------------------+--------------------+------------------+-------------------+-------------------------+-------------------+----------------------+ | Ubuntu 22.04 | PASS | SKIPPED | PASS | SKIPPED | SKIPPED | SKIPPED | +-------------------------------+--------------------+------------------+-------------------+-------------------------+-------------------+----------------------+ | Alpine Linux 3.22.0 | PASS | SKIPPED | SKIPPED | SKIPPED | SKIPPED | SKIPPED | +-------------------------------+--------------------+------------------+-------------------+-------------------------+-------------------+----------------------+ | Windows Server 2022 | SKIPPED | SKIPPED | SKIPPED | PASS | PASS | PASS | +-------------------------------+--------------------+------------------+-------------------+-------------------------+-------------------+----------------------+ CentOS Stream 10 Kernel: 5.15 Compiler: gcc gcc (GCC) 14.2.1 20250110 (Red Hat 14.2.1-8) Fedora Linux 42 Kernel: 5.15 Compiler: gcc gcc (GCC) 15.2.1 20250808 (Red Hat 15.2.1-1) Debian GNU/Linux 12 Kernel: 5.15 Compiler: gcc gcc (Debian 12.2.0-14+deb12u1) 12.2.0 CentOS Stream 9 Kernel: 5.15 Compiler: gcc gcc (GCC) 11.5.0 20240719 (Red Hat 11.5.0-11) Ubuntu 24.04 Kernel: 5.15 Compiler: gcc gcc (Ubuntu 13.3.0-6ubuntu2~24.04) 13.3.0 FreeBSD 14.2 Kernel: 14.2-RELEASE Compiler: clang 18.1.6 Ubuntu 20.04 Kernel: 5.15 Compiler: gcc gcc (Ubuntu 9.4.0-1ubuntu1~20.04.2) 9.4.0 openSUSE Leap 15.6 Kernel: 5.15 Compiler: gcc gcc (SUSE Linux) 7.5.0 Red Hat Enterprise Linux 8.10 Kernel: 5.15 Compiler: gcc gcc (GCC) 8.5.0 20210514 (Red Hat 8.5.0-22) Red Hat Enterprise Linux 9.5 Kernel: 5.15 Compiler: gcc gcc (GCC) 11.5.0 20240719 (Red Hat 11.5.0-2) Ubuntu 22.04 Kernel: 5.15 Compiler: gcc gcc (Ubuntu 11.4.0-1ubuntu1~22.04) 11.4.0 Alpine Linux 3.22.0 Kernel: 5.15 Compiler: gcc gcc (Alpine 14.2.0) 14.2.0 Windows Server 2022 Kernel: 10.0.20348.2031 Compiler: clang 15.0.7, gcc 14.1.0 (MinGW), and MSVC VS 19.39.33521 To view detailed results, visit: https://lab.dpdk.org/results/dashboard/patchsets/34159/ UNH-IOL DPDK Community Lab To manage your email subscriptions, visit: https://lab.dpdk.org/results/dashboard/preferences/subscriptions/