From mboxrd@z Thu Jan 1 00:00:00 1970 Return-Path: Received: from mails.dpdk.org (mails.dpdk.org [217.70.189.124]) by inbox.dpdk.org (Postfix) with ESMTP id EAAC746F8C for ; Fri, 26 Sep 2025 21:31:12 +0200 (CEST) Received: from mails.dpdk.org (localhost [127.0.0.1]) by mails.dpdk.org (Postfix) with ESMTP id CCD6940277; Fri, 26 Sep 2025 21:31:12 +0200 (CEST) Received: from mail-pf1-f226.google.com (mail-pf1-f226.google.com [209.85.210.226]) by mails.dpdk.org (Postfix) with ESMTP id 4B9E940277 for ; Fri, 26 Sep 2025 21:31:11 +0200 (CEST) Received: by mail-pf1-f226.google.com with SMTP id d2e1a72fcca58-77f343231fcso1668553b3a.3 for ; Fri, 26 Sep 2025 12:31:11 -0700 (PDT) DKIM-Signature: v=1; a=rsa-sha256; c=relaxed/relaxed; d=iol.unh.edu; s=unh-iol; t=1758915070; x=1759519870; darn=dpdk.org; h=references:in-reply-to:cc:to:from:subject:message-id:date:from:to :cc:subject:date:message-id:reply-to; bh=S4CH9/V3Pw/c9/fUpfVnq6+NXAYmnoLCJawXT3FiaFc=; b=dwFMHQKDPngSN/NvfKYdX+5VAJfpFTiYDjQODy6yW15qgcM/7VjGBxuaz+/Ba182Z4 CjYg0zvnom13E/nn5/6Cfe8JhjZvgq60JPwcPfj+PlXZJcIXoIuWLdsVya5V3FllLine uaODYJAvMTt50Gk3XxVfLEHTN/zsxJznXQNek= X-Google-DKIM-Signature: v=1; a=rsa-sha256; c=relaxed/relaxed; d=1e100.net; s=20230601; t=1758915070; x=1759519870; h=references:in-reply-to:cc:to:from:subject:message-id:date :x-gm-message-state:from:to:cc:subject:date:message-id:reply-to; bh=S4CH9/V3Pw/c9/fUpfVnq6+NXAYmnoLCJawXT3FiaFc=; b=TtV5W5dk/bh28+dHwfG+rO/2hIboPaahU9I9wWjzrNzMr95Rgpaz6eEVxwkscupi86 iQGcLJHeQLOW5Nv1RLcfldVJKaEKX8n5zcPjN8oQXbqOpH6pQ3XNi7hJ6JVIigsVPUN1 PEDxLPwSJ+z7BvkmrZn1oLj9uEvg9PjokIO35BTLDgg6fzqoZ6HojG320ox7SE797KoQ OL2JYzXVBOapJBqcca0gqu/9QWysz7rwbzYkHXlUlfYLIBrU7QAsCw/uiprBjEHaWUr+ /S7HjuFm5ohxvT7bnniIW28SovmshvZDbRf5hZhtkKLitrbibUIEDI/bPdaQToUVfTfT cItg== X-Gm-Message-State: AOJu0YyojzDbfQ4VRYptj6/PH7Fch5iZaeA3ZlxGSHkzFWhpnMwcEhgg Hobbl6arxGN+v+yUfSVl1C5zSwLvTO0RRKudY005pPQGQPPzGhedi7Qeh2GbfDAJGap8nHBs0VF l0OGYM0rczBZOIyQoGR9Zids0QLriS4r1MsVA8gg672uB X-Gm-Gg: ASbGnctTpofh4YT7BcdUsYXePByHiQJTdu/uvKNOwflb/7ppev8vuhMh07rkwJXOE4q 3NP4l0h3r4cx5BlFSO0cNEKqCLfWEnOdWsrO0rd7IdFSRskkMk8oQmHLcWB/WnO6OyhPfZHuKJZ T1o/ZPQtHlFvZeuGBsavrNSLBxkNG/o+7u7ajMJ3zexmJhfnMTCB4gaO6PEphu9wRpUqz/4C6zl 7eRcS41pMFDpURBgUEfrplUhrjaA5PwJYBeX9jaxrzwav+z7Kv0lU991ulVK3z3RuoI4WX0UdUT HErkmiRq/XwqlvvOCEtoLZG3mHYBRymwDDAHTUbssh4U5EwUmxMzuQm4PWG7hSP0sm8rxX4D X-Google-Smtp-Source: AGHT+IHVF0lFQ8yYhUwwgkqVDAPOSWcMN+RDNYBrQCItHw1OzJr8EbzhCcpKL7QwMIx/ckEn5VKXbKsthP7Z X-Received: by 2002:a05:6a20:76a5:b0:2d6:9a15:137a with SMTP id adf61e73a8af0-2e7d474b870mr6985153637.53.1758915070416; Fri, 26 Sep 2025 12:31:10 -0700 (PDT) Received: from postal.iol.unh.edu (postal.iol.unh.edu. [132.177.123.84]) by smtp-relay.gmail.com with ESMTPS id d2e1a72fcca58-78102b318d3sm346163b3a.13.2025.09.26.12.31.10 (version=TLS1_2 cipher=ECDHE-ECDSA-AES128-GCM-SHA256 bits=128/128); Fri, 26 Sep 2025 12:31:10 -0700 (PDT) X-Relaying-Domain: iol.unh.edu Date: Fri, 26 Sep 2025 12:31:10 -0700 (PDT) Message-ID: <68d6e9fe.050a0220.192cdd.3fc6SMTPIN_ADDED_MISSING@mx.google.com> Received: from [172.21.0.2] (unknown [172.18.0.240]) by postal.iol.unh.edu (Postfix) with ESMTP id A936D604D420; Fri, 26 Sep 2025 15:31:09 -0400 (EDT) Subject: |SUCCESS| pw157008-157009 [PATCH] [v3,2/2] crypto/ipsec-mb: use cons From: dpdklab@iol.unh.edu To: Test Report Cc: dpdk-test-reports@iol.unh.edu In-Reply-To: <20250926160209.56496-2-kai.ji@intel.com> References: <20250926160209.56496-2-kai.ji@intel.com> Content-Type: text/plain X-BeenThere: test-report@dpdk.org X-Mailman-Version: 2.1.29 Precedence: list List-Id: automatic DPDK test reports List-Unsubscribe: , List-Archive: List-Post: List-Help: List-Subscribe: , Errors-To: test-report-bounces@dpdk.org Test-Label: iol-unit-amd64-testing Test-Status: SUCCESS http://dpdk.org/patch/157009 _Testing PASS_ Submitter: Kai Ji Date: Friday, September 26 2025 16:02:09 DPDK git baseline: Repo:dpdk Branch: master CommitID:1d627ea13aeec2bcccf27246e6be2508370d171e 157008-157009 --> testing pass Upstream job id: Generic-Unit-Test-DPDK#375565 Test environment and result as below: +-------------------------------+----------------+ | Environment | dpdk_unit_test | +===============================+================+ | Debian GNU/Linux 12 | PASS | +-------------------------------+----------------+ | CentOS Stream 9 | PASS | +-------------------------------+----------------+ | Fedora Linux 40 | PASS | +-------------------------------+----------------+ | CentOS Stream 10 | PASS | +-------------------------------+----------------+ | Fedora Linux 41 | PASS | +-------------------------------+----------------+ | Fedora Linux 42 | PASS | +-------------------------------+----------------+ | Ubuntu 20.04 | PASS | +-------------------------------+----------------+ | Red Hat Enterprise Linux 9.5 | PASS | +-------------------------------+----------------+ | Red Hat Enterprise Linux 8.10 | PASS | +-------------------------------+----------------+ | Ubuntu 24.04 | PASS | +-------------------------------+----------------+ | Ubuntu 22.04 | PASS | +-------------------------------+----------------+ | Windows Server 2022 | PASS | +-------------------------------+----------------+ Debian GNU/Linux 12 Kernel: 5.15 Compiler: gcc gcc (Debian 12.2.0-14+deb12u1) 12.2.0 CentOS Stream 9 Kernel: 5.15 Compiler: gcc gcc (GCC) 11.5.0 20240719 (Red Hat 11.5.0-11) Fedora Linux 40 Kernel: 5.15 Compiler: gcc gcc (GCC) 14.2.1 20240912 (Red Hat 14.2.1-3) CentOS Stream 10 Kernel: 5.15 Compiler: gcc gcc (GCC) 14.2.1 20250110 (Red Hat 14.2.1-8) Fedora Linux 41 Kernel: 5.15 Compiler: gcc gcc (GCC) 14.3.1 20250523 (Red Hat 14.3.1-1) Fedora Linux 42 Kernel: 5.15 Compiler: gcc gcc (GCC) 15.2.1 20250808 (Red Hat 15.2.1-1) Ubuntu 20.04 Kernel: 5.15 Compiler: gcc gcc (Ubuntu 9.4.0-1ubuntu1~20.04.2) 9.4.0 Red Hat Enterprise Linux 9.5 Kernel: 5.15 Compiler: gcc gcc (GCC) 11.5.0 20240719 (Red Hat 11.5.0-2) Red Hat Enterprise Linux 8.10 Kernel: 5.15 Compiler: gcc gcc (GCC) 8.5.0 20210514 (Red Hat 8.5.0-22) Ubuntu 24.04 Kernel: 5.15 Compiler: gcc gcc (Ubuntu 13.3.0-6ubuntu2~24.04) 13.3.0 Ubuntu 22.04 Kernel: 5.15 Compiler: gcc gcc (Ubuntu 11.4.0-1ubuntu1~22.04) 11.4.0 Windows Server 2022 Kernel: 10.0.20348.2031 Compiler: clang 15.0.7, gcc 14.1.0 (MinGW), and MSVC VS 19.39.33521 To view detailed results, visit: https://lab.dpdk.org/results/dashboard/patchsets/34161/ UNH-IOL DPDK Community Lab To manage your email subscriptions, visit: https://lab.dpdk.org/results/dashboard/preferences/subscriptions/