automatic DPDK test reports
 help / color / mirror / Atom feed
From: dpdklab@iol.unh.edu
To: Test Report <test-report@dpdk.org>
Cc: dpdk-test-reports@iol.unh.edu,
	Stephen Hemminger <stephen@networkplumber.org>
Subject: |SUCCESS| pw157015 [PATCH] net/zxdh: avoid use of rte_memcpy
Date: Fri, 26 Sep 2025 12:36:25 -0700 (PDT)	[thread overview]
Message-ID: <68d6eb39.170a0220.28cf2f.c057SMTPIN_ADDED_MISSING@mx.google.com> (raw)
In-Reply-To: <20250926181017.470585-1-stephen@networkplumber.org>

Test-Label: iol-compile-amd64-testing
Test-Status: SUCCESS
http://dpdk.org/patch/157015

_Testing PASS_

Submitter: Stephen Hemminger <stephen@networkplumber.org>
Date: Friday, September 26 2025 18:10:17 
DPDK git baseline: Repo:dpdk-next-net
  Branch: master
  CommitID:c04bbd131b2c14b3049bf86d3ef367b34e6fdf1e

157015 --> testing pass

Upstream job id: Windows-Compile-DPDK-VS#7030

Test environment and result as below:

+---------------------+--------------------+-------------------+
|     Environment     | dpdk_meson_compile | dpdk_msvc_compile |
+=====================+====================+===================+
| Ubuntu 20.04        | PASS               | SKIPPED           |
+---------------------+--------------------+-------------------+
| FreeBSD 14.2        | PASS               | SKIPPED           |
+---------------------+--------------------+-------------------+
| Windows Server 2022 | SKIPPED            | PASS              |
+---------------------+--------------------+-------------------+


Ubuntu 20.04
	Kernel: 4.19
	Compiler: gcc gcc (Ubuntu 9.4.0-1ubuntu1~20.04.2) 9.4.0

FreeBSD 14.2
	Kernel: 14.2-RELEASE
	Compiler: clang 18.1.6

Windows Server 2022
	Kernel: 10.0.20348.2031
	Compiler: clang 15.0.7, gcc 14.1.0 (MinGW), and MSVC VS 19.39.33521

To view detailed results, visit:
https://lab.dpdk.org/results/dashboard/patchsets/34165/

UNH-IOL DPDK Community Lab

To manage your email subscriptions, visit: 
https://lab.dpdk.org/results/dashboard/preferences/subscriptions/

  parent reply	other threads:[~2025-09-26 19:36 UTC|newest]

Thread overview: 27+ messages / expand[flat|nested]  mbox.gz  Atom feed  top
     [not found] <20250926181017.470585-1-stephen@networkplumber.org>
2025-09-26 17:35 ` qemudev
2025-09-26 17:40 ` qemudev
2025-09-26 18:07 ` |WARNING| " checkpatch
2025-09-26 18:43 ` |PENDING| " dpdklab
2025-09-26 18:47 ` |SUCCESS| " dpdklab
2025-09-26 18:49 ` dpdklab
2025-09-26 18:51 ` dpdklab
2025-09-26 18:56 ` dpdklab
2025-09-26 19:21 ` dpdklab
2025-09-26 19:22 ` |PENDING| " dpdklab
2025-09-26 19:36 ` dpdklab [this message]
2025-09-26 19:46 ` dpdklab
2025-09-26 19:59 ` |SUCCESS| " dpdklab
2025-09-26 20:00 ` dpdklab
2025-09-26 20:53 ` |PENDING| " dpdklab
2025-09-26 21:12 ` |SUCCESS| " dpdklab
2025-09-26 21:39 ` dpdklab
2025-09-26 21:48 ` dpdklab
2025-09-26 21:55 ` dpdklab
2025-09-26 22:06 ` dpdklab
2025-09-26 22:07 ` dpdklab
2025-09-26 22:11 ` dpdklab
2025-09-26 22:41 ` dpdklab
2025-09-27  1:39 ` dpdklab
2025-09-27  3:32 ` 0-day Robot
2025-09-27  3:32 ` 0-day Robot
2025-09-27 11:21 ` dpdklab

Reply instructions:

You may reply publicly to this message via plain-text email
using any one of the following methods:

* Save the following mbox file, import it into your mail client,
  and reply-to-all from there: mbox

  Avoid top-posting and favor interleaved quoting:
  https://en.wikipedia.org/wiki/Posting_style#Interleaved_style

* Reply using the --to, --cc, and --in-reply-to
  switches of git-send-email(1):

  git send-email \
    --in-reply-to=68d6eb39.170a0220.28cf2f.c057SMTPIN_ADDED_MISSING@mx.google.com \
    --to=dpdklab@iol.unh.edu \
    --cc=dpdk-test-reports@iol.unh.edu \
    --cc=stephen@networkplumber.org \
    --cc=test-report@dpdk.org \
    /path/to/YOUR_REPLY

  https://kernel.org/pub/software/scm/git/docs/git-send-email.html

* If your mail client supports setting the In-Reply-To header
  via mailto: links, try the mailto: link
Be sure your reply has a Subject: header at the top and a blank line before the message body.
This is a public inbox, see mirroring instructions
for how to clone and mirror all data and code used for this inbox;
as well as URLs for NNTP newsgroup(s).