From mboxrd@z Thu Jan 1 00:00:00 1970 Return-Path: Received: from mails.dpdk.org (mails.dpdk.org [217.70.189.124]) by inbox.dpdk.org (Postfix) with ESMTP id 6557B46F8C for ; Fri, 26 Sep 2025 21:36:28 +0200 (CEST) Received: from mails.dpdk.org (localhost [127.0.0.1]) by mails.dpdk.org (Postfix) with ESMTP id 451B440262; Fri, 26 Sep 2025 21:36:28 +0200 (CEST) Received: from mail-pl1-f228.google.com (mail-pl1-f228.google.com [209.85.214.228]) by mails.dpdk.org (Postfix) with ESMTP id 5135540262 for ; Fri, 26 Sep 2025 21:36:26 +0200 (CEST) Received: by mail-pl1-f228.google.com with SMTP id d9443c01a7336-244580523a0so28005595ad.1 for ; Fri, 26 Sep 2025 12:36:26 -0700 (PDT) DKIM-Signature: v=1; a=rsa-sha256; c=relaxed/relaxed; d=iol.unh.edu; s=unh-iol; t=1758915385; x=1759520185; darn=dpdk.org; h=references:in-reply-to:cc:to:from:subject:message-id:date:from:to :cc:subject:date:message-id:reply-to; bh=eu5JWtY1krQrbpxSoK8s3Oxlp1q3FH9vYj/oQfZleC0=; b=b9/X6MjWC/IkpnLcmAQ6RLOHKkn0D2sa0xlfcBg11mS+hanxn9yy0q6vNJzemvfIZe gNQSaUvfHUItZHQqsqXurxvieuRihC3aa9Zo7tZLNBI9TrPPVMBL+l2uDkJVVp4Cv22n X/j5k81lB4/lZCqKOf0vFmTdJGnhQBYeSHs4I= X-Google-DKIM-Signature: v=1; a=rsa-sha256; c=relaxed/relaxed; d=1e100.net; s=20230601; t=1758915385; x=1759520185; h=references:in-reply-to:cc:to:from:subject:message-id:date :x-gm-message-state:from:to:cc:subject:date:message-id:reply-to; bh=eu5JWtY1krQrbpxSoK8s3Oxlp1q3FH9vYj/oQfZleC0=; b=hoc5SWPLMr6YBVYDYhtwFSjrJJehZh86NQjeNU1ezm5AB4e7LqEyZaAMj4EqUTQenW gwqNo/CCO+47PcfQ1XCgdDd6KIbuJ6noML+VtJEdPRc/k66mF9is/vhfcu0tSJ37l0U/ Pt+3jXADDC/3eBpUyUr3d5jgmmjIFJ0bfp1vlXgP7qaouBVOehedtSWJ/38XPSJvNLzO iz9Spm54ICAc9VAhl9cp6+pmyZBf5XvvCaPf6YbCjjQJ3HHir808DBiAa1QzpiflGvLf TAG546Nyg/HoHbza9Sd6VAQIt+69QsK1jLBxOkx+9UD0ySs1y8v/f81IaZWM/YKuE3Ep L0nQ== X-Gm-Message-State: AOJu0YxRLYBvoHB7EyglLUQph9zWJJyf7EhKSqGHj1htovkSbvmW1M9U UvMslv6fhSpQ6fSnKNnJMK+Dmqj5yq/G1tANy49jI1m1l+Hh8SBhqnbo1718e6vZOgLzB32ga3Y +whixbUI+WIrLMNdXOheNy03BKCELvAPdarJim3vukxbd X-Gm-Gg: ASbGncsa8drAtwS1VEKqJPSWSTL/LPCxlgCwuE56c+5b7HQeR4uP29uuBXJJ3JbR3FA KGBNa/ccmmq8cEWfYMKFxWeFforJlRwibHO0qRn0fDMtSUYi8XKqLDnrRcBoZ6qgtcQ+1NtVrnQ n7I2vN7hvlIDfsY4Tkp+5freppMaGXBEfvDUrp1ImQwkA2AazvCYEVdse0E4y6AXkEnopIOlAC1 GpdyCJHd0d6P+ALR12enBU0P28rGNVUWpYWKhncHnUgpHzzkthhP1hWOr4xy4AGVJTK28CzXJtX axVYWLb0WGH+YizDS9t36ZwTFtE8EekobE9JwNB/2o0gp3j5YaAJ1CLivieHau821Ssu41Pn X-Google-Smtp-Source: AGHT+IG+fU6je8k3vnBzL8FCM3opu3nnjPkUXxqEz7fTINFjdKUQ1HuCuib6cKm7oTZcmPIemZBorrR28KPr X-Received: by 2002:a17:902:dacd:b0:272:f27d:33c7 with SMTP id d9443c01a7336-27ed45e7b1cmr95630545ad.0.1758915385385; Fri, 26 Sep 2025 12:36:25 -0700 (PDT) Received: from postal.iol.unh.edu (postal.iol.unh.edu. [132.177.123.84]) by smtp-relay.gmail.com with ESMTPS id d9443c01a7336-27ed67e66d0sm4591605ad.40.2025.09.26.12.36.25 (version=TLS1_2 cipher=ECDHE-ECDSA-AES128-GCM-SHA256 bits=128/128); Fri, 26 Sep 2025 12:36:25 -0700 (PDT) X-Relaying-Domain: iol.unh.edu Date: Fri, 26 Sep 2025 12:36:25 -0700 (PDT) Message-ID: <68d6eb39.170a0220.28cf2f.c057SMTPIN_ADDED_MISSING@mx.google.com> Received: from [172.21.0.2] (unknown [172.18.0.240]) by postal.iol.unh.edu (Postfix) with ESMTP id 3E134604D420; Fri, 26 Sep 2025 15:36:24 -0400 (EDT) Subject: |SUCCESS| pw157015 [PATCH] net/zxdh: avoid use of rte_memcpy From: dpdklab@iol.unh.edu To: Test Report Cc: dpdk-test-reports@iol.unh.edu, Stephen Hemminger In-Reply-To: <20250926181017.470585-1-stephen@networkplumber.org> References: <20250926181017.470585-1-stephen@networkplumber.org> Content-Type: text/plain X-BeenThere: test-report@dpdk.org X-Mailman-Version: 2.1.29 Precedence: list List-Id: automatic DPDK test reports List-Unsubscribe: , List-Archive: List-Post: List-Help: List-Subscribe: , Errors-To: test-report-bounces@dpdk.org Test-Label: iol-compile-amd64-testing Test-Status: SUCCESS http://dpdk.org/patch/157015 _Testing PASS_ Submitter: Stephen Hemminger Date: Friday, September 26 2025 18:10:17 DPDK git baseline: Repo:dpdk-next-net Branch: master CommitID:c04bbd131b2c14b3049bf86d3ef367b34e6fdf1e 157015 --> testing pass Upstream job id: Windows-Compile-DPDK-VS#7030 Test environment and result as below: +---------------------+--------------------+-------------------+ | Environment | dpdk_meson_compile | dpdk_msvc_compile | +=====================+====================+===================+ | Ubuntu 20.04 | PASS | SKIPPED | +---------------------+--------------------+-------------------+ | FreeBSD 14.2 | PASS | SKIPPED | +---------------------+--------------------+-------------------+ | Windows Server 2022 | SKIPPED | PASS | +---------------------+--------------------+-------------------+ Ubuntu 20.04 Kernel: 4.19 Compiler: gcc gcc (Ubuntu 9.4.0-1ubuntu1~20.04.2) 9.4.0 FreeBSD 14.2 Kernel: 14.2-RELEASE Compiler: clang 18.1.6 Windows Server 2022 Kernel: 10.0.20348.2031 Compiler: clang 15.0.7, gcc 14.1.0 (MinGW), and MSVC VS 19.39.33521 To view detailed results, visit: https://lab.dpdk.org/results/dashboard/patchsets/34165/ UNH-IOL DPDK Community Lab To manage your email subscriptions, visit: https://lab.dpdk.org/results/dashboard/preferences/subscriptions/