From mboxrd@z Thu Jan 1 00:00:00 1970 Return-Path: Received: from mails.dpdk.org (mails.dpdk.org [217.70.189.124]) by inbox.dpdk.org (Postfix) with ESMTP id C726846F8C for ; Fri, 26 Sep 2025 21:59:18 +0200 (CEST) Received: from mails.dpdk.org (localhost [127.0.0.1]) by mails.dpdk.org (Postfix) with ESMTP id A64A040277; Fri, 26 Sep 2025 21:59:18 +0200 (CEST) Received: from mail-pg1-f225.google.com (mail-pg1-f225.google.com [209.85.215.225]) by mails.dpdk.org (Postfix) with ESMTP id 93E3240277 for ; Fri, 26 Sep 2025 21:59:17 +0200 (CEST) Received: by mail-pg1-f225.google.com with SMTP id 41be03b00d2f7-b55197907d1so1973628a12.0 for ; Fri, 26 Sep 2025 12:59:17 -0700 (PDT) DKIM-Signature: v=1; a=rsa-sha256; c=relaxed/relaxed; d=iol.unh.edu; s=unh-iol; t=1758916756; x=1759521556; darn=dpdk.org; h=references:in-reply-to:cc:to:from:subject:message-id:date:from:to :cc:subject:date:message-id:reply-to; bh=PvCOsKNhT253ysm70+9xDeM6YpYcSXTbtbWRGKiciz8=; b=ABrEui+ETYZrtozDLXaDWudkLy2jsqg3X/zp8FLYERA7QuOgqMyI78VWEqd+HpfVZT IQxhToYU7ne+sJ7yHMY/1QFtZLhjEd1i+miDjJBy5k3uwDK1mzxaPoDj1c5JcpMJtzKs zvZfllUWJzpnJmCXW24J1J6HDSnHrEgBH2Kvw= X-Google-DKIM-Signature: v=1; a=rsa-sha256; c=relaxed/relaxed; d=1e100.net; s=20230601; t=1758916756; x=1759521556; h=references:in-reply-to:cc:to:from:subject:message-id:date :x-gm-message-state:from:to:cc:subject:date:message-id:reply-to; bh=PvCOsKNhT253ysm70+9xDeM6YpYcSXTbtbWRGKiciz8=; b=tpOfpp2H2IHGL7xgriLp0iIQcgGprSyLeaMFwl35luyBz4y31li1XCqhQWRQENZLty gwKyGye9X80jX6rLlOuT2wZoeapf/Um8Mc6dLy7tqyMXQiZiikx6HShejH5vvv0hNXNw LlwjRJJ9OGo04I88ptBQa9H5zvdaaafNX9sjEsHVaFFAZszjOEGCapZ3HlUTCVk1C/xg dJ86pZ6hlSjR9k0/EDOoss3mgf5VxQQRy5YW4ZwTop7I5xZ2iJeBKTSgzO+PnqP07pEn Xxre+EV3ib2lD78YyjDaZZy/Efw12Rl66EnlCVlzy13oj3H6oFRvi6WDZJThbclGav0D Niag== X-Gm-Message-State: AOJu0YzFAoW5gfkihO2pMqBqMQl0IFl0L8e1v28eNnJ3NTKQilDSan5S yw8bdnqF4ooQwCZ15dBnKiRvnLvRTmdBjxgjoQVp0PvJ1v3n8NB5KPDbbDKt7VJMLH49cCDSilI a8HCa8Y5tqqFjyr5tv31QdK6UFpwZExZd6nLTWSOuwuyE X-Gm-Gg: ASbGncuuI3fbYjI8ksu4ihiydB6OGeTiGTcxAd3l3GNPyst8k/01ZNKcjwaXha0Tr97 7Vhzke8qLXw8lZdh5R+QrUC6GCMn8XJo4QpocBX1U3bCuDM8LnwL8W45cWhddsU0lAKTKdmyrf9 qMjk6zHCwXMZ0aAoJQXBftq6EC61txwpaoscDjtMlyLa3lBH0+bR3HfNc7MBttftxY8pd/iQMcM SR+4hmn2WJoZyuIDxcFKrytAI9VJxNTD3i6qD0uiN+gLdGTq4XDP56mPowkiPUz6/cymZJyD9// nMwkJA+mEot28kHjAn7axBjakZgz1XSi1vwpSyrYRxf3YOoP4/B5p3KT7CJOzZ3RmHfdFM7u X-Google-Smtp-Source: AGHT+IExN+qScUejeajOTYPZxyYD4AmwuF8kzOI+/4JkGAx+P7NDXb6oUMwyabYHHE4l3XvlD0z0AnVXQAhS X-Received: by 2002:a17:902:e78b:b0:261:6d61:f28d with SMTP id d9443c01a7336-27ed4ad3316mr71640795ad.50.1758916756629; Fri, 26 Sep 2025 12:59:16 -0700 (PDT) Received: from postal.iol.unh.edu (postal.iol.unh.edu. [132.177.123.84]) by smtp-relay.gmail.com with ESMTPS id d9443c01a7336-27ed67e6639sm4101305ad.34.2025.09.26.12.59.16 (version=TLS1_2 cipher=ECDHE-ECDSA-AES128-GCM-SHA256 bits=128/128); Fri, 26 Sep 2025 12:59:16 -0700 (PDT) X-Relaying-Domain: iol.unh.edu Date: Fri, 26 Sep 2025 12:59:16 -0700 (PDT) Message-ID: <68d6f094.170a0220.27b612.7a2aSMTPIN_ADDED_MISSING@mx.google.com> Received: from [172.21.0.3] (unknown [172.18.0.240]) by postal.iol.unh.edu (Postfix) with ESMTP id 125CD6051830; Fri, 26 Sep 2025 15:59:16 -0400 (EDT) Subject: |SUCCESS| pw157015 [PATCH] net/zxdh: avoid use of rte_memcpy From: dpdklab@iol.unh.edu To: Test Report Cc: dpdk-test-reports@iol.unh.edu, Stephen Hemminger In-Reply-To: <20250926181017.470585-1-stephen@networkplumber.org> References: <20250926181017.470585-1-stephen@networkplumber.org> Content-Type: text/plain X-BeenThere: test-report@dpdk.org X-Mailman-Version: 2.1.29 Precedence: list List-Id: automatic DPDK test reports List-Unsubscribe: , List-Archive: List-Post: List-Help: List-Subscribe: , Errors-To: test-report-bounces@dpdk.org Test-Label: iol-compile-amd64-testing Test-Status: SUCCESS http://dpdk.org/patch/157015 _Testing PASS_ Submitter: Stephen Hemminger Date: Friday, September 26 2025 18:10:17 DPDK git baseline: Repo:dpdk-next-net Branch: master CommitID:c04bbd131b2c14b3049bf86d3ef367b34e6fdf1e 157015 --> testing pass Upstream job id: Windows-Compile-DPDK-Native#31255 Test environment and result as below: +---------------------+--------------------+-------------------+-------------------------+ | Environment | dpdk_meson_compile | dpdk_msvc_compile | dpdk_llvm_clang_compile | +=====================+====================+===================+=========================+ | Ubuntu 20.04 | PASS | SKIPPED | SKIPPED | +---------------------+--------------------+-------------------+-------------------------+ | FreeBSD 14.2 | PASS | SKIPPED | SKIPPED | +---------------------+--------------------+-------------------+-------------------------+ | Windows Server 2022 | SKIPPED | PASS | PASS | +---------------------+--------------------+-------------------+-------------------------+ Ubuntu 20.04 Kernel: 4.19 Compiler: gcc gcc (Ubuntu 9.4.0-1ubuntu1~20.04.2) 9.4.0 FreeBSD 14.2 Kernel: 14.2-RELEASE Compiler: clang 18.1.6 Windows Server 2022 Kernel: 10.0.20348.2031 Compiler: clang 15.0.7, gcc 14.1.0 (MinGW), and MSVC VS 19.39.33521 To view detailed results, visit: https://lab.dpdk.org/results/dashboard/patchsets/34165/ UNH-IOL DPDK Community Lab To manage your email subscriptions, visit: https://lab.dpdk.org/results/dashboard/preferences/subscriptions/