From mboxrd@z Thu Jan 1 00:00:00 1970 Return-Path: Received: from mails.dpdk.org (mails.dpdk.org [217.70.189.124]) by inbox.dpdk.org (Postfix) with ESMTP id D657646F8D for ; Fri, 26 Sep 2025 22:00:35 +0200 (CEST) Received: from mails.dpdk.org (localhost [127.0.0.1]) by mails.dpdk.org (Postfix) with ESMTP id CE0D440277; Fri, 26 Sep 2025 22:00:35 +0200 (CEST) Received: from mail-il1-f227.google.com (mail-il1-f227.google.com [209.85.166.227]) by mails.dpdk.org (Postfix) with ESMTP id DE6FE40277 for ; Fri, 26 Sep 2025 22:00:34 +0200 (CEST) Received: by mail-il1-f227.google.com with SMTP id e9e14a558f8ab-4248b320541so26921915ab.1 for ; Fri, 26 Sep 2025 13:00:34 -0700 (PDT) DKIM-Signature: v=1; a=rsa-sha256; c=relaxed/relaxed; d=iol.unh.edu; s=unh-iol; t=1758916834; x=1759521634; darn=dpdk.org; h=references:in-reply-to:cc:to:from:subject:message-id:date:from:to :cc:subject:date:message-id:reply-to; bh=OeKNYdFrT11XUd9FXMqqaP1LGFpETVUheFcKL8d8kBI=; b=gynt3JbHKcj1wFa/lI2heoLVJFnUm6kELd2/HndY1UJ5j+Y3D/XN3pcoIEDNgkvjP9 qhJoijQ/fOtsG1RFf1CVultnQiPfQ4r2Xgd9N1qOR9AuE1A2wzo0pMxC5jXDyrihnWMh MzXgCmZ89WPH4w+UW4S3Ym+oi7hNP9IBnr1Bs= X-Google-DKIM-Signature: v=1; a=rsa-sha256; c=relaxed/relaxed; d=1e100.net; s=20230601; t=1758916834; x=1759521634; h=references:in-reply-to:cc:to:from:subject:message-id:date :x-gm-message-state:from:to:cc:subject:date:message-id:reply-to; bh=OeKNYdFrT11XUd9FXMqqaP1LGFpETVUheFcKL8d8kBI=; b=qR75tqt1s9kmr+OjKvVyAhTLQTe5LRUS401VnxeaPMK7c9df7ZDw9xlEcPhQ/COiQy 4dWIbnKUNgFzoanRbBe1h7VVRG1wfTR+4yI+B/hkBq7DahFe3ntg2uMg0ENARhEu1fcd ByV6fo2Z761TFhbUZ7NXEnrVi2eXtrgTF+ujLyLyzRLl4C++31B+5iHKk+r45ByuPH1I du2PvrD+mI7LumKtiHvaCdlAKP3Plf+uU6B8DsJHH0dJWWaGq+oX6XJPwMCReroaHtNX Q5wshCP/suUS4+udpdYgNPv6RhO2PfIG16t8LJ6c4LG0G0MI6TZ80uT0G815K3Uzjbf0 /rSg== X-Gm-Message-State: AOJu0Yz86Au0suP88P5j0iN+RhFTvEaTAY6Jl9kuPo3HQYsvphOD6+Ky X+MWwa3r6getumjByWsQ31DekZXSL4UgsAWGGU4zrMIpOE7iv4WnCkDSP1gw0J8ywg2qtSZnzVJ PMMPGAo6nxTW9B7Gd1e7+fYqjBGavs0Rw3juw8mhhV87it9M/Wfd8kFP+Euch X-Gm-Gg: ASbGncvR0d2IZcZ0bsEiZf2eRjmaCNr/xXVDLMKF+yKESGR1QYmJg4miaxcL15e+zBo 2f/UfMgzejR1iA+Fe5C66/XcCZYp9/tDs7mi9MWt+VI3fTkLx41QLVm0abANcfjQdS2FtPKRS4c VPDNt/qp2u3iiMNHahiRvKn7IU7ryZPpzsJ4wmj9NBxLbNQVtU6vph9PlTw9RTQmJyyjzR0XNpa M3ZYBhVip9D/7UcEr/Za8RmpX0SXlaHcMp9APUZAk4ehbmzQNCk4NwDUTj8DqcIDZqIVJW1ZjBh +YllklAvbCszwiFDVPA6AMB0OKAoIBGG454JmXyO3EUImzH/uA== X-Google-Smtp-Source: AGHT+IF/rqlq3TsAG1ogKGhNSsmp9NONbSIZ06+Xu+d4KTTMeVeH1tf/7A1UFi+Fo0gt1ZENiaY+akGF+h0N X-Received: by 2002:a05:6e02:1a23:b0:425:944d:b074 with SMTP id e9e14a558f8ab-42595620537mr118294535ab.17.1758916833852; Fri, 26 Sep 2025 13:00:33 -0700 (PDT) Received: from postal.iol.unh.edu (postal.iol.unh.edu. [2606:4100:3880:1234::84]) by smtp-relay.gmail.com with ESMTPS id e9e14a558f8ab-428a5f09a80sm49245ab.2.2025.09.26.13.00.33 (version=TLS1_2 cipher=ECDHE-ECDSA-AES128-GCM-SHA256 bits=128/128); Fri, 26 Sep 2025 13:00:33 -0700 (PDT) X-Relaying-Domain: iol.unh.edu Date: Fri, 26 Sep 2025 13:00:33 -0700 (PDT) Message-ID: <68d6f0e1.920a0220.8e2ac.04a7SMTPIN_ADDED_MISSING@mx.google.com> Received: from [172.21.0.3] (unknown [172.18.0.240]) by postal.iol.unh.edu (Postfix) with ESMTP id 3722C6051830; Fri, 26 Sep 2025 16:00:33 -0400 (EDT) Subject: |SUCCESS| pw157015 [PATCH] net/zxdh: avoid use of rte_memcpy From: dpdklab@iol.unh.edu To: Test Report Cc: dpdk-test-reports@iol.unh.edu, Stephen Hemminger In-Reply-To: <20250926181017.470585-1-stephen@networkplumber.org> References: <20250926181017.470585-1-stephen@networkplumber.org> Content-Type: text/plain X-BeenThere: test-report@dpdk.org X-Mailman-Version: 2.1.29 Precedence: list List-Id: automatic DPDK test reports List-Unsubscribe: , List-Archive: List-Post: List-Help: List-Subscribe: , Errors-To: test-report-bounces@dpdk.org Test-Label: iol-compile-amd64-testing Test-Status: SUCCESS http://dpdk.org/patch/157015 _Testing PASS_ Submitter: Stephen Hemminger Date: Friday, September 26 2025 18:10:17 DPDK git baseline: Repo:dpdk-next-net Branch: master CommitID:c04bbd131b2c14b3049bf86d3ef367b34e6fdf1e 157015 --> testing pass Upstream job id: Windows-Compile-DPDK-Native#31256 Test environment and result as below: +---------------------+--------------------+-------------------+-------------------------+----------------------+ | Environment | dpdk_meson_compile | dpdk_msvc_compile | dpdk_llvm_clang_compile | dpdk_mingw64_compile | +=====================+====================+===================+=========================+======================+ | Ubuntu 20.04 | PASS | SKIPPED | SKIPPED | SKIPPED | +---------------------+--------------------+-------------------+-------------------------+----------------------+ | FreeBSD 14.2 | PASS | SKIPPED | SKIPPED | SKIPPED | +---------------------+--------------------+-------------------+-------------------------+----------------------+ | Windows Server 2022 | SKIPPED | PASS | PASS | PASS | +---------------------+--------------------+-------------------+-------------------------+----------------------+ Ubuntu 20.04 Kernel: 4.19 Compiler: gcc gcc (Ubuntu 9.4.0-1ubuntu1~20.04.2) 9.4.0 FreeBSD 14.2 Kernel: 14.2-RELEASE Compiler: clang 18.1.6 Windows Server 2022 Kernel: 10.0.20348.2031 Compiler: clang 15.0.7, gcc 14.1.0 (MinGW), and MSVC VS 19.39.33521 To view detailed results, visit: https://lab.dpdk.org/results/dashboard/patchsets/34165/ UNH-IOL DPDK Community Lab To manage your email subscriptions, visit: https://lab.dpdk.org/results/dashboard/preferences/subscriptions/