From mboxrd@z Thu Jan 1 00:00:00 1970 Return-Path: Received: from mails.dpdk.org (mails.dpdk.org [217.70.189.124]) by inbox.dpdk.org (Postfix) with ESMTP id A5E3046F8D for ; Fri, 26 Sep 2025 22:07:58 +0200 (CEST) Received: from mails.dpdk.org (localhost [127.0.0.1]) by mails.dpdk.org (Postfix) with ESMTP id 77E7940277; Fri, 26 Sep 2025 22:07:58 +0200 (CEST) Received: from mail-yx1-f99.google.com (mail-yx1-f99.google.com [74.125.224.99]) by mails.dpdk.org (Postfix) with ESMTP id 3DA3340277 for ; Fri, 26 Sep 2025 22:07:57 +0200 (CEST) Received: by mail-yx1-f99.google.com with SMTP id 956f58d0204a3-633bca5451cso1908104d50.1 for ; Fri, 26 Sep 2025 13:07:57 -0700 (PDT) DKIM-Signature: v=1; a=rsa-sha256; c=relaxed/relaxed; d=iol.unh.edu; s=unh-iol; t=1758917276; x=1759522076; darn=dpdk.org; h=references:in-reply-to:cc:to:from:subject:message-id:date:from:to :cc:subject:date:message-id:reply-to; bh=13ZDM0Y6++qu2fvsOLAVgMTnXOxPZCHlAEQP/3r1Plw=; b=MT2SW+vr7m3Z4NYTlS/oq7oON9sdzOBWdQaz9+pbkagUCuWx1qOxI79+A5Yv5z35sV 8F9aUE+19V/sPJ08JEDcT7EQnwW9ST5YeBs6Q8VTs7Gf3UWF81T07hl8/NPhLY2htPV1 T0oMYLFgreCQGQ1Fw88wCE1njEbrXfChchn+0= X-Google-DKIM-Signature: v=1; a=rsa-sha256; c=relaxed/relaxed; d=1e100.net; s=20230601; t=1758917276; x=1759522076; h=references:in-reply-to:cc:to:from:subject:message-id:date :x-gm-message-state:from:to:cc:subject:date:message-id:reply-to; bh=13ZDM0Y6++qu2fvsOLAVgMTnXOxPZCHlAEQP/3r1Plw=; b=rFT1uRFS+fEoqIAiYSl0WB1/maRJMySVR+cE5WbqYsb/LoFohPzvSlrZwvWOwRCAaR 7kFJEomuf1HPWTsKjW6o/nAp4ha8+IEwTcLedOyr8c5xw3WHIeVks57u9BGqkK+H0a6H yorGMJdb3acvfI2co8a1XvHrfB7lJYrgHFlRMau/hu01uHMrm2sgAgxqPbOZGT5rrYm+ wPQC8Z8Plrz1ZQFaWcxqqD++uejReKYcWsXzVvUWx+8Mgaf3FFRHKY7iz2EgeiCH88jt LfH0egJpqyG4oLGSZcFnpy6GcWRfkkRy2m2gZzqdrtH7w1G+dI94gGvELSY9CTZznwK5 cc0Q== X-Gm-Message-State: AOJu0YyeqYx988gnlWHbDOP5Od0qocHvbvX2GuJVK2IovKBTGaQC9pU7 U+tEijACCLztzvBdMC9zff3v/jyl+Y9MriLTk4Eh7H07rIcDPHgyq8a+CgKN4djQ6nEnVRSTArj AibP5HO/fFz0NniFZnJq5gnC/zNsRIBwwu7usgcuEIrKIaVp6dAw22t5m5HOZ X-Gm-Gg: ASbGncsvHDKsJgD48KeCRg9pNkkGgHxj/9JfBoJIaDqi9EqH96lH3xDTDLjITUMm6HI nsJkY93dL+opgEz+uh73KsnfJ/62m2vRn49zLsIMUy6WYDknRk5BU4bvxOu3pDB87JpZmiqH7N1 I/Wf4qZB55HWIDd4UKz2569o1hIhLu1zccu8H1U/6FgbT9M3Ls1XadjED9ykRu+hXClCTL0Hm11 q5wMagwPqcQI99aFQRUTwO7P789iD7/nFzvIYF8TZOOJoSTafiuawz8LeOL4Tm/0bOl6ktRj26y JvmWrLXtvGlCzINZ3HzipFL6xLepWxpR+vm1qD4PB/vfi/xxWA== X-Google-Smtp-Source: AGHT+IGepuvB9XBLGYh9vY2RsFoxY7wfI73dMBODlIQ9va/TjHpF09Kegzev23cEkOlFtXfVcHIXbEn72Kj/ X-Received: by 2002:a53:d01a:0:b0:635:4ecd:5fca with SMTP id 956f58d0204a3-6361a887144mr6903900d50.39.1758917276443; Fri, 26 Sep 2025 13:07:56 -0700 (PDT) Received: from postal.iol.unh.edu (postal.iol.unh.edu. [2606:4100:3880:1234::84]) by smtp-relay.gmail.com with ESMTPS id 3f1490d57ef6-eb38388b4b7sm330696276.8.2025.09.26.13.07.56 (version=TLS1_2 cipher=ECDHE-ECDSA-AES128-GCM-SHA256 bits=128/128); Fri, 26 Sep 2025 13:07:56 -0700 (PDT) X-Relaying-Domain: iol.unh.edu Date: Fri, 26 Sep 2025 13:07:56 -0700 (PDT) Message-ID: <68d6f29c.250a0220.164720.2f42SMTPIN_ADDED_MISSING@mx.google.com> Received: from [172.21.0.2] (unknown [172.18.0.240]) by postal.iol.unh.edu (Postfix) with ESMTP id DFB7A6051830; Fri, 26 Sep 2025 16:07:55 -0400 (EDT) Subject: |SUCCESS| pw157010 [PATCH] net/bonding: rename global symbols From: dpdklab@iol.unh.edu To: Test Report Cc: dpdk-test-reports@iol.unh.edu, Stephen Hemminger In-Reply-To: <20250926161837.400929-1-stephen@networkplumber.org> References: <20250926161837.400929-1-stephen@networkplumber.org> Content-Type: text/plain X-BeenThere: test-report@dpdk.org X-Mailman-Version: 2.1.29 Precedence: list List-Id: automatic DPDK test reports List-Unsubscribe: , List-Archive: List-Post: List-Help: List-Subscribe: , Errors-To: test-report-bounces@dpdk.org Test-Label: iol-unit-amd64-testing Test-Status: SUCCESS http://dpdk.org/patch/157010 _Testing PASS_ Submitter: Stephen Hemminger Date: Friday, September 26 2025 16:18:37 DPDK git baseline: Repo:dpdk-next-net Branch: master CommitID:c1698355a8c527f256bd9571ff9b6ed7441dcbce 157010 --> testing pass Upstream job id: Generic-Unit-Test-DPDK#375588 Test environment and result as below: +-------------------------------+----------------+ | Environment | dpdk_unit_test | +===============================+================+ | CentOS Stream 10 | PASS | +-------------------------------+----------------+ | Debian GNU/Linux 12 | PASS | +-------------------------------+----------------+ | Fedora Linux 40 | PASS | +-------------------------------+----------------+ | CentOS Stream 9 | PASS | +-------------------------------+----------------+ | Fedora Linux 41 | PASS | +-------------------------------+----------------+ | Fedora Linux 42 | PASS | +-------------------------------+----------------+ | Red Hat Enterprise Linux 9.5 | PASS | +-------------------------------+----------------+ | Red Hat Enterprise Linux 8.10 | PASS | +-------------------------------+----------------+ | Ubuntu 22.04 | PASS | +-------------------------------+----------------+ | Ubuntu 24.04 | PASS | +-------------------------------+----------------+ | Ubuntu 20.04 | PASS | +-------------------------------+----------------+ | Windows Server 2022 | PASS | +-------------------------------+----------------+ CentOS Stream 10 Kernel: 5.15 Compiler: gcc gcc (GCC) 14.2.1 20250110 (Red Hat 14.2.1-8) Debian GNU/Linux 12 Kernel: 5.15 Compiler: gcc gcc (Debian 12.2.0-14+deb12u1) 12.2.0 Fedora Linux 40 Kernel: 5.15 Compiler: clang gcc (GCC) 14.2.1 20240912 (Red Hat 14.2.1-3) CentOS Stream 9 Kernel: 5.15 Compiler: gcc gcc (GCC) 11.5.0 20240719 (Red Hat 11.5.0-11) Fedora Linux 41 Kernel: 5.15 Compiler: gcc gcc (GCC) 14.3.1 20250523 (Red Hat 14.3.1-1) Fedora Linux 42 Kernel: 5.15 Compiler: gcc gcc (GCC) 15.2.1 20250808 (Red Hat 15.2.1-1) Red Hat Enterprise Linux 9.5 Kernel: 5.15 Compiler: gcc gcc (GCC) 11.5.0 20240719 (Red Hat 11.5.0-2) Red Hat Enterprise Linux 8.10 Kernel: 5.15 Compiler: gcc gcc (GCC) 8.5.0 20210514 (Red Hat 8.5.0-22) Ubuntu 22.04 Kernel: 5.15 Compiler: gcc gcc (Ubuntu 11.4.0-1ubuntu1~22.04) 11.4.0 Ubuntu 24.04 Kernel: 5.15 Compiler: gcc gcc (Ubuntu 13.3.0-6ubuntu2~24.04) 13.3.0 Ubuntu 20.04 Kernel: 5.15 Compiler: gcc gcc (Ubuntu 9.4.0-1ubuntu1~20.04.2) 9.4.0 Windows Server 2022 Kernel: 10.0.20348.2031 Compiler: clang 15.0.7, gcc 14.1.0 (MinGW), and MSVC VS 19.39.33521 To view detailed results, visit: https://lab.dpdk.org/results/dashboard/patchsets/34162/ UNH-IOL DPDK Community Lab To manage your email subscriptions, visit: https://lab.dpdk.org/results/dashboard/preferences/subscriptions/