From mboxrd@z Thu Jan 1 00:00:00 1970 Return-Path: Received: from mails.dpdk.org (mails.dpdk.org [217.70.189.124]) by inbox.dpdk.org (Postfix) with ESMTP id 2C71A46F8D for ; Fri, 26 Sep 2025 22:21:42 +0200 (CEST) Received: from mails.dpdk.org (localhost [127.0.0.1]) by mails.dpdk.org (Postfix) with ESMTP id 27EAE40277; Fri, 26 Sep 2025 22:21:42 +0200 (CEST) Received: from mail-pg1-f228.google.com (mail-pg1-f228.google.com [209.85.215.228]) by mails.dpdk.org (Postfix) with ESMTP id C2C1040277 for ; Fri, 26 Sep 2025 22:21:40 +0200 (CEST) Received: by mail-pg1-f228.google.com with SMTP id 41be03b00d2f7-b555ab7fabaso2457155a12.0 for ; Fri, 26 Sep 2025 13:21:40 -0700 (PDT) DKIM-Signature: v=1; a=rsa-sha256; c=relaxed/relaxed; d=iol.unh.edu; s=unh-iol; t=1758918100; x=1759522900; darn=dpdk.org; h=references:in-reply-to:cc:to:from:subject:message-id:date:from:to :cc:subject:date:message-id:reply-to; bh=4sRwj950wfFpSoCDwNmQouSAWA7sq5UB731xwuF9voI=; b=C0h80EJrP/DpC8piCQCFyzw3ayxY0mvCGRHj1Uxj9Jn+Gk4+8w76C4utG0mAPlk2cj OJe4PYPMjGJxuVN2bo0sPmT9HwMCnurjmrpAU4wQWui06d56gaAg/oSKZGXHHEGgjV17 FvwdIKRJAF1Q1OslwDJ1ngQgyCwOxWGdhPbQ0= X-Google-DKIM-Signature: v=1; a=rsa-sha256; c=relaxed/relaxed; d=1e100.net; s=20230601; t=1758918100; x=1759522900; h=references:in-reply-to:cc:to:from:subject:message-id:date :x-gm-message-state:from:to:cc:subject:date:message-id:reply-to; bh=4sRwj950wfFpSoCDwNmQouSAWA7sq5UB731xwuF9voI=; b=Cdq4takpMF8myXqm8F+G38rXeq/xk1C3zAIs7ryuYtNfBM9rlrbcYN2y245qGBl9rZ U9zQ5raTaXKHFPOyoHJcQ4QrbfWYN9xktjEKkLAI1Nka1u3vzhteA1CxIEoMzP0hpfLC Eod7RozQOpfs3cQFFzurACTUvBtvvZC2+jPj6nLEd4x31FpHpGDe/zA9piVH72JgXRWY 02yLWlNsvxjB5Ruqh6QCIuNhqfgdzQMeD9y1W0BSuPA6YNSDApywYgQxH4pv4XiCQG96 XjC0lYmWP1ui8SEbhpH5SKk69UCen/QExrGNLZi9vd1N9GGLYAiXdyRYYiToxhorRjDC BE2A== X-Gm-Message-State: AOJu0YwzMQFN0UB1ImMUfzBFYD98QXH4ytvll0stbFR46nDQVFim7W41 Hck1dBCyHDJ+RtLkh8iN03UtBoXYSM74ARb3iQdOvn+mtWvxP17DR1ZG5I8rKqCMk4eMN3gEp4B CtENme+kjfFAfGeK1wrlYnuswUZtLQZ0FJwBRXRmdjXsI X-Gm-Gg: ASbGncsmYJQ2yzPgyv2v39Dd4nkKU+jQ6ERGjCbDW214eKwU9M76ElrFbpdCTjThOfl E163Y1Pjwtdp8dwd5djuKYSINLNZUEOsJiLk2WNuJQnLv/1pcH27iL9qCWXYjzs9hHX48zvz4Cu Dc8c3afbStjQ79R+YQCgid1JLNaB+1K2LDLRBVAOpNzrYHHttm06uYO8TuInRpn1RfLHgYealGq 9WzQCXRddjtzAWAaZ4WPtIAbXr/KX62I3nGCeoYyAFA/5VWt1EkQHvg1Z6sSuWvjn5jpxChz/cx /siV41c7ML4SZhAtDUJeLv7rP9hvC53rPB151K/Rnt4hQnAdd5C27A4CDb84Bq86RhkoSVVA X-Google-Smtp-Source: AGHT+IEva2BTtpasX2faUMJQ9FHVxB9SeAiS09racaQrbaUF3uhYvBaQjagpcmLEaLHs4qrmlx9jFCrQnqn0 X-Received: by 2002:a17:903:22cb:b0:269:8f2e:e38 with SMTP id d9443c01a7336-27ed49b9a40mr103370615ad.6.1758918099971; Fri, 26 Sep 2025 13:21:39 -0700 (PDT) Received: from postal.iol.unh.edu (postal.iol.unh.edu. [132.177.123.84]) by smtp-relay.gmail.com with ESMTPS id d9443c01a7336-27ed66dd2d0sm4163295ad.17.2025.09.26.13.21.39 (version=TLS1_2 cipher=ECDHE-ECDSA-AES128-GCM-SHA256 bits=128/128); Fri, 26 Sep 2025 13:21:39 -0700 (PDT) X-Relaying-Domain: iol.unh.edu Date: Fri, 26 Sep 2025 13:21:39 -0700 (PDT) Message-ID: <68d6f5d3.170a0220.abbe9.7e6cSMTPIN_ADDED_MISSING@mx.google.com> Received: from [172.21.0.7] (unknown [172.18.0.240]) by postal.iol.unh.edu (Postfix) with ESMTP id 3A4ED6051830; Fri, 26 Sep 2025 16:21:39 -0400 (EDT) Subject: |SUCCESS| pw157008-157009 [PATCH] [v3,2/2] crypto/ipsec-mb: use cons From: dpdklab@iol.unh.edu To: Test Report Cc: dpdk-test-reports@iol.unh.edu In-Reply-To: <20250926160209.56496-2-kai.ji@intel.com> References: <20250926160209.56496-2-kai.ji@intel.com> Content-Type: text/plain X-BeenThere: test-report@dpdk.org X-Mailman-Version: 2.1.29 Precedence: list List-Id: automatic DPDK test reports List-Unsubscribe: , List-Archive: List-Post: List-Help: List-Subscribe: , Errors-To: test-report-bounces@dpdk.org Test-Label: iol-compile-amd64-testing Test-Status: SUCCESS http://dpdk.org/patch/157009 _Testing PASS_ Submitter: Kai Ji Date: Friday, September 26 2025 16:02:09 DPDK git baseline: Repo:dpdk Branch: master CommitID:1d627ea13aeec2bcccf27246e6be2508370d171e 157008-157009 --> testing pass Upstream job id: Generic-DPDK-Compile-Meson#429096 Test environment and result as below: +-------------------------------+--------------------+------------------+-------------------+-------------------+-------------------------+----------------------+ | Environment | dpdk_meson_compile | dpdk_compile_ovs | dpdk_compile_spdk | dpdk_msvc_compile | dpdk_llvm_clang_compile | dpdk_mingw64_compile | +===============================+====================+==================+===================+===================+=========================+======================+ | Ubuntu 20.04 | PASS | SKIPPED | SKIPPED | SKIPPED | SKIPPED | SKIPPED | +-------------------------------+--------------------+------------------+-------------------+-------------------+-------------------------+----------------------+ | FreeBSD 14.2 | PASS | SKIPPED | SKIPPED | SKIPPED | SKIPPED | SKIPPED | +-------------------------------+--------------------+------------------+-------------------+-------------------+-------------------------+----------------------+ | Fedora Linux 42 | PASS | PASS | PASS | SKIPPED | SKIPPED | SKIPPED | +-------------------------------+--------------------+------------------+-------------------+-------------------+-------------------------+----------------------+ | CentOS Stream 9 | PASS | SKIPPED | PASS | SKIPPED | SKIPPED | SKIPPED | +-------------------------------+--------------------+------------------+-------------------+-------------------+-------------------------+----------------------+ | CentOS Stream 10 | PASS | SKIPPED | SKIPPED | SKIPPED | SKIPPED | SKIPPED | +-------------------------------+--------------------+------------------+-------------------+-------------------+-------------------------+----------------------+ | Debian GNU/Linux 12 | PASS | SKIPPED | PASS | SKIPPED | SKIPPED | SKIPPED | +-------------------------------+--------------------+------------------+-------------------+-------------------+-------------------------+----------------------+ | Red Hat Enterprise Linux 8.10 | PASS | SKIPPED | SKIPPED | SKIPPED | SKIPPED | SKIPPED | +-------------------------------+--------------------+------------------+-------------------+-------------------+-------------------------+----------------------+ | openSUSE Leap 15.6 | PASS | SKIPPED | SKIPPED | SKIPPED | SKIPPED | SKIPPED | +-------------------------------+--------------------+------------------+-------------------+-------------------+-------------------------+----------------------+ | Red Hat Enterprise Linux 9.5 | PASS | SKIPPED | SKIPPED | SKIPPED | SKIPPED | SKIPPED | +-------------------------------+--------------------+------------------+-------------------+-------------------+-------------------------+----------------------+ | Ubuntu 24.04 | PASS | PASS | PASS | SKIPPED | SKIPPED | SKIPPED | +-------------------------------+--------------------+------------------+-------------------+-------------------+-------------------------+----------------------+ | Alpine Linux 3.22.0 | PASS | SKIPPED | SKIPPED | SKIPPED | SKIPPED | SKIPPED | +-------------------------------+--------------------+------------------+-------------------+-------------------+-------------------------+----------------------+ | Ubuntu 22.04 | PASS | SKIPPED | PASS | SKIPPED | SKIPPED | SKIPPED | +-------------------------------+--------------------+------------------+-------------------+-------------------+-------------------------+----------------------+ | Windows Server 2022 | SKIPPED | SKIPPED | SKIPPED | PASS | PASS | PASS | +-------------------------------+--------------------+------------------+-------------------+-------------------+-------------------------+----------------------+ Ubuntu 20.04 Kernel: 4.19 Compiler: gcc gcc (Ubuntu 9.4.0-1ubuntu1~20.04.2) 9.4.0 FreeBSD 14.2 Kernel: 14.2-RELEASE Compiler: clang 18.1.6 Fedora Linux 42 Kernel: 5.15 Compiler: clang gcc (GCC) 15.2.1 20250808 (Red Hat 15.2.1-1) CentOS Stream 9 Kernel: 5.15 Compiler: gcc gcc (GCC) 11.5.0 20240719 (Red Hat 11.5.0-11) CentOS Stream 10 Kernel: 5.15 Compiler: gcc gcc (GCC) 14.2.1 20250110 (Red Hat 14.2.1-8) Debian GNU/Linux 12 Kernel: 5.15 Compiler: gcc gcc (Debian 12.2.0-14+deb12u1) 12.2.0 Red Hat Enterprise Linux 8.10 Kernel: 5.15 Compiler: gcc gcc (GCC) 8.5.0 20210514 (Red Hat 8.5.0-22) openSUSE Leap 15.6 Kernel: 5.15 Compiler: gcc gcc (SUSE Linux) 7.5.0 Red Hat Enterprise Linux 9.5 Kernel: 5.15 Compiler: gcc gcc (GCC) 11.5.0 20240719 (Red Hat 11.5.0-2) Ubuntu 24.04 Kernel: 5.15 Compiler: gcc gcc (Ubuntu 13.3.0-6ubuntu2~24.04) 13.3.0 Alpine Linux 3.22.0 Kernel: 5.15 Compiler: gcc gcc (Alpine 14.2.0) 14.2.0 Ubuntu 22.04 Kernel: 5.15 Compiler: gcc gcc (Ubuntu 11.4.0-1ubuntu1~22.04) 11.4.0 Windows Server 2022 Kernel: 10.0.20348.2031 Compiler: clang 15.0.7, gcc 14.1.0 (MinGW), and MSVC VS 19.39.33521 To view detailed results, visit: https://lab.dpdk.org/results/dashboard/patchsets/34161/ UNH-IOL DPDK Community Lab To manage your email subscriptions, visit: https://lab.dpdk.org/results/dashboard/preferences/subscriptions/