From mboxrd@z Thu Jan 1 00:00:00 1970 Return-Path: Received: from mails.dpdk.org (mails.dpdk.org [217.70.189.124]) by inbox.dpdk.org (Postfix) with ESMTP id 3F8F146F8D for ; Fri, 26 Sep 2025 22:21:53 +0200 (CEST) Received: from mails.dpdk.org (localhost [127.0.0.1]) by mails.dpdk.org (Postfix) with ESMTP id 384E840277; Fri, 26 Sep 2025 22:21:53 +0200 (CEST) Received: from mail-pg1-f225.google.com (mail-pg1-f225.google.com [209.85.215.225]) by mails.dpdk.org (Postfix) with ESMTP id 4694940277 for ; Fri, 26 Sep 2025 22:21:52 +0200 (CEST) Received: by mail-pg1-f225.google.com with SMTP id 41be03b00d2f7-b54a588ad96so2028982a12.1 for ; Fri, 26 Sep 2025 13:21:52 -0700 (PDT) DKIM-Signature: v=1; a=rsa-sha256; c=relaxed/relaxed; d=iol.unh.edu; s=unh-iol; t=1758918111; x=1759522911; darn=dpdk.org; h=references:in-reply-to:cc:to:from:subject:message-id:date:from:to :cc:subject:date:message-id:reply-to; bh=quIgkP/Y1cy0JuQfqcAPssFHDn4552z+ekUW/KipdOo=; b=EXspEvcSGy2cpPsY/A+gMeD0q3TkVyKhrB/d/03v7voYGmk1MyiF6sR5aZ3jkWqnTw A06+ZqzBjTWdB0YoguTw29WNWC+/uR8a4omVUyVN45c2XYYabAgKoOF/7yQjNB80AB9F kfXVC5r5jUPQz/QD0SK2pPDstlQImZkKCLylc= X-Google-DKIM-Signature: v=1; a=rsa-sha256; c=relaxed/relaxed; d=1e100.net; s=20230601; t=1758918111; x=1759522911; h=references:in-reply-to:cc:to:from:subject:message-id:date :x-gm-message-state:from:to:cc:subject:date:message-id:reply-to; bh=quIgkP/Y1cy0JuQfqcAPssFHDn4552z+ekUW/KipdOo=; b=t9jJIySuCHn4jy52vz28SmGctos01+sPbPnqvkKdbw/28FRuiU18hVhOKo/WK2i9mN 4X3qsuuN2CV5h2iyxrUhUa7uGQLWTW6Dz3+JSlSGa+KeXTI+Li2kAwtQWHj+d0/AL9Ag FxaAwyg5E4QZXyL6ZjtBht5qTxO2MUYB079eRRZBrKY39VgPjF03Sq1Sm/NjLirEi3Ug hjaklcQ+uCGnxHwuaYK+XZosmWcLwTJwOyOnmJxFWSne/hBQ6IrT1OKX30hMEkQ3AlyU CFzJAIPN0VQR/MxWncDYwfTKxPeFblrOmMvSJHfTxB7vkXpQgIwuDh6A8Q2qzyqeZI2u woTQ== X-Gm-Message-State: AOJu0Yx5jf8fxWgw+TuEVS3QhKPjGmrRQtuYFm6kPMww86I2ramSS7tZ zIuIu8e2OVSfH6CjCuyCNbvnKirKFqsHZBVsk8V6TgCGSViOqbOa25PAceIqTShW4luZP0OKxJ6 hFBfRr9u6i3NR4qleoWdeZz9a8z0aRIn/y05FBqP35WxdpSz/xAujlPRbi0/9 X-Gm-Gg: ASbGncuTDMAyti294DmzyD7b7h6lVs2kFPayWoYE3S0eFZSsGN8vKXfTCrKn6axIrvG 8X0sDk+kuHUr7HeAFvE2PW3Bfp33XhBs1q0f9m3hK8b/Xb7Smbokgs49QQI627GrYalEOMhhLCf Q82yy0bFHPRZb6B4hi+S1mBVXRhHZi2TCkvBGtSGtNdjqjYOdcr0JFeLNxp7MTEBHdaf+jjmp0e QmyNYbq6SzUkVIMkcEMd2hotm/qftcIiUYBO6afUWFXixsecaX+um15J8EAV4EG0FXKZBpFGvZv tMgEb5NehqC22F7wrgbFfxC9Drol4Zsmp4Wfx+i3Ax6iWNZUrA== X-Google-Smtp-Source: AGHT+IHgGND3x64bhkFZdPEf7C9qKIYV1TCf0rfaU08teWut4c8735DhZuINT5OX/0FHmwUCqmu137yxePFD X-Received: by 2002:a17:902:ea11:b0:272:56e:e296 with SMTP id d9443c01a7336-2818c873c7bmr7332875ad.30.1758918111501; Fri, 26 Sep 2025 13:21:51 -0700 (PDT) Received: from postal.iol.unh.edu (postal.iol.unh.edu. [2606:4100:3880:1234::84]) by smtp-relay.gmail.com with ESMTPS id d9443c01a7336-27ed66de8e4sm4282245ad.22.2025.09.26.13.21.51 (version=TLS1_2 cipher=ECDHE-ECDSA-AES128-GCM-SHA256 bits=128/128); Fri, 26 Sep 2025 13:21:51 -0700 (PDT) X-Relaying-Domain: iol.unh.edu Date: Fri, 26 Sep 2025 13:21:51 -0700 (PDT) Message-ID: <68d6f5df.170a0220.2bd7f9.8c87SMTPIN_ADDED_MISSING@mx.google.com> Received: from [172.21.0.5] (unknown [172.18.0.240]) by postal.iol.unh.edu (Postfix) with ESMTP id 041866051830; Fri, 26 Sep 2025 16:21:51 -0400 (EDT) Subject: |SUCCESS| pw157008-157009 [PATCH] [v3,2/2] crypto/ipsec-mb: use cons From: dpdklab@iol.unh.edu To: Test Report Cc: dpdk-test-reports@iol.unh.edu In-Reply-To: <20250926160209.56496-2-kai.ji@intel.com> References: <20250926160209.56496-2-kai.ji@intel.com> Content-Type: text/plain X-BeenThere: test-report@dpdk.org X-Mailman-Version: 2.1.29 Precedence: list List-Id: automatic DPDK test reports List-Unsubscribe: , List-Archive: List-Post: List-Help: List-Subscribe: , Errors-To: test-report-bounces@dpdk.org Test-Label: iol-compile-amd64-testing Test-Status: SUCCESS http://dpdk.org/patch/157009 _Testing PASS_ Submitter: Kai Ji Date: Friday, September 26 2025 16:02:09 DPDK git baseline: Repo:dpdk Branch: master CommitID:1d627ea13aeec2bcccf27246e6be2508370d171e 157008-157009 --> testing pass Upstream job id: Generic-DPDK-Compile-Meson#429094 Test environment and result as below: +-------------------------------+--------------------+------------------+-------------------+-------------------+-------------------------+----------------------+ | Environment | dpdk_meson_compile | dpdk_compile_ovs | dpdk_compile_spdk | dpdk_msvc_compile | dpdk_llvm_clang_compile | dpdk_mingw64_compile | +===============================+====================+==================+===================+===================+=========================+======================+ | Ubuntu 20.04 | PASS | SKIPPED | SKIPPED | SKIPPED | SKIPPED | SKIPPED | +-------------------------------+--------------------+------------------+-------------------+-------------------+-------------------------+----------------------+ | FreeBSD 14.2 | PASS | SKIPPED | SKIPPED | SKIPPED | SKIPPED | SKIPPED | +-------------------------------+--------------------+------------------+-------------------+-------------------+-------------------------+----------------------+ | Fedora Linux 42 | PASS | PASS | PASS | SKIPPED | SKIPPED | SKIPPED | +-------------------------------+--------------------+------------------+-------------------+-------------------+-------------------------+----------------------+ | CentOS Stream 9 | PASS | SKIPPED | PASS | SKIPPED | SKIPPED | SKIPPED | +-------------------------------+--------------------+------------------+-------------------+-------------------+-------------------------+----------------------+ | CentOS Stream 10 | PASS | SKIPPED | SKIPPED | SKIPPED | SKIPPED | SKIPPED | +-------------------------------+--------------------+------------------+-------------------+-------------------+-------------------------+----------------------+ | Debian GNU/Linux 12 | PASS | SKIPPED | PASS | SKIPPED | SKIPPED | SKIPPED | +-------------------------------+--------------------+------------------+-------------------+-------------------+-------------------------+----------------------+ | Red Hat Enterprise Linux 8.10 | PASS | SKIPPED | SKIPPED | SKIPPED | SKIPPED | SKIPPED | +-------------------------------+--------------------+------------------+-------------------+-------------------+-------------------------+----------------------+ | openSUSE Leap 15.6 | PASS | SKIPPED | SKIPPED | SKIPPED | SKIPPED | SKIPPED | +-------------------------------+--------------------+------------------+-------------------+-------------------+-------------------------+----------------------+ | Red Hat Enterprise Linux 9.5 | PASS | SKIPPED | SKIPPED | SKIPPED | SKIPPED | SKIPPED | +-------------------------------+--------------------+------------------+-------------------+-------------------+-------------------------+----------------------+ | Ubuntu 24.04 | PASS | PASS | PASS | SKIPPED | SKIPPED | SKIPPED | +-------------------------------+--------------------+------------------+-------------------+-------------------+-------------------------+----------------------+ | Alpine Linux 3.22.0 | PASS | SKIPPED | SKIPPED | SKIPPED | SKIPPED | SKIPPED | +-------------------------------+--------------------+------------------+-------------------+-------------------+-------------------------+----------------------+ | Ubuntu 22.04 | PASS | SKIPPED | PASS | SKIPPED | SKIPPED | SKIPPED | +-------------------------------+--------------------+------------------+-------------------+-------------------+-------------------------+----------------------+ | Windows Server 2022 | SKIPPED | SKIPPED | SKIPPED | PASS | PASS | PASS | +-------------------------------+--------------------+------------------+-------------------+-------------------+-------------------------+----------------------+ Ubuntu 20.04 Kernel: 4.19 Compiler: gcc gcc (Ubuntu 9.4.0-1ubuntu1~20.04.2) 9.4.0 FreeBSD 14.2 Kernel: 14.2-RELEASE Compiler: clang 18.1.6 Fedora Linux 42 Kernel: 5.15 Compiler: clang gcc (GCC) 15.2.1 20250808 (Red Hat 15.2.1-1) CentOS Stream 9 Kernel: 5.15 Compiler: gcc gcc (GCC) 11.5.0 20240719 (Red Hat 11.5.0-11) CentOS Stream 10 Kernel: 5.15 Compiler: gcc gcc (GCC) 14.2.1 20250110 (Red Hat 14.2.1-8) Debian GNU/Linux 12 Kernel: 5.15 Compiler: gcc gcc (Debian 12.2.0-14+deb12u1) 12.2.0 Red Hat Enterprise Linux 8.10 Kernel: 5.15 Compiler: gcc gcc (GCC) 8.5.0 20210514 (Red Hat 8.5.0-22) openSUSE Leap 15.6 Kernel: 5.15 Compiler: gcc gcc (SUSE Linux) 7.5.0 Red Hat Enterprise Linux 9.5 Kernel: 5.15 Compiler: gcc gcc (GCC) 11.5.0 20240719 (Red Hat 11.5.0-2) Ubuntu 24.04 Kernel: 5.15 Compiler: gcc gcc (Ubuntu 13.3.0-6ubuntu2~24.04) 13.3.0 Alpine Linux 3.22.0 Kernel: 5.15 Compiler: gcc gcc (Alpine 14.2.0) 14.2.0 Ubuntu 22.04 Kernel: 5.15 Compiler: gcc gcc (Ubuntu 11.4.0-1ubuntu1~22.04) 11.4.0 Windows Server 2022 Kernel: 10.0.20348.2031 Compiler: clang 15.0.7, gcc 14.1.0 (MinGW), and MSVC VS 19.39.33521 To view detailed results, visit: https://lab.dpdk.org/results/dashboard/patchsets/34161/ UNH-IOL DPDK Community Lab To manage your email subscriptions, visit: https://lab.dpdk.org/results/dashboard/preferences/subscriptions/