From mboxrd@z Thu Jan 1 00:00:00 1970 Return-Path: Received: from mails.dpdk.org (mails.dpdk.org [217.70.189.124]) by inbox.dpdk.org (Postfix) with ESMTP id 4CC6546F8D for ; Fri, 26 Sep 2025 22:21:58 +0200 (CEST) Received: from mails.dpdk.org (localhost [127.0.0.1]) by mails.dpdk.org (Postfix) with ESMTP id 459454064A; Fri, 26 Sep 2025 22:21:58 +0200 (CEST) Received: from mail-io1-f98.google.com (mail-io1-f98.google.com [209.85.166.98]) by mails.dpdk.org (Postfix) with ESMTP id 56F454069F for ; Fri, 26 Sep 2025 22:21:53 +0200 (CEST) Received: by mail-io1-f98.google.com with SMTP id ca18e2360f4ac-911afafcc20so46099039f.3 for ; Fri, 26 Sep 2025 13:21:53 -0700 (PDT) DKIM-Signature: v=1; a=rsa-sha256; c=relaxed/relaxed; d=iol.unh.edu; s=unh-iol; t=1758918112; x=1759522912; darn=dpdk.org; h=references:in-reply-to:cc:to:from:subject:message-id:date:from:to :cc:subject:date:message-id:reply-to; bh=V1z0xhD51W+ActBdce3doKlV1+xzRP8fA58HsOOftKY=; b=OidAvN95OcBmGQ8u9sg5eEj+fCn9gI5mw5xlb+Ymiy/rb/p8uj27mWmhc/uaB4pAXy mk+boE7bUo5YLX0fNi62zj8JqrZwMhn7GzoE8ha5lLmtx4OM0gF/e0C0lUC2wei1LUf/ Z1SH+0Suvm3SNy9mMPm7gJdiddp3JJ7A+wRwU= X-Google-DKIM-Signature: v=1; a=rsa-sha256; c=relaxed/relaxed; d=1e100.net; s=20230601; t=1758918112; x=1759522912; h=references:in-reply-to:cc:to:from:subject:message-id:date :x-gm-message-state:from:to:cc:subject:date:message-id:reply-to; bh=V1z0xhD51W+ActBdce3doKlV1+xzRP8fA58HsOOftKY=; b=ThtErkJvMBlCTwfgyvKFqID0yV7us9fHUBKxangZmFSykK58PujlEUVZ+uCfC9N49X RfiiU0vYlhm0q33AedXFLyB2j1wHiDJVajFECU5Z1fT84stkWBRg4gRurIwiTrTuYKPN pwZijV4lzixM0jZq0NzBbbHMmYv6iUXa85v44uAmrzptoOn1s8GiyZHdm5bgaNSsmOWQ Vbwax/bwF5tj4cIUTNJXiSYeFcPNjI8PWCK9yJDHM7HqfNbi03A0ks/0O8O9iAQQCgPx y/re4Fr8eq2Z2USb9taHvH29XC71ylF1/U1F1a9rVWoYTlJpwUUg4P86SQfQnyjob+SO 4qgg== X-Gm-Message-State: AOJu0YxEUWWC/OwZprzlupd+FQUmup4b/D4OxMfnY24AqpWVd9rMPYnf QJFwj/ECiOgyVczfHhOn5UWuWs29QVBHMrAETMOGN0vhEX+ntLSJJuEt5JwoJY/qwacNWUunN1q UiMSr5n4lrTq+YjnuY68BYY/astjueEH4j1j1dB3wciF5 X-Gm-Gg: ASbGncvE2i+dRlv74UmkA8IeXENEaoxH9rkKBVOOcDfWKOMAB6bVNso4xAbi/h6QIUd lpD+9oUSwgBpe0edakdz9uaQ2jLnReXrYXh/GwESK88KsRf7L8Yux9NXMAIEqKJvzThjXXnBn5H //aMEeIru1db6iL6WEx5rDWzmGlWuWo1vD6Wm7imhYltacec4wQbZ4r0LQILYVP4WIJn7qZJBOr 0TEM+71DIJE3i5zP/vVk4krRAPeFutMFdmL9iy1/xvc89Yp4V+7ey8U/+Ny3bYOul496cO27m9R 6vA0Is0UwQ498jom7L3hpz/k/qSqaMOIIZIZ/p/W1SbR/l3fSKKSLPU6Hc+YLVqcyluopDrv X-Google-Smtp-Source: AGHT+IF6OTkDrs1KRMC2aprKJanXJgWSp38IfvVUayrxyOBQUcsGQP4/jf9W4eaHwe6ikr96THSuwrZUxEQW X-Received: by 2002:a05:6602:6c14:b0:8a6:d20a:ef2 with SMTP id ca18e2360f4ac-9015baffc62mr1285566139f.5.1758918112584; Fri, 26 Sep 2025 13:21:52 -0700 (PDT) Received: from postal.iol.unh.edu (postal.iol.unh.edu. [132.177.123.84]) by smtp-relay.gmail.com with ESMTPS id ca18e2360f4ac-9040ecb3c38sm21101039f.10.2025.09.26.13.21.52 (version=TLS1_2 cipher=ECDHE-ECDSA-AES128-GCM-SHA256 bits=128/128); Fri, 26 Sep 2025 13:21:52 -0700 (PDT) X-Relaying-Domain: iol.unh.edu Date: Fri, 26 Sep 2025 13:21:52 -0700 (PDT) Message-ID: <68d6f5e0.5e0a0220.21d1d.c284SMTPIN_ADDED_MISSING@mx.google.com> Received: from [172.21.0.11] (unknown [172.18.0.240]) by postal.iol.unh.edu (Postfix) with ESMTP id 2769B6051830; Fri, 26 Sep 2025 16:21:52 -0400 (EDT) Subject: |SUCCESS| pw157010 [PATCH] net/bonding: rename global symbols From: dpdklab@iol.unh.edu To: Test Report Cc: dpdk-test-reports@iol.unh.edu, Stephen Hemminger In-Reply-To: <20250926161837.400929-1-stephen@networkplumber.org> References: <20250926161837.400929-1-stephen@networkplumber.org> Content-Type: text/plain X-BeenThere: test-report@dpdk.org X-Mailman-Version: 2.1.29 Precedence: list List-Id: automatic DPDK test reports List-Unsubscribe: , List-Archive: List-Post: List-Help: List-Subscribe: , Errors-To: test-report-bounces@dpdk.org Test-Label: iol-compile-amd64-testing Test-Status: SUCCESS http://dpdk.org/patch/157010 _Testing PASS_ Submitter: Stephen Hemminger Date: Friday, September 26 2025 16:18:37 DPDK git baseline: Repo:dpdk-next-net Branch: master CommitID:c1698355a8c527f256bd9571ff9b6ed7441dcbce 157010 --> testing pass Upstream job id: Generic-DPDK-Compile-Meson#429107 Test environment and result as below: +-------------------------------+--------------------+-------------------+-------------------+------------------+-------------------------+----------------------+ | Environment | dpdk_meson_compile | dpdk_msvc_compile | dpdk_compile_spdk | dpdk_compile_ovs | dpdk_llvm_clang_compile | dpdk_mingw64_compile | +===============================+====================+===================+===================+==================+=========================+======================+ | FreeBSD 14.2 | PASS | SKIPPED | SKIPPED | SKIPPED | SKIPPED | SKIPPED | +-------------------------------+--------------------+-------------------+-------------------+------------------+-------------------------+----------------------+ | Ubuntu 20.04 | PASS | SKIPPED | SKIPPED | SKIPPED | SKIPPED | SKIPPED | +-------------------------------+--------------------+-------------------+-------------------+------------------+-------------------------+----------------------+ | CentOS Stream 9 | PASS | SKIPPED | PASS | SKIPPED | SKIPPED | SKIPPED | +-------------------------------+--------------------+-------------------+-------------------+------------------+-------------------------+----------------------+ | CentOS Stream 10 | PASS | SKIPPED | SKIPPED | SKIPPED | SKIPPED | SKIPPED | +-------------------------------+--------------------+-------------------+-------------------+------------------+-------------------------+----------------------+ | Debian GNU/Linux 12 | PASS | SKIPPED | PASS | SKIPPED | SKIPPED | SKIPPED | +-------------------------------+--------------------+-------------------+-------------------+------------------+-------------------------+----------------------+ | Fedora Linux 42 | PASS | SKIPPED | PASS | PASS | SKIPPED | SKIPPED | +-------------------------------+--------------------+-------------------+-------------------+------------------+-------------------------+----------------------+ | openSUSE Leap 15.6 | PASS | SKIPPED | SKIPPED | SKIPPED | SKIPPED | SKIPPED | +-------------------------------+--------------------+-------------------+-------------------+------------------+-------------------------+----------------------+ | Red Hat Enterprise Linux 8.10 | PASS | SKIPPED | SKIPPED | SKIPPED | SKIPPED | SKIPPED | +-------------------------------+--------------------+-------------------+-------------------+------------------+-------------------------+----------------------+ | Red Hat Enterprise Linux 9.5 | PASS | SKIPPED | SKIPPED | SKIPPED | SKIPPED | SKIPPED | +-------------------------------+--------------------+-------------------+-------------------+------------------+-------------------------+----------------------+ | Ubuntu 22.04 | PASS | SKIPPED | PASS | SKIPPED | SKIPPED | SKIPPED | +-------------------------------+--------------------+-------------------+-------------------+------------------+-------------------------+----------------------+ | Ubuntu 24.04 | PASS | SKIPPED | PASS | PASS | SKIPPED | SKIPPED | +-------------------------------+--------------------+-------------------+-------------------+------------------+-------------------------+----------------------+ | Alpine Linux 3.22.0 | PASS | SKIPPED | SKIPPED | SKIPPED | SKIPPED | SKIPPED | +-------------------------------+--------------------+-------------------+-------------------+------------------+-------------------------+----------------------+ | Windows Server 2022 | SKIPPED | PASS | SKIPPED | SKIPPED | PASS | PASS | +-------------------------------+--------------------+-------------------+-------------------+------------------+-------------------------+----------------------+ FreeBSD 14.2 Kernel: 14.2-RELEASE Compiler: clang 18.1.6 Ubuntu 20.04 Kernel: 4.19 Compiler: gcc gcc (Ubuntu 9.4.0-1ubuntu1~20.04.2) 9.4.0 CentOS Stream 9 Kernel: 5.15 Compiler: gcc gcc (GCC) 11.5.0 20240719 (Red Hat 11.5.0-11) CentOS Stream 10 Kernel: 5.15 Compiler: gcc gcc (GCC) 14.2.1 20250110 (Red Hat 14.2.1-8) Debian GNU/Linux 12 Kernel: 5.15 Compiler: gcc gcc (Debian 12.2.0-14+deb12u1) 12.2.0 Fedora Linux 42 Kernel: 5.15 Compiler: clang gcc (GCC) 15.2.1 20250808 (Red Hat 15.2.1-1) openSUSE Leap 15.6 Kernel: 5.15 Compiler: gcc gcc (SUSE Linux) 7.5.0 Red Hat Enterprise Linux 8.10 Kernel: 5.15 Compiler: gcc gcc (GCC) 8.5.0 20210514 (Red Hat 8.5.0-22) Red Hat Enterprise Linux 9.5 Kernel: 5.15 Compiler: gcc gcc (GCC) 11.5.0 20240719 (Red Hat 11.5.0-2) Ubuntu 22.04 Kernel: 5.15 Compiler: gcc gcc (Ubuntu 11.4.0-1ubuntu1~22.04) 11.4.0 Ubuntu 24.04 Kernel: 5.15 Compiler: gcc gcc (Ubuntu 13.3.0-6ubuntu2~24.04) 13.3.0 Alpine Linux 3.22.0 Kernel: 5.15 Compiler: gcc gcc (Alpine 14.2.0) 14.2.0 Windows Server 2022 Kernel: 10.0.20348.2031 Compiler: clang 15.0.7, gcc 14.1.0 (MinGW), and MSVC VS 19.39.33521 To view detailed results, visit: https://lab.dpdk.org/results/dashboard/patchsets/34162/ UNH-IOL DPDK Community Lab To manage your email subscriptions, visit: https://lab.dpdk.org/results/dashboard/preferences/subscriptions/