From mboxrd@z Thu Jan 1 00:00:00 1970 Return-Path: Received: from mails.dpdk.org (mails.dpdk.org [217.70.189.124]) by inbox.dpdk.org (Postfix) with ESMTP id 6629746F8D for ; Fri, 26 Sep 2025 22:22:06 +0200 (CEST) Received: from mails.dpdk.org (localhost [127.0.0.1]) by mails.dpdk.org (Postfix) with ESMTP id 5637040277; Fri, 26 Sep 2025 22:22:06 +0200 (CEST) Received: from mail-io1-f97.google.com (mail-io1-f97.google.com [209.85.166.97]) by mails.dpdk.org (Postfix) with ESMTP id AD29D40277 for ; Fri, 26 Sep 2025 22:22:04 +0200 (CEST) Received: by mail-io1-f97.google.com with SMTP id ca18e2360f4ac-9158337ac22so72106839f.3 for ; Fri, 26 Sep 2025 13:22:04 -0700 (PDT) DKIM-Signature: v=1; a=rsa-sha256; c=relaxed/relaxed; d=iol.unh.edu; s=unh-iol; t=1758918124; x=1759522924; darn=dpdk.org; h=references:in-reply-to:cc:to:from:subject:message-id:date:from:to :cc:subject:date:message-id:reply-to; bh=wWS14MZHeAt8w1cuvF52YXC7obFk9l794WS2ke1cMW4=; b=ZMrQl8X8KJ+wpmoT9/GvoxeYnduGOz9nz35Sr0IVCHZH5xH2/1jPXwdZBS1n/bG6NY JI8KS4VjqEaNeuCR9NKc4J/m00KRmD5vhoK9GzE12aUfEpvKyV3CqeahiG5WQaLHQIhq W+5iJ1nRWJR5Qhj8wFMSEsxLnTt+9laQEeEQU= X-Google-DKIM-Signature: v=1; a=rsa-sha256; c=relaxed/relaxed; d=1e100.net; s=20230601; t=1758918124; x=1759522924; h=references:in-reply-to:cc:to:from:subject:message-id:date :x-gm-message-state:from:to:cc:subject:date:message-id:reply-to; bh=wWS14MZHeAt8w1cuvF52YXC7obFk9l794WS2ke1cMW4=; b=nxsDNxK0NqGmSO9aJAYFuGEAfmepbbh4OQgReaF4mg7mcQbL0yVLQgPkxCh02aCFKm E9Zq77jYc8dWD92hsJTjZIzs41KZhiaAhNFWULeLa+P57wdKiQT4UdWGpN+YTMQMtw5J edCMbieLRRo5LEF/lAcmkO9yerMIBwdImTz6g9s6rjw/6/GwN6WlLiRAaAALL/V7EuWz CSl8CzPNME9vJP3Zo2KoAmGnfvmWQJ590nyHI5Y5A4WjfrUAhQRV9mC4oo90GIU0nVBZ opGr1kgqmEVHm5kvBAlfxXghorryTrosT1ubLMIxpajeL2ruI4cpij1IdDsaEVwUtkwf quHQ== X-Gm-Message-State: AOJu0YzMRYnge1N85ispmomhuOelvLXQSEgc6R1+yvrLn0YbdpoRR42j HTQjxqa2SbLvJO7xEtFYMttazRPDwZ8PSQQgt4Z7QLNGI8BJOVAEwTg7ztbTRkFKgt2sAM2QTbO gdylt97MwSJd0OhjBINk1Nha523+U6oPKVLv4Knzlb32T X-Gm-Gg: ASbGncuhcnEM7/HntFk80tr2rdyvOJYx0ZvbMJTvYhpAJv62eUvMr/cDJa8R05cYoBr m8SeIrRprwemLY4FfxwNlfjzsmizVl+EiqrMOANjN6gImHPkizVzojCXoDsDRUlbzZ+TB0XXpey 1rLeqw0++o5K34EWgSkySCpX76BFIdoikTfemotK1Ww2NVgqBvsVYBGvqzV1N5ufNqVzeCHi9+N DfawDkuZcjlEZ5OIKKLyoCW48bmAGG9ew1KuYkZPRMkm30B9XDvkiRCOmTsIe7P+7qk1u+CjGzV KGToyz7A9ztZ6k/J5nkk8pQh9ktCvBcyWAUChv7cqNx4Lq4jpQnszCjc6SiD55C4F1kgxgiJ X-Google-Smtp-Source: AGHT+IGMcAQOLG7VjQWYiUtBQHlmAwWzVrMPNdUfT8lkpfzXpz+du/5aPdikbY2Ni6K/o32TFRW6eXKpaTWJ X-Received: by 2002:a05:6602:6b19:b0:8d8:6364:3ce7 with SMTP id ca18e2360f4ac-90f4922c741mr698716739f.9.1758918124055; Fri, 26 Sep 2025 13:22:04 -0700 (PDT) Received: from postal.iol.unh.edu (postal.iol.unh.edu. [132.177.123.84]) by smtp-relay.gmail.com with ESMTPS id ca18e2360f4ac-9040ecb39desm22647539f.12.2025.09.26.13.22.03 (version=TLS1_2 cipher=ECDHE-ECDSA-AES128-GCM-SHA256 bits=128/128); Fri, 26 Sep 2025 13:22:04 -0700 (PDT) X-Relaying-Domain: iol.unh.edu Date: Fri, 26 Sep 2025 13:22:04 -0700 (PDT) Message-ID: <68d6f5ec.050a0220.821ea.d010SMTPIN_ADDED_MISSING@mx.google.com> Received: from [172.21.0.2] (unknown [172.18.0.240]) by postal.iol.unh.edu (Postfix) with ESMTP id 8EEB06051830; Fri, 26 Sep 2025 16:22:03 -0400 (EDT) Subject: |SUCCESS| pw157010 [PATCH] net/bonding: rename global symbols From: dpdklab@iol.unh.edu To: Test Report Cc: dpdk-test-reports@iol.unh.edu, Stephen Hemminger In-Reply-To: <20250926161837.400929-1-stephen@networkplumber.org> References: <20250926161837.400929-1-stephen@networkplumber.org> Content-Type: text/plain X-BeenThere: test-report@dpdk.org X-Mailman-Version: 2.1.29 Precedence: list List-Id: automatic DPDK test reports List-Unsubscribe: , List-Archive: List-Post: List-Help: List-Subscribe: , Errors-To: test-report-bounces@dpdk.org Test-Label: iol-compile-amd64-testing Test-Status: SUCCESS http://dpdk.org/patch/157010 _Testing PASS_ Submitter: Stephen Hemminger Date: Friday, September 26 2025 16:18:37 DPDK git baseline: Repo:dpdk-next-net Branch: master CommitID:c1698355a8c527f256bd9571ff9b6ed7441dcbce 157010 --> testing pass Upstream job id: Generic-DPDK-Compile-Meson#429101 Test environment and result as below: +-------------------------------+--------------------+-------------------+-------------------+------------------+-------------------------+----------------------+ | Environment | dpdk_meson_compile | dpdk_msvc_compile | dpdk_compile_spdk | dpdk_compile_ovs | dpdk_llvm_clang_compile | dpdk_mingw64_compile | +===============================+====================+===================+===================+==================+=========================+======================+ | FreeBSD 14.2 | PASS | SKIPPED | SKIPPED | SKIPPED | SKIPPED | SKIPPED | +-------------------------------+--------------------+-------------------+-------------------+------------------+-------------------------+----------------------+ | Ubuntu 20.04 | PASS | SKIPPED | SKIPPED | SKIPPED | SKIPPED | SKIPPED | +-------------------------------+--------------------+-------------------+-------------------+------------------+-------------------------+----------------------+ | CentOS Stream 9 | PASS | SKIPPED | PASS | SKIPPED | SKIPPED | SKIPPED | +-------------------------------+--------------------+-------------------+-------------------+------------------+-------------------------+----------------------+ | CentOS Stream 10 | PASS | SKIPPED | SKIPPED | SKIPPED | SKIPPED | SKIPPED | +-------------------------------+--------------------+-------------------+-------------------+------------------+-------------------------+----------------------+ | Debian GNU/Linux 12 | PASS | SKIPPED | PASS | SKIPPED | SKIPPED | SKIPPED | +-------------------------------+--------------------+-------------------+-------------------+------------------+-------------------------+----------------------+ | Fedora Linux 42 | PASS | SKIPPED | PASS | PASS | SKIPPED | SKIPPED | +-------------------------------+--------------------+-------------------+-------------------+------------------+-------------------------+----------------------+ | openSUSE Leap 15.6 | PASS | SKIPPED | SKIPPED | SKIPPED | SKIPPED | SKIPPED | +-------------------------------+--------------------+-------------------+-------------------+------------------+-------------------------+----------------------+ | Red Hat Enterprise Linux 8.10 | PASS | SKIPPED | SKIPPED | SKIPPED | SKIPPED | SKIPPED | +-------------------------------+--------------------+-------------------+-------------------+------------------+-------------------------+----------------------+ | Red Hat Enterprise Linux 9.5 | PASS | SKIPPED | SKIPPED | SKIPPED | SKIPPED | SKIPPED | +-------------------------------+--------------------+-------------------+-------------------+------------------+-------------------------+----------------------+ | Ubuntu 22.04 | PASS | SKIPPED | PASS | SKIPPED | SKIPPED | SKIPPED | +-------------------------------+--------------------+-------------------+-------------------+------------------+-------------------------+----------------------+ | Ubuntu 24.04 | PASS | SKIPPED | PASS | PASS | SKIPPED | SKIPPED | +-------------------------------+--------------------+-------------------+-------------------+------------------+-------------------------+----------------------+ | Alpine Linux 3.22.0 | PASS | SKIPPED | SKIPPED | SKIPPED | SKIPPED | SKIPPED | +-------------------------------+--------------------+-------------------+-------------------+------------------+-------------------------+----------------------+ | Windows Server 2022 | SKIPPED | PASS | SKIPPED | SKIPPED | PASS | PASS | +-------------------------------+--------------------+-------------------+-------------------+------------------+-------------------------+----------------------+ FreeBSD 14.2 Kernel: 14.2-RELEASE Compiler: clang 18.1.6 Ubuntu 20.04 Kernel: 4.19 Compiler: gcc gcc (Ubuntu 9.4.0-1ubuntu1~20.04.2) 9.4.0 CentOS Stream 9 Kernel: 5.15 Compiler: gcc gcc (GCC) 11.5.0 20240719 (Red Hat 11.5.0-11) CentOS Stream 10 Kernel: 5.15 Compiler: gcc gcc (GCC) 14.2.1 20250110 (Red Hat 14.2.1-8) Debian GNU/Linux 12 Kernel: 5.15 Compiler: gcc gcc (Debian 12.2.0-14+deb12u1) 12.2.0 Fedora Linux 42 Kernel: 5.15 Compiler: clang gcc (GCC) 15.2.1 20250808 (Red Hat 15.2.1-1) openSUSE Leap 15.6 Kernel: 5.15 Compiler: gcc gcc (SUSE Linux) 7.5.0 Red Hat Enterprise Linux 8.10 Kernel: 5.15 Compiler: gcc gcc (GCC) 8.5.0 20210514 (Red Hat 8.5.0-22) Red Hat Enterprise Linux 9.5 Kernel: 5.15 Compiler: gcc gcc (GCC) 11.5.0 20240719 (Red Hat 11.5.0-2) Ubuntu 22.04 Kernel: 5.15 Compiler: gcc gcc (Ubuntu 11.4.0-1ubuntu1~22.04) 11.4.0 Ubuntu 24.04 Kernel: 5.15 Compiler: gcc gcc (Ubuntu 13.3.0-6ubuntu2~24.04) 13.3.0 Alpine Linux 3.22.0 Kernel: 5.15 Compiler: gcc gcc (Alpine 14.2.0) 14.2.0 Windows Server 2022 Kernel: 10.0.20348.2031 Compiler: clang 15.0.7, gcc 14.1.0 (MinGW), and MSVC VS 19.39.33521 To view detailed results, visit: https://lab.dpdk.org/results/dashboard/patchsets/34162/ UNH-IOL DPDK Community Lab To manage your email subscriptions, visit: https://lab.dpdk.org/results/dashboard/preferences/subscriptions/