From mboxrd@z Thu Jan 1 00:00:00 1970 Return-Path: Received: from mails.dpdk.org (mails.dpdk.org [217.70.189.124]) by inbox.dpdk.org (Postfix) with ESMTP id 7177646F8D for ; Fri, 26 Sep 2025 22:22:10 +0200 (CEST) Received: from mails.dpdk.org (localhost [127.0.0.1]) by mails.dpdk.org (Postfix) with ESMTP id 6D25740277; Fri, 26 Sep 2025 22:22:10 +0200 (CEST) Received: from mail-oo1-f100.google.com (mail-oo1-f100.google.com [209.85.161.100]) by mails.dpdk.org (Postfix) with ESMTP id 043E040277 for ; Fri, 26 Sep 2025 22:22:09 +0200 (CEST) Received: by mail-oo1-f100.google.com with SMTP id 006d021491bc7-631a5958ddbso944701eaf.2 for ; Fri, 26 Sep 2025 13:22:08 -0700 (PDT) DKIM-Signature: v=1; a=rsa-sha256; c=relaxed/relaxed; d=iol.unh.edu; s=unh-iol; t=1758918128; x=1759522928; darn=dpdk.org; h=references:in-reply-to:cc:to:from:subject:message-id:date:from:to :cc:subject:date:message-id:reply-to; bh=vlNcZc5dY/9qfYR+8AxOnkQb9ig1zEC+NRcI3pEtbGI=; b=cOtVbl5uYbpnLpUUbtj4SjFh3cvSdm281a6WsL3tIsKyzJ2lCXHdU6eHXUlUxgIW3O E9g/scOl4lXYgJhfsBMVviPzZN6qjykPsFZUyJO8Etjrgx65n8JqFhey7lTpvoGnFg8w P8wd/dNQeJ+H+weNEKEzqjP4UH3e7hJ0vvBMI= X-Google-DKIM-Signature: v=1; a=rsa-sha256; c=relaxed/relaxed; d=1e100.net; s=20230601; t=1758918128; x=1759522928; h=references:in-reply-to:cc:to:from:subject:message-id:date :x-gm-message-state:from:to:cc:subject:date:message-id:reply-to; bh=vlNcZc5dY/9qfYR+8AxOnkQb9ig1zEC+NRcI3pEtbGI=; b=OLbBpbh0Yg5rm+zAsOeCkCsAMnW3D0OjjC2JrMhm9EK04QpSY83D+oYBZ2Nkjh4ylB hubr68++0jG4n87TlLL3xVlL66bxbEJbAWG4OfrJTjiyHdzCzP3nGaBD7cjYG5CBJgUO MW/iFR8sxHf1d8aYhTRDonB5uSqSrw3Icwo8CIBJnQpq3LX9KLH63YILNTQItLX44OAH P5B3Kuh8zLbcKCH9kx7RNREzgpLxEyM6O5bSfUDAnqrAXNvpv5EQlElpoEYUa2N4rdZJ AnRzeHXXKPOtHp+jEd85raa6OxaeFRzIQ7zYH9qYmYV6rQ+AjaanCju8v14sWH8UJ0xV f5NQ== X-Gm-Message-State: AOJu0YxGk6s3eMrbSAKdstqYiMKBjoIjaUkzPi3+O4L5fRP57wWZBkYa +rPJyAB7yH/pTdJczNe9XEMKguxhIKxxXCkMOUt5OzpONTB4yG8HRCx1rtH35ZJZPAYW4UeUShf wrly6nTjWl4zB8zV5/3DBDwrVmuby6wz1svost5tM7Kfb X-Gm-Gg: ASbGnctw3saNmeZm2QsPZbJtBb30Z360U3NNIowm98LtwkgdKLPrmssnRsSZ5+/Sc6y 6MVnJae779DbWBMUKN2WZNOmfKv0Yx9oMNI1HTJptEUp/nTci1atnfQcEsgrmVEyGLNhgnVoDGu liSHYKnI7yQLdkaye9bawdnMtKbNbqBum6585hXQ528wjJ9EAMlo5xEVddm+9U65aElx7WlkzC8 zEez+9aapxs/9tdWtDTnhA4RvUiVjHy3pBXlVQcIiHA3H2KTI1C10girVEmMD6iJKAsWuKUIW2h Vxcv4cSSuxnt74BJu2NehsgJn/isEF0WV6smTn9eV9jH+WOHIKzZzx1XaQROCIowhm+98qhl X-Google-Smtp-Source: AGHT+IFq4Qrk7tKTj24WEmY2JxrEhGRxxGUN4SiLMetsQncnMhFLqDBEn5+CY8ACLXQWd8zht30AjBjrpfQR X-Received: by 2002:a05:6808:1797:b0:438:40c3:873f with SMTP id 5614622812f47-43f4cfc49d9mr4144879b6e.41.1758918128139; Fri, 26 Sep 2025 13:22:08 -0700 (PDT) Received: from postal.iol.unh.edu (postal.iol.unh.edu. [132.177.123.84]) by smtp-relay.gmail.com with ESMTPS id 006d021491bc7-640be271b19sm64729eaf.10.2025.09.26.13.22.08 (version=TLS1_2 cipher=ECDHE-ECDSA-AES128-GCM-SHA256 bits=128/128); Fri, 26 Sep 2025 13:22:08 -0700 (PDT) X-Relaying-Domain: iol.unh.edu Date: Fri, 26 Sep 2025 13:22:08 -0700 (PDT) Message-ID: <68d6f5f0.050a0220.185baf.37eaSMTPIN_ADDED_MISSING@mx.google.com> Received: from [172.21.0.3] (unknown [172.18.0.240]) by postal.iol.unh.edu (Postfix) with ESMTP id 401C66051830; Fri, 26 Sep 2025 16:22:07 -0400 (EDT) Subject: |SUCCESS| pw157010 [PATCH] net/bonding: rename global symbols From: dpdklab@iol.unh.edu To: Test Report Cc: dpdk-test-reports@iol.unh.edu, Stephen Hemminger In-Reply-To: <20250926161837.400929-1-stephen@networkplumber.org> References: <20250926161837.400929-1-stephen@networkplumber.org> Content-Type: text/plain X-BeenThere: test-report@dpdk.org X-Mailman-Version: 2.1.29 Precedence: list List-Id: automatic DPDK test reports List-Unsubscribe: , List-Archive: List-Post: List-Help: List-Subscribe: , Errors-To: test-report-bounces@dpdk.org Test-Label: iol-compile-amd64-testing Test-Status: SUCCESS http://dpdk.org/patch/157010 _Testing PASS_ Submitter: Stephen Hemminger Date: Friday, September 26 2025 16:18:37 DPDK git baseline: Repo:dpdk-next-net Branch: master CommitID:c1698355a8c527f256bd9571ff9b6ed7441dcbce 157010 --> testing pass Upstream job id: Generic-DPDK-Compile-Meson#429110 Test environment and result as below: +-------------------------------+--------------------+-------------------+-------------------+------------------+-------------------------+----------------------+ | Environment | dpdk_meson_compile | dpdk_msvc_compile | dpdk_compile_spdk | dpdk_compile_ovs | dpdk_llvm_clang_compile | dpdk_mingw64_compile | +===============================+====================+===================+===================+==================+=========================+======================+ | FreeBSD 14.2 | PASS | SKIPPED | SKIPPED | SKIPPED | SKIPPED | SKIPPED | +-------------------------------+--------------------+-------------------+-------------------+------------------+-------------------------+----------------------+ | Ubuntu 20.04 | PASS | SKIPPED | SKIPPED | SKIPPED | SKIPPED | SKIPPED | +-------------------------------+--------------------+-------------------+-------------------+------------------+-------------------------+----------------------+ | CentOS Stream 9 | PASS | SKIPPED | PASS | SKIPPED | SKIPPED | SKIPPED | +-------------------------------+--------------------+-------------------+-------------------+------------------+-------------------------+----------------------+ | CentOS Stream 10 | PASS | SKIPPED | SKIPPED | SKIPPED | SKIPPED | SKIPPED | +-------------------------------+--------------------+-------------------+-------------------+------------------+-------------------------+----------------------+ | Debian GNU/Linux 12 | PASS | SKIPPED | PASS | SKIPPED | SKIPPED | SKIPPED | +-------------------------------+--------------------+-------------------+-------------------+------------------+-------------------------+----------------------+ | Fedora Linux 42 | PASS | SKIPPED | PASS | PASS | SKIPPED | SKIPPED | +-------------------------------+--------------------+-------------------+-------------------+------------------+-------------------------+----------------------+ | openSUSE Leap 15.6 | PASS | SKIPPED | SKIPPED | SKIPPED | SKIPPED | SKIPPED | +-------------------------------+--------------------+-------------------+-------------------+------------------+-------------------------+----------------------+ | Red Hat Enterprise Linux 8.10 | PASS | SKIPPED | SKIPPED | SKIPPED | SKIPPED | SKIPPED | +-------------------------------+--------------------+-------------------+-------------------+------------------+-------------------------+----------------------+ | Red Hat Enterprise Linux 9.5 | PASS | SKIPPED | SKIPPED | SKIPPED | SKIPPED | SKIPPED | +-------------------------------+--------------------+-------------------+-------------------+------------------+-------------------------+----------------------+ | Ubuntu 22.04 | PASS | SKIPPED | PASS | SKIPPED | SKIPPED | SKIPPED | +-------------------------------+--------------------+-------------------+-------------------+------------------+-------------------------+----------------------+ | Ubuntu 24.04 | PASS | SKIPPED | PASS | PASS | SKIPPED | SKIPPED | +-------------------------------+--------------------+-------------------+-------------------+------------------+-------------------------+----------------------+ | Alpine Linux 3.22.0 | PASS | SKIPPED | SKIPPED | SKIPPED | SKIPPED | SKIPPED | +-------------------------------+--------------------+-------------------+-------------------+------------------+-------------------------+----------------------+ | Windows Server 2022 | SKIPPED | PASS | SKIPPED | SKIPPED | PASS | PASS | +-------------------------------+--------------------+-------------------+-------------------+------------------+-------------------------+----------------------+ FreeBSD 14.2 Kernel: 14.2-RELEASE Compiler: clang 18.1.6 Ubuntu 20.04 Kernel: 4.19 Compiler: gcc gcc (Ubuntu 9.4.0-1ubuntu1~20.04.2) 9.4.0 CentOS Stream 9 Kernel: 5.15 Compiler: gcc gcc (GCC) 11.5.0 20240719 (Red Hat 11.5.0-11) CentOS Stream 10 Kernel: 5.15 Compiler: gcc gcc (GCC) 14.2.1 20250110 (Red Hat 14.2.1-8) Debian GNU/Linux 12 Kernel: 5.15 Compiler: gcc gcc (Debian 12.2.0-14+deb12u1) 12.2.0 Fedora Linux 42 Kernel: 5.15 Compiler: clang gcc (GCC) 15.2.1 20250808 (Red Hat 15.2.1-1) openSUSE Leap 15.6 Kernel: 5.15 Compiler: gcc gcc (SUSE Linux) 7.5.0 Red Hat Enterprise Linux 8.10 Kernel: 5.15 Compiler: gcc gcc (GCC) 8.5.0 20210514 (Red Hat 8.5.0-22) Red Hat Enterprise Linux 9.5 Kernel: 5.15 Compiler: gcc gcc (GCC) 11.5.0 20240719 (Red Hat 11.5.0-2) Ubuntu 22.04 Kernel: 5.15 Compiler: gcc gcc (Ubuntu 11.4.0-1ubuntu1~22.04) 11.4.0 Ubuntu 24.04 Kernel: 5.15 Compiler: gcc gcc (Ubuntu 13.3.0-6ubuntu2~24.04) 13.3.0 Alpine Linux 3.22.0 Kernel: 5.15 Compiler: gcc gcc (Alpine 14.2.0) 14.2.0 Windows Server 2022 Kernel: 10.0.20348.2031 Compiler: clang 15.0.7, gcc 14.1.0 (MinGW), and MSVC VS 19.39.33521 To view detailed results, visit: https://lab.dpdk.org/results/dashboard/patchsets/34162/ UNH-IOL DPDK Community Lab To manage your email subscriptions, visit: https://lab.dpdk.org/results/dashboard/preferences/subscriptions/