From mboxrd@z Thu Jan 1 00:00:00 1970 Return-Path: Received: from mails.dpdk.org (mails.dpdk.org [217.70.189.124]) by inbox.dpdk.org (Postfix) with ESMTP id 91CC846F8D for ; Fri, 26 Sep 2025 22:23:08 +0200 (CEST) Received: from mails.dpdk.org (localhost [127.0.0.1]) by mails.dpdk.org (Postfix) with ESMTP id 8BEB940277; Fri, 26 Sep 2025 22:23:08 +0200 (CEST) Received: from mail-pl1-f225.google.com (mail-pl1-f225.google.com [209.85.214.225]) by mails.dpdk.org (Postfix) with ESMTP id 32AEE40277 for ; Fri, 26 Sep 2025 22:23:07 +0200 (CEST) Received: by mail-pl1-f225.google.com with SMTP id d9443c01a7336-279e2554c8fso26844895ad.2 for ; Fri, 26 Sep 2025 13:23:07 -0700 (PDT) DKIM-Signature: v=1; a=rsa-sha256; c=relaxed/relaxed; d=iol.unh.edu; s=unh-iol; t=1758918186; x=1759522986; darn=dpdk.org; h=references:in-reply-to:cc:to:from:subject:message-id:date:from:to :cc:subject:date:message-id:reply-to; bh=tyByLTcduUGsRaBccDXrpFmvPB/bzadpXHGJv3GdNto=; b=HxXYFsK4E8PhsAcv1FHyeFW//lSCA15py4WOhRu+SlzJhKs8aWwnAOqmBNeneEi3Y3 45+5Um8fetQ3z00XtlO5X9JVsy1c+fMsK8sU9hfYf7p3qljL9bmjD6inZ63m1ZUzjftu yDTHLO4OU5p3MERZ3TiMT994sCUcYMlFoD0YE= X-Google-DKIM-Signature: v=1; a=rsa-sha256; c=relaxed/relaxed; d=1e100.net; s=20230601; t=1758918186; x=1759522986; h=references:in-reply-to:cc:to:from:subject:message-id:date :x-gm-message-state:from:to:cc:subject:date:message-id:reply-to; bh=tyByLTcduUGsRaBccDXrpFmvPB/bzadpXHGJv3GdNto=; b=h7GtM6Cku9VBrtbXKKbD6wvMWy9/8IOX5i/euGXiDdWlhXD9tjUbVlwunqwskk7ZHv nCDS59PnSBL3Fqr9s9uS1KyVp1F14AyUoteUz53wRQx901CuVKJTaR2lJxgbY5LGof5G hpk/+m9jdplsM0lKGL0WeVWAfwEQ8o+ZcMaC8/xrQC6Odu6yq82N6Zf37XKmJiLAKXez QQyM5jgFnOgMBNohegYZ2QLh7BGrhxFv8iF6Z+hEVAq2S5rI5/qVyZOgGUUn1gl0WZFq wNkr8FLALpDUV4MRjjDgS3gircpujFGuWr6BuvB4NxmETK+QEhM36nDlUgnYa97mn+yq Xf9g== X-Gm-Message-State: AOJu0Ywz+bS2srNFyOSGEmkABGlRvpWfGixzjR/t6Fh/bWFV3nG3UTTq XAQ2pR17R+ib39EaHz/JcS3MfvCY/cUP+IDuzJ8FeGvK3q9Swf3mWPuvbqRPqtPmoN8ZnMbel63 w7KDVBq1Fae7RE9KpeF8MkUaRSIIxKwkEIBLpT/NzZcfU X-Gm-Gg: ASbGncsGmplN8TeK5Tco6ymI99kAgUHN9F1MQzowzT3BM81OFuqsm2PU0dcCOVgwJOC SFnuSrZ5SrA5zjnhLAyxayMJ7kwwC6juRz+jdk5SuHKt4L0oMy8m1rz6mCdA7RMGPMrFfXdFi8M Ts8Ib7lU71r0cERKcA35jNG4ZgWsfBSXb4kXcimCfs5Hyv6+yO9opu2V1+reumf6TKuKIk9jGbC yw+Q4h1s2fvhTnYmDJfEftOqoWkBS5M8jcRCqN4OsdmYeiFB297IjvG0tmuG5EL9v35sS3HH0v2 rJrDWcv/5brw6/QphzxYV/UDx0GTnKZ88xVk6ncReeaLkUa+ZS6gK0i60EIZtrrjvhvNChLm X-Google-Smtp-Source: AGHT+IGZu9XgdeQ0JxcFMA/kblU04s4xUwyt9ZiwXbD0VUrHKE5r0XIwopl8TQ18AK+SzIY/qAeuM/mjv8XJ X-Received: by 2002:a17:903:37cf:b0:27d:69de:edca with SMTP id d9443c01a7336-27ed4a16b89mr95926895ad.13.1758918186222; Fri, 26 Sep 2025 13:23:06 -0700 (PDT) Received: from postal.iol.unh.edu (postal.iol.unh.edu. [132.177.123.84]) by smtp-relay.gmail.com with ESMTPS id d9443c01a7336-27ed66e6554sm4341065ad.28.2025.09.26.13.23.06 (version=TLS1_2 cipher=ECDHE-ECDSA-AES128-GCM-SHA256 bits=128/128); Fri, 26 Sep 2025 13:23:06 -0700 (PDT) X-Relaying-Domain: iol.unh.edu Date: Fri, 26 Sep 2025 13:23:06 -0700 (PDT) Message-ID: <68d6f62a.170a0220.34ba59.a133SMTPIN_ADDED_MISSING@mx.google.com> Received: from [172.21.0.3] (unknown [172.18.0.240]) by postal.iol.unh.edu (Postfix) with ESMTP id 7771F6051830; Fri, 26 Sep 2025 16:23:05 -0400 (EDT) Subject: |SUCCESS| pw157011-157013 [PATCH] [RFC,3/3] net/ntnic: make flow_loc From: dpdklab@iol.unh.edu To: Test Report Cc: dpdk-test-reports@iol.unh.edu, Stephen Hemminger In-Reply-To: <20250926162534.401577-4-stephen@networkplumber.org> References: <20250926162534.401577-4-stephen@networkplumber.org> Content-Type: text/plain X-BeenThere: test-report@dpdk.org X-Mailman-Version: 2.1.29 Precedence: list List-Id: automatic DPDK test reports List-Unsubscribe: , List-Archive: List-Post: List-Help: List-Subscribe: , Errors-To: test-report-bounces@dpdk.org Test-Label: iol-compile-amd64-testing Test-Status: SUCCESS http://dpdk.org/patch/157013 _Testing PASS_ Submitter: Stephen Hemminger Date: Friday, September 26 2025 16:24:48 DPDK git baseline: Repo:dpdk-next-net Branch: master CommitID:c1698355a8c527f256bd9571ff9b6ed7441dcbce 157011-157013 --> testing pass Upstream job id: Generic-DPDK-Compile-Meson#429128 Test environment and result as below: +-------------------------------+--------------------+-------------------+-------------------+------------------+-------------------------+----------------------+ | Environment | dpdk_meson_compile | dpdk_msvc_compile | dpdk_compile_spdk | dpdk_compile_ovs | dpdk_llvm_clang_compile | dpdk_mingw64_compile | +===============================+====================+===================+===================+==================+=========================+======================+ | Ubuntu 20.04 | PASS | SKIPPED | SKIPPED | SKIPPED | SKIPPED | SKIPPED | +-------------------------------+--------------------+-------------------+-------------------+------------------+-------------------------+----------------------+ | FreeBSD 14.2 | PASS | SKIPPED | SKIPPED | SKIPPED | SKIPPED | SKIPPED | +-------------------------------+--------------------+-------------------+-------------------+------------------+-------------------------+----------------------+ | CentOS Stream 9 | PASS | SKIPPED | PASS | SKIPPED | SKIPPED | SKIPPED | +-------------------------------+--------------------+-------------------+-------------------+------------------+-------------------------+----------------------+ | CentOS Stream 10 | PASS | SKIPPED | SKIPPED | SKIPPED | SKIPPED | SKIPPED | +-------------------------------+--------------------+-------------------+-------------------+------------------+-------------------------+----------------------+ | Debian GNU/Linux 12 | PASS | SKIPPED | PASS | SKIPPED | SKIPPED | SKIPPED | +-------------------------------+--------------------+-------------------+-------------------+------------------+-------------------------+----------------------+ | Fedora Linux 42 | PASS | SKIPPED | PASS | PASS | SKIPPED | SKIPPED | +-------------------------------+--------------------+-------------------+-------------------+------------------+-------------------------+----------------------+ | openSUSE Leap 15.6 | PASS | SKIPPED | SKIPPED | SKIPPED | SKIPPED | SKIPPED | +-------------------------------+--------------------+-------------------+-------------------+------------------+-------------------------+----------------------+ | Red Hat Enterprise Linux 8.10 | PASS | SKIPPED | SKIPPED | SKIPPED | SKIPPED | SKIPPED | +-------------------------------+--------------------+-------------------+-------------------+------------------+-------------------------+----------------------+ | Red Hat Enterprise Linux 9.5 | PASS | SKIPPED | SKIPPED | SKIPPED | SKIPPED | SKIPPED | +-------------------------------+--------------------+-------------------+-------------------+------------------+-------------------------+----------------------+ | Ubuntu 22.04 | PASS | SKIPPED | PASS | SKIPPED | SKIPPED | SKIPPED | +-------------------------------+--------------------+-------------------+-------------------+------------------+-------------------------+----------------------+ | Ubuntu 24.04 | PASS | SKIPPED | PASS | PASS | SKIPPED | SKIPPED | +-------------------------------+--------------------+-------------------+-------------------+------------------+-------------------------+----------------------+ | Alpine Linux 3.22.0 | PASS | SKIPPED | SKIPPED | SKIPPED | SKIPPED | SKIPPED | +-------------------------------+--------------------+-------------------+-------------------+------------------+-------------------------+----------------------+ | Windows Server 2022 | SKIPPED | PASS | SKIPPED | SKIPPED | PASS | PASS | +-------------------------------+--------------------+-------------------+-------------------+------------------+-------------------------+----------------------+ Ubuntu 20.04 Kernel: 4.19 Compiler: gcc gcc (Ubuntu 9.4.0-1ubuntu1~20.04.2) 9.4.0 FreeBSD 14.2 Kernel: 14.2-RELEASE Compiler: clang 18.1.6 CentOS Stream 9 Kernel: 5.15 Compiler: gcc gcc (GCC) 11.5.0 20240719 (Red Hat 11.5.0-11) CentOS Stream 10 Kernel: 5.15 Compiler: gcc gcc (GCC) 14.2.1 20250110 (Red Hat 14.2.1-8) Debian GNU/Linux 12 Kernel: 5.15 Compiler: gcc gcc (Debian 12.2.0-14+deb12u1) 12.2.0 Fedora Linux 42 Kernel: 5.15 Compiler: clang gcc (GCC) 15.2.1 20250808 (Red Hat 15.2.1-1) openSUSE Leap 15.6 Kernel: 5.15 Compiler: gcc gcc (SUSE Linux) 7.5.0 Red Hat Enterprise Linux 8.10 Kernel: 5.15 Compiler: gcc gcc (GCC) 8.5.0 20210514 (Red Hat 8.5.0-22) Red Hat Enterprise Linux 9.5 Kernel: 5.15 Compiler: gcc gcc (GCC) 11.5.0 20240719 (Red Hat 11.5.0-2) Ubuntu 22.04 Kernel: 5.15 Compiler: gcc gcc (Ubuntu 11.4.0-1ubuntu1~22.04) 11.4.0 Ubuntu 24.04 Kernel: 5.15 Compiler: gcc gcc (Ubuntu 13.3.0-6ubuntu2~24.04) 13.3.0 Alpine Linux 3.22.0 Kernel: 5.15 Compiler: gcc gcc (Alpine 14.2.0) 14.2.0 Windows Server 2022 Kernel: 10.0.20348.2031 Compiler: clang 15.0.7, gcc 14.1.0 (MinGW), and MSVC VS 19.39.33521 To view detailed results, visit: https://lab.dpdk.org/results/dashboard/patchsets/34163/ UNH-IOL DPDK Community Lab To manage your email subscriptions, visit: https://lab.dpdk.org/results/dashboard/preferences/subscriptions/