From mboxrd@z Thu Jan 1 00:00:00 1970 Return-Path: Received: from mails.dpdk.org (mails.dpdk.org [217.70.189.124]) by inbox.dpdk.org (Postfix) with ESMTP id 9A7BD46F8D for ; Fri, 26 Sep 2025 22:44:55 +0200 (CEST) Received: from mails.dpdk.org (localhost [127.0.0.1]) by mails.dpdk.org (Postfix) with ESMTP id 9564240277; Fri, 26 Sep 2025 22:44:55 +0200 (CEST) Received: from mail-oa1-f98.google.com (mail-oa1-f98.google.com [209.85.160.98]) by mails.dpdk.org (Postfix) with ESMTP id DFE4040277 for ; Fri, 26 Sep 2025 22:44:54 +0200 (CEST) Received: by mail-oa1-f98.google.com with SMTP id 586e51a60fabf-30cce534a91so1247296fac.0 for ; Fri, 26 Sep 2025 13:44:54 -0700 (PDT) DKIM-Signature: v=1; a=rsa-sha256; c=relaxed/relaxed; d=iol.unh.edu; s=unh-iol; t=1758919494; x=1759524294; darn=dpdk.org; h=references:in-reply-to:cc:to:from:subject:message-id:date:from:to :cc:subject:date:message-id:reply-to; bh=L86bH/ZuKi9zBBDJODxYrsaSDzlaUzAm4vTs8y6xZug=; b=gaq/yO8bOZl3bGInv12ukhntpWJfza9cA9xbE+lmBzxQ4Qw0noyzTGyQglqk25xzeR WwJDSyE4LHs7Fp+KRvYGjvf0JXMUxDDT1R2fCVmIXdNIDysWDfYJkvTWsu5O+hehDUEq g/XAobgT79Utiu8q1QTLO9J/Aj9QlkrTStQJs= X-Google-DKIM-Signature: v=1; a=rsa-sha256; c=relaxed/relaxed; d=1e100.net; s=20230601; t=1758919494; x=1759524294; h=references:in-reply-to:cc:to:from:subject:message-id:date :x-gm-message-state:from:to:cc:subject:date:message-id:reply-to; bh=L86bH/ZuKi9zBBDJODxYrsaSDzlaUzAm4vTs8y6xZug=; b=opjfROKdCwLkdftdNbtRsjNLm1w6gVq+KbDmnT8cpSURSARAV3TVxCt42hT4A2ATVo rJXrfJTxeKjc1jhgZH+LMjoGp1/HiqCUGYsO2vBvlGfZncu3vwEZcqQ5XVxU0qCPQ6nW YwLnGfTMt4gjpdGVQb1EIhSMqJ2lpupQS1TIMVwRF4G3yVtQ2hHJBwbLwWFx3HWKAETd SOTJHfyPzRiDTWAr2jhvp6hnlovD5XBQyzxPdS/s/kToAyJTZPn1EifYOdPvlN8J/XZO EIZeoYPzwyk9Npq2wpBPV+GpJrUiTkGZFV7EIJzIG7hjoHlZNTgwl5lmzElUQIR/j3xd PPKg== X-Gm-Message-State: AOJu0YxzPkBGRFMSiF6p3Qos6hffos3uUHWXNNsRYcRAELeifxjnLJaj IgQlk/ql4Et2YiqrgII6OJHdPWvC2pCC5hyrpf/dxRXlyjSYhIxnJLf5AnHPSK/TFGuU+ubzYfA 54kSM2cB1/h8Vq7tnAujxNgpyWl7Rfs/wae6gS7vinbCu X-Gm-Gg: ASbGncuOKAevuVjYN7lZUoFs5j1NdH3KtY19Fl6w6/ZlXPn/GlIhDDQIpG3VeL920+T 1EiWbJBGwo20AIBhcZBNwoZLLGx3U1jx11IJhdlVmekLiBXtcgaTRqGIVvBZsXRLjCcntv2P2++ L3MAdJvdKfDGicd5vf/7J7h4vy+QckixShti47D41WQmTWNvLEKHeQBXm0K73bGM4VtWWM66eE8 4V8mCYCIpXDpUtjzKuNrS828qsARyuvZe5JPRFgcZA66z+XdvWqU6JxtDQWcO0J7pY6iIHl4U/+ wS4XSO+562TffCT+P8kJ7eGQ9CMnmP3Kg7fcjK+ghcr0B31CNXywIDrHbmcxPmFNnockp8xb X-Google-Smtp-Source: AGHT+IFsGZADBjj3Jqm/fozTkF99xAWgcWqMB8nb1LcxW2fW29+Y/xepwjFpJa14V4DCWJyIZcIac0dDP+m1 X-Received: by 2002:a05:6870:e135:b0:35d:a9e2:fbd1 with SMTP id 586e51a60fabf-35ec26753d8mr4834340fac.21.1758919494155; Fri, 26 Sep 2025 13:44:54 -0700 (PDT) Received: from postal.iol.unh.edu (postal.iol.unh.edu. [132.177.123.84]) by smtp-relay.gmail.com with ESMTPS id 586e51a60fabf-36fbbd60661sm179682fac.12.2025.09.26.13.44.54 (version=TLS1_2 cipher=ECDHE-ECDSA-AES128-GCM-SHA256 bits=128/128); Fri, 26 Sep 2025 13:44:54 -0700 (PDT) X-Relaying-Domain: iol.unh.edu Date: Fri, 26 Sep 2025 13:44:54 -0700 (PDT) Message-ID: <68d6fb46.050a0220.e0d1a.9ec4SMTPIN_ADDED_MISSING@mx.google.com> Received: from [172.21.0.2] (unknown [172.18.0.240]) by postal.iol.unh.edu (Postfix) with ESMTP id C08036051830; Fri, 26 Sep 2025 16:44:52 -0400 (EDT) Subject: |SUCCESS| pw157011-157013 [PATCH] [RFC,3/3] net/ntnic: make flow_loc From: dpdklab@iol.unh.edu To: Test Report Cc: dpdk-test-reports@iol.unh.edu, Stephen Hemminger In-Reply-To: <20250926162534.401577-4-stephen@networkplumber.org> References: <20250926162534.401577-4-stephen@networkplumber.org> Content-Type: text/plain X-BeenThere: test-report@dpdk.org X-Mailman-Version: 2.1.29 Precedence: list List-Id: automatic DPDK test reports List-Unsubscribe: , List-Archive: List-Post: List-Help: List-Subscribe: , Errors-To: test-report-bounces@dpdk.org Test-Label: iol-unit-amd64-testing Test-Status: SUCCESS http://dpdk.org/patch/157013 _Testing PASS_ Submitter: Stephen Hemminger Date: Friday, September 26 2025 16:24:48 DPDK git baseline: Repo:dpdk-next-net Branch: master CommitID:c1698355a8c527f256bd9571ff9b6ed7441dcbce 157011-157013 --> testing pass Upstream job id: Generic-Unit-Test-DPDK#375618 Test environment and result as below: +-------------------------------+----------------+ | Environment | dpdk_unit_test | +===============================+================+ | CentOS Stream 9 | PASS | +-------------------------------+----------------+ | Debian GNU/Linux 12 | PASS | +-------------------------------+----------------+ | CentOS Stream 10 | PASS | +-------------------------------+----------------+ | Fedora Linux 40 | PASS | +-------------------------------+----------------+ | Fedora Linux 41 | PASS | +-------------------------------+----------------+ | Fedora Linux 42 | PASS | +-------------------------------+----------------+ | Red Hat Enterprise Linux 8.10 | PASS | +-------------------------------+----------------+ | Ubuntu 20.04 | PASS | +-------------------------------+----------------+ | Ubuntu 24.04 | PASS | +-------------------------------+----------------+ | Ubuntu 22.04 | PASS | +-------------------------------+----------------+ | Red Hat Enterprise Linux 9.5 | PASS | +-------------------------------+----------------+ | Windows Server 2022 | PASS | +-------------------------------+----------------+ CentOS Stream 9 Kernel: 5.15 Compiler: gcc gcc (GCC) 11.5.0 20240719 (Red Hat 11.5.0-11) Debian GNU/Linux 12 Kernel: 5.15 Compiler: gcc gcc (Debian 12.2.0-14+deb12u1) 12.2.0 CentOS Stream 10 Kernel: 5.15 Compiler: gcc gcc (GCC) 14.2.1 20250110 (Red Hat 14.2.1-8) Fedora Linux 40 Kernel: 5.15 Compiler: gcc gcc (GCC) 14.2.1 20240912 (Red Hat 14.2.1-3) Fedora Linux 41 Kernel: 5.15 Compiler: clang gcc (GCC) 14.3.1 20250523 (Red Hat 14.3.1-1) Fedora Linux 42 Kernel: 5.15 Compiler: gcc gcc (GCC) 15.2.1 20250808 (Red Hat 15.2.1-1) Red Hat Enterprise Linux 8.10 Kernel: 5.15 Compiler: gcc gcc (GCC) 8.5.0 20210514 (Red Hat 8.5.0-22) Ubuntu 20.04 Kernel: 5.15 Compiler: gcc gcc (Ubuntu 9.4.0-1ubuntu1~20.04.2) 9.4.0 Ubuntu 24.04 Kernel: 5.15 Compiler: gcc gcc (Ubuntu 13.3.0-6ubuntu2~24.04) 13.3.0 Ubuntu 22.04 Kernel: 5.15 Compiler: gcc gcc (Ubuntu 11.4.0-1ubuntu1~22.04) 11.4.0 Red Hat Enterprise Linux 9.5 Kernel: 5.15 Compiler: gcc gcc (GCC) 11.5.0 20240719 (Red Hat 11.5.0-2) Windows Server 2022 Kernel: 10.0.20348.2031 Compiler: clang 15.0.7, gcc 14.1.0 (MinGW), and MSVC VS 19.39.33521 To view detailed results, visit: https://lab.dpdk.org/results/dashboard/patchsets/34163/ UNH-IOL DPDK Community Lab To manage your email subscriptions, visit: https://lab.dpdk.org/results/dashboard/preferences/subscriptions/