From mboxrd@z Thu Jan 1 00:00:00 1970 Return-Path: Received: from mails.dpdk.org (mails.dpdk.org [217.70.189.124]) by inbox.dpdk.org (Postfix) with ESMTP id 1AEB546F8D for ; Fri, 26 Sep 2025 22:51:48 +0200 (CEST) Received: from mails.dpdk.org (localhost [127.0.0.1]) by mails.dpdk.org (Postfix) with ESMTP id 165584069F; Fri, 26 Sep 2025 22:51:48 +0200 (CEST) Received: from mail-yw1-f225.google.com (mail-yw1-f225.google.com [209.85.128.225]) by mails.dpdk.org (Postfix) with ESMTP id 046CB409FA for ; Fri, 26 Sep 2025 22:51:47 +0200 (CEST) Received: by mail-yw1-f225.google.com with SMTP id 00721157ae682-76c144b06fdso19000277b3.3 for ; Fri, 26 Sep 2025 13:51:46 -0700 (PDT) DKIM-Signature: v=1; a=rsa-sha256; c=relaxed/relaxed; d=iol.unh.edu; s=unh-iol; t=1758919906; x=1759524706; darn=dpdk.org; h=references:in-reply-to:cc:to:from:subject:message-id:date:from:to :cc:subject:date:message-id:reply-to; bh=ju+41ecPGIrfptmfmkrQTIEdfkJNqct4d3XRmBgihqw=; b=gln74Pcwe1Y2hp4XksQKRPSFzO4OLSN8P54WHB6MbCdIaDNUUm1VWe+HcqIPheBBb7 hRePIniKD6l8TwMhfufJl6bH2nsrbddmDrU/YeMzWsGXM4Sht4X15VJAXTj6khHJ/R4v aMLjH3KARMD0ucDGZRh2bY6THuEoLjUXhBRIs= X-Google-DKIM-Signature: v=1; a=rsa-sha256; c=relaxed/relaxed; d=1e100.net; s=20230601; t=1758919906; x=1759524706; h=references:in-reply-to:cc:to:from:subject:message-id:date :x-gm-message-state:from:to:cc:subject:date:message-id:reply-to; bh=ju+41ecPGIrfptmfmkrQTIEdfkJNqct4d3XRmBgihqw=; b=vWAX7BmzM1L2ulhFhwfQI21MnwS3/wV5fYA/tovGpl9wNinYREnh2SeFbplTqWMB03 /b6eDn1xhnaZLihLe4l4HJwTTlmGaRZc9CG9fw6T1vGafobnEj4IcaWwH1P9o5H7HYEe ddPasPx2ucMWPD+LLTSQPo9ztovQ/HB/Bl22vwgmomBfBX4Lx0NUppV2WIYinvL/3yJX 5PP42D431IzgkvnlAhoLzaAdzm6DRtb6AFaYhEYAALEGCOmZgeeCTFcfPcZASBLJBCqO H6WDQeSA3Zq1qNV/jWjI45p63slWsaSJ80gkpQ3kFLMaOo5zTvjxfj+P2qtq3hmUY3PE GNXw== X-Gm-Message-State: AOJu0YzXc+Pt9ul5Kt3tp9JaWYC9/yNcP5YQyena2tTFNb380L7fIq8T cXL3MCZ+U/wHociWQhv1mGpllo5yIyjvXQdrso6Qax9AzvkNMennxNZTeuK8cVmayWllc+J7Dzq taoh5+il9KJlGUOxDx8hQFR7fTjzRk9jPgXzkH4AKH5NFXXPS+lAnOhSXfdJx X-Gm-Gg: ASbGncuXyBW/tOjvadZLbnJe3kGoclI0O8L+i6lN3sEP3DUZW4keg/ovxa6na4gVcZP 2dS04F4MVj4Qfl9A7EnQsUdyzB7cr96P56qTF53Y0rdTHbTqYrjBBqXatiAAyxtBQZcrE00h3ZN /VCPvBsXw7zv1roBCeIjepEh2JKa1zm4Jokl1zh930nMPzxzhyJkapU7gWiDArqggG+wlSJ65dh R2o964J0oBIicWv9ADalWgcxlOLd3umJBsFH6q2aUI61HDLAZE1LwZ08d+HouloGF1rzqtr8a+b yPKMVUOR8dGXl+Kz5nEBBHgyO7rBGCnG8+ypeblv4o83/Yraiw== X-Google-Smtp-Source: AGHT+IFq9MadjXoVQS2AvxokBcE4FxVKoN8PCBb4aE/r5630M/nSWHHHu9taaT24om6y2P/kcciajK0oj4b1 X-Received: by 2002:a05:690c:670e:b0:771:ae53:127f with SMTP id 00721157ae682-771ae531a5bmr20315427b3.45.1758919906296; Fri, 26 Sep 2025 13:51:46 -0700 (PDT) Received: from postal.iol.unh.edu (postal.iol.unh.edu. [2606:4100:3880:1234::84]) by smtp-relay.gmail.com with ESMTPS id 00721157ae682-765d07f7f64sm2810727b3.20.2025.09.26.13.51.46 (version=TLS1_2 cipher=ECDHE-ECDSA-AES128-GCM-SHA256 bits=128/128); Fri, 26 Sep 2025 13:51:46 -0700 (PDT) X-Relaying-Domain: iol.unh.edu Date: Fri, 26 Sep 2025 13:51:46 -0700 (PDT) Message-ID: <68d6fce2.050a0220.23d6b1.0133SMTPIN_ADDED_MISSING@mx.google.com> Received: from [172.21.0.2] (unknown [172.18.0.240]) by postal.iol.unh.edu (Postfix) with ESMTP id D6F996051830; Fri, 26 Sep 2025 16:51:45 -0400 (EDT) Subject: |SUCCESS| pw157014 [PATCH] [RFC] net/ark: use ark_ prefix on on glob From: dpdklab@iol.unh.edu To: Test Report Cc: dpdk-test-reports@iol.unh.edu, Stephen Hemminger In-Reply-To: <20250926163519.430680-1-stephen@networkplumber.org> References: <20250926163519.430680-1-stephen@networkplumber.org> Content-Type: text/plain X-BeenThere: test-report@dpdk.org X-Mailman-Version: 2.1.29 Precedence: list List-Id: automatic DPDK test reports List-Unsubscribe: , List-Archive: List-Post: List-Help: List-Subscribe: , Errors-To: test-report-bounces@dpdk.org Test-Label: iol-compile-amd64-testing Test-Status: SUCCESS http://dpdk.org/patch/157014 _Testing PASS_ Submitter: Stephen Hemminger Date: Friday, September 26 2025 16:35:19 DPDK git baseline: Repo:dpdk-next-net Branch: master CommitID:c1698355a8c527f256bd9571ff9b6ed7441dcbce 157014 --> testing pass Upstream job id: Generic-DPDK-Compile-Meson#429156 Test environment and result as below: +-------------------------------+--------------------+-------------------+------------------+-------------------+-------------------------+----------------------+ | Environment | dpdk_meson_compile | dpdk_compile_spdk | dpdk_compile_ovs | dpdk_msvc_compile | dpdk_llvm_clang_compile | dpdk_mingw64_compile | +===============================+====================+===================+==================+===================+=========================+======================+ | Ubuntu 20.04 | PASS | SKIPPED | SKIPPED | SKIPPED | SKIPPED | SKIPPED | +-------------------------------+--------------------+-------------------+------------------+-------------------+-------------------------+----------------------+ | FreeBSD 14.2 | PASS | SKIPPED | SKIPPED | SKIPPED | SKIPPED | SKIPPED | +-------------------------------+--------------------+-------------------+------------------+-------------------+-------------------------+----------------------+ | CentOS Stream 9 | PASS | PASS | SKIPPED | SKIPPED | SKIPPED | SKIPPED | +-------------------------------+--------------------+-------------------+------------------+-------------------+-------------------------+----------------------+ | CentOS Stream 10 | PASS | SKIPPED | SKIPPED | SKIPPED | SKIPPED | SKIPPED | +-------------------------------+--------------------+-------------------+------------------+-------------------+-------------------------+----------------------+ | Debian GNU/Linux 12 | PASS | PASS | SKIPPED | SKIPPED | SKIPPED | SKIPPED | +-------------------------------+--------------------+-------------------+------------------+-------------------+-------------------------+----------------------+ | Fedora Linux 42 | PASS | PASS | PASS | SKIPPED | SKIPPED | SKIPPED | +-------------------------------+--------------------+-------------------+------------------+-------------------+-------------------------+----------------------+ | openSUSE Leap 15.6 | PASS | SKIPPED | SKIPPED | SKIPPED | SKIPPED | SKIPPED | +-------------------------------+--------------------+-------------------+------------------+-------------------+-------------------------+----------------------+ | Red Hat Enterprise Linux 8.10 | PASS | SKIPPED | SKIPPED | SKIPPED | SKIPPED | SKIPPED | +-------------------------------+--------------------+-------------------+------------------+-------------------+-------------------------+----------------------+ | Red Hat Enterprise Linux 9.5 | PASS | SKIPPED | SKIPPED | SKIPPED | SKIPPED | SKIPPED | +-------------------------------+--------------------+-------------------+------------------+-------------------+-------------------------+----------------------+ | Ubuntu 22.04 | PASS | PASS | SKIPPED | SKIPPED | SKIPPED | SKIPPED | +-------------------------------+--------------------+-------------------+------------------+-------------------+-------------------------+----------------------+ | Ubuntu 24.04 | PASS | PASS | PASS | SKIPPED | SKIPPED | SKIPPED | +-------------------------------+--------------------+-------------------+------------------+-------------------+-------------------------+----------------------+ | Alpine Linux 3.22.0 | PASS | SKIPPED | SKIPPED | SKIPPED | SKIPPED | SKIPPED | +-------------------------------+--------------------+-------------------+------------------+-------------------+-------------------------+----------------------+ | Windows Server 2022 | SKIPPED | SKIPPED | SKIPPED | PASS | PASS | PASS | +-------------------------------+--------------------+-------------------+------------------+-------------------+-------------------------+----------------------+ Ubuntu 20.04 Kernel: 4.19 Compiler: gcc gcc (Ubuntu 9.4.0-1ubuntu1~20.04.2) 9.4.0 FreeBSD 14.2 Kernel: 14.2-RELEASE Compiler: clang 18.1.6 CentOS Stream 9 Kernel: 5.15 Compiler: gcc gcc (GCC) 11.5.0 20240719 (Red Hat 11.5.0-11) CentOS Stream 10 Kernel: 5.15 Compiler: gcc gcc (GCC) 14.2.1 20250110 (Red Hat 14.2.1-8) Debian GNU/Linux 12 Kernel: 5.15 Compiler: gcc gcc (Debian 12.2.0-14+deb12u1) 12.2.0 Fedora Linux 42 Kernel: 5.15 Compiler: clang gcc (GCC) 15.2.1 20250808 (Red Hat 15.2.1-1) openSUSE Leap 15.6 Kernel: 5.15 Compiler: gcc gcc (SUSE Linux) 7.5.0 Red Hat Enterprise Linux 8.10 Kernel: 5.15 Compiler: gcc gcc (GCC) 8.5.0 20210514 (Red Hat 8.5.0-22) Red Hat Enterprise Linux 9.5 Kernel: 5.15 Compiler: gcc gcc (GCC) 11.5.0 20240719 (Red Hat 11.5.0-2) Ubuntu 22.04 Kernel: 5.15 Compiler: gcc gcc (Ubuntu 11.4.0-1ubuntu1~22.04) 11.4.0 Ubuntu 24.04 Kernel: 5.15 Compiler: gcc gcc (Ubuntu 13.3.0-6ubuntu2~24.04) 13.3.0 Alpine Linux 3.22.0 Kernel: 5.15 Compiler: gcc gcc (Alpine 14.2.0) 14.2.0 Windows Server 2022 Kernel: 10.0.20348.2031 Compiler: clang 15.0.7, gcc 14.1.0 (MinGW), and MSVC VS 19.39.33521 To view detailed results, visit: https://lab.dpdk.org/results/dashboard/patchsets/34164/ UNH-IOL DPDK Community Lab To manage your email subscriptions, visit: https://lab.dpdk.org/results/dashboard/preferences/subscriptions/