From mboxrd@z Thu Jan 1 00:00:00 1970 Return-Path: Received: from mails.dpdk.org (mails.dpdk.org [217.70.189.124]) by inbox.dpdk.org (Postfix) with ESMTP id 2607946F8D for ; Fri, 26 Sep 2025 23:11:32 +0200 (CEST) Received: from mails.dpdk.org (localhost [127.0.0.1]) by mails.dpdk.org (Postfix) with ESMTP id 071D44027F; Fri, 26 Sep 2025 23:11:32 +0200 (CEST) Received: from mail-oa1-f98.google.com (mail-oa1-f98.google.com [209.85.160.98]) by mails.dpdk.org (Postfix) with ESMTP id 9C2124027F for ; Fri, 26 Sep 2025 23:11:30 +0200 (CEST) Received: by mail-oa1-f98.google.com with SMTP id 586e51a60fabf-30ccec928f6so1192240fac.3 for ; Fri, 26 Sep 2025 14:11:30 -0700 (PDT) DKIM-Signature: v=1; a=rsa-sha256; c=relaxed/relaxed; d=iol.unh.edu; s=unh-iol; t=1758921090; x=1759525890; darn=dpdk.org; h=references:in-reply-to:cc:to:from:subject:message-id:date:from:to :cc:subject:date:message-id:reply-to; bh=gnGesk+4pqUKM1I2+dYTwK2RnOxxbZI4F3Nt0g7FeLY=; b=U5Z1yr85TX/5/G6WzXMfphFtZ7mztSHGpqaod40jp3sEWuVKg8qTgwYy2Y+BdihB3O JxuOOrRACuCBLBVN9AgKE04+gTglUqFtdY0e/toS99+3IsmqRwokKzoKSEfAkBOVeF6l STjM4k6UWGWQpSMBJ1nwH5SI5H+GtYZ2Z5dwQ= X-Google-DKIM-Signature: v=1; a=rsa-sha256; c=relaxed/relaxed; d=1e100.net; s=20230601; t=1758921090; x=1759525890; h=references:in-reply-to:cc:to:from:subject:message-id:date :x-gm-message-state:from:to:cc:subject:date:message-id:reply-to; bh=gnGesk+4pqUKM1I2+dYTwK2RnOxxbZI4F3Nt0g7FeLY=; b=RbzWYxyKclSdyBQfjIo1AOXs9AygGwKqveLYiq/YY/t09y+ymL/zwrr48dSOZtkPhx hdtk5CR4eHveKHyUOuNBBZI5HJk/mDU2s2iOM5RRLjC/zJ5Iq21COT6LzqYPvnkZ9ZVw IqtuMb4NeBkljnUqOZwdfI4Uv8aJF9k4iArobvW8SGnRZxv4GRFUm2ccuRbeyARnjyeb 75vU2Tb3mtuJGvQK0+pFr4rt/jz5RWeHO4LmWgcpgP8GBvrGCUq4trC8LPMc4hlglpWd xEdXyYG906SOtTbrM26kFhCEQg21zzfr75yoeJ5x4u9IEoTOWcvzG3qCXuVcU95gUNQ1 bqcA== X-Gm-Message-State: AOJu0YxtmPBBsokOOt4ElfMdDDYt+KdhoZVdFIiKs20WyRlFuOw9QAuT m04WN3p5kAEaBUiTk/ElVA+K1hJKbAMmnEequnF9qy5qOkbJH4A5KSqHnBdqNHBKYve4IWwtV11 6K3BafDdmLmIW37aj2CF3XAebC2jxnR+tLetzDcFfynA1 X-Gm-Gg: ASbGncsc6HC56rYwwZHLnHIiLVQGyID6wjAjpt7375Ue+ZClvgtPkrGavt+/PpjS5H7 oI9adibT4CEA59jxygEhm7ao+kAc7vBmriWAHrb0WBNF2st5n/uTuYenEjEoHaRGG3zYdx/LV16 6pPDY4/UWqCN4+fCYr5usuD+Crg5z2Qi7WJuSeMOUvb1RfHgZl0cBejkSf/MauErcd8uv/ea9XR s1KrW8YlDDXpbt4srqN6yagK9/5mWE4V8Vx9uxlxszPqf0zwOn5L3+dgIP1IeobBtL/1QgtY5ld u+G0G2b+UnaMf07EMtUdF3z/HVsydSD3tWSa4d5PGw7jhEeJXMQ4kUAQKnB3wmfLSZkt/QLU X-Google-Smtp-Source: AGHT+IFnMkU5c0PSqDvP1jc8zcRnu5j+JAo+rtkCYYJ4c9nntAHNJM8NRgeyMgEg0AzsTQyr+nMFc/ex7O/u X-Received: by 2002:a05:6870:55d0:b0:307:9de2:b3bd with SMTP id 586e51a60fabf-35ee837d43amr4915469fac.32.1758921089771; Fri, 26 Sep 2025 14:11:29 -0700 (PDT) Received: from postal.iol.unh.edu (postal.iol.unh.edu. [132.177.123.84]) by smtp-relay.gmail.com with ESMTPS id 586e51a60fabf-370eb14d746sm174261fac.10.2025.09.26.14.11.29 (version=TLS1_2 cipher=ECDHE-ECDSA-AES128-GCM-SHA256 bits=128/128); Fri, 26 Sep 2025 14:11:29 -0700 (PDT) X-Relaying-Domain: iol.unh.edu Date: Fri, 26 Sep 2025 14:11:29 -0700 (PDT) Message-ID: <68d70181.050a0220.1878.99d9SMTPIN_ADDED_MISSING@mx.google.com> Received: from [172.21.0.2] (unknown [172.18.0.240]) by postal.iol.unh.edu (Postfix) with ESMTP id 41E766051830; Fri, 26 Sep 2025 17:11:29 -0400 (EDT) Subject: |SUCCESS| pw157014 [PATCH] [RFC] net/ark: use ark_ prefix on on glob From: dpdklab@iol.unh.edu To: Test Report Cc: dpdk-test-reports@iol.unh.edu, Stephen Hemminger In-Reply-To: <20250926163519.430680-1-stephen@networkplumber.org> References: <20250926163519.430680-1-stephen@networkplumber.org> Content-Type: text/plain X-BeenThere: test-report@dpdk.org X-Mailman-Version: 2.1.29 Precedence: list List-Id: automatic DPDK test reports List-Unsubscribe: , List-Archive: List-Post: List-Help: List-Subscribe: , Errors-To: test-report-bounces@dpdk.org Test-Label: iol-unit-amd64-testing Test-Status: SUCCESS http://dpdk.org/patch/157014 _Testing PASS_ Submitter: Stephen Hemminger Date: Friday, September 26 2025 16:35:19 DPDK git baseline: Repo:dpdk-next-net Branch: master CommitID:c1698355a8c527f256bd9571ff9b6ed7441dcbce 157014 --> testing pass Upstream job id: Generic-Unit-Test-DPDK#375655 Test environment and result as below: +-------------------------------+----------------+ | Environment | dpdk_unit_test | +===============================+================+ | CentOS Stream 10 | PASS | +-------------------------------+----------------+ | CentOS Stream 9 | PASS | +-------------------------------+----------------+ | Debian GNU/Linux 12 | PASS | +-------------------------------+----------------+ | Fedora Linux 40 | PASS | +-------------------------------+----------------+ | Fedora Linux 42 | PASS | +-------------------------------+----------------+ | Red Hat Enterprise Linux 9.5 | PASS | +-------------------------------+----------------+ | Fedora Linux 41 | PASS | +-------------------------------+----------------+ | Ubuntu 20.04 | PASS | +-------------------------------+----------------+ | Red Hat Enterprise Linux 8.10 | PASS | +-------------------------------+----------------+ | Ubuntu 22.04 | PASS | +-------------------------------+----------------+ | Ubuntu 24.04 | PASS | +-------------------------------+----------------+ | Windows Server 2022 | PASS | +-------------------------------+----------------+ CentOS Stream 10 Kernel: 5.15 Compiler: gcc gcc (GCC) 14.2.1 20250110 (Red Hat 14.2.1-8) CentOS Stream 9 Kernel: 5.15 Compiler: gcc gcc (GCC) 11.5.0 20240719 (Red Hat 11.5.0-11) Debian GNU/Linux 12 Kernel: 5.15 Compiler: gcc gcc (Debian 12.2.0-14+deb12u1) 12.2.0 Fedora Linux 40 Kernel: 5.15 Compiler: clang gcc (GCC) 14.2.1 20240912 (Red Hat 14.2.1-3) Fedora Linux 42 Kernel: 5.15 Compiler: gcc gcc (GCC) 15.2.1 20250808 (Red Hat 15.2.1-1) Red Hat Enterprise Linux 9.5 Kernel: 5.15 Compiler: gcc gcc (GCC) 11.5.0 20240719 (Red Hat 11.5.0-2) Fedora Linux 41 Kernel: 5.15 Compiler: clang gcc (GCC) 14.3.1 20250523 (Red Hat 14.3.1-1) Ubuntu 20.04 Kernel: 5.15 Compiler: gcc gcc (Ubuntu 9.4.0-1ubuntu1~20.04.2) 9.4.0 Red Hat Enterprise Linux 8.10 Kernel: 5.15 Compiler: gcc gcc (GCC) 8.5.0 20210514 (Red Hat 8.5.0-22) Ubuntu 22.04 Kernel: 5.15 Compiler: gcc gcc (Ubuntu 11.4.0-1ubuntu1~22.04) 11.4.0 Ubuntu 24.04 Kernel: 5.15 Compiler: gcc gcc (Ubuntu 13.3.0-6ubuntu2~24.04) 13.3.0 Windows Server 2022 Kernel: 10.0.20348.2031 Compiler: clang 15.0.7, gcc 14.1.0 (MinGW), and MSVC VS 19.39.33521 To view detailed results, visit: https://lab.dpdk.org/results/dashboard/patchsets/34164/ UNH-IOL DPDK Community Lab To manage your email subscriptions, visit: https://lab.dpdk.org/results/dashboard/preferences/subscriptions/