From mboxrd@z Thu Jan 1 00:00:00 1970 Return-Path: Received: from mails.dpdk.org (mails.dpdk.org [217.70.189.124]) by inbox.dpdk.org (Postfix) with ESMTP id 274D546F8D for ; Fri, 26 Sep 2025 23:12:15 +0200 (CEST) Received: from mails.dpdk.org (localhost [127.0.0.1]) by mails.dpdk.org (Postfix) with ESMTP id 2310C4027F; Fri, 26 Sep 2025 23:12:15 +0200 (CEST) Received: from mail-yw1-f225.google.com (mail-yw1-f225.google.com [209.85.128.225]) by mails.dpdk.org (Postfix) with ESMTP id 454F94027F for ; Fri, 26 Sep 2025 23:12:14 +0200 (CEST) Received: by mail-yw1-f225.google.com with SMTP id 00721157ae682-71d5fe46572so35575427b3.1 for ; Fri, 26 Sep 2025 14:12:14 -0700 (PDT) DKIM-Signature: v=1; a=rsa-sha256; c=relaxed/relaxed; d=iol.unh.edu; s=unh-iol; t=1758921133; x=1759525933; darn=dpdk.org; h=references:in-reply-to:cc:to:from:subject:message-id:date:from:to :cc:subject:date:message-id:reply-to; bh=nM8KhgqiWwe143Jkn3r6vp3M+4XzCd7HUW1MC97K2Ts=; b=jxM93mePre/yjgT8hy0WRYEqHv6MYvNBbc4i8SwpUIxw3qSKtfXOm5SzEAMUhjY5eq Ijha21361gTeR+W6YelGC4H+bSlRxoQzKY/T9FzD+aomwxV23GVMItucW23YQQ1hVoTP sHLG/EkNanrnZW2eQ7M0NClLvZ6Fr3Q+DJP9w= X-Google-DKIM-Signature: v=1; a=rsa-sha256; c=relaxed/relaxed; d=1e100.net; s=20230601; t=1758921133; x=1759525933; h=references:in-reply-to:cc:to:from:subject:message-id:date :x-gm-message-state:from:to:cc:subject:date:message-id:reply-to; bh=nM8KhgqiWwe143Jkn3r6vp3M+4XzCd7HUW1MC97K2Ts=; b=dvq8lMEV5ei/svWy4blOBUq3JTDuCZlfYraFRlIWO+rcBAARefk99zbWQH05+ERxBE 1RNYSMUDt98zG8cVyu4uLqSVTjyFQxzI6Ag59wzjXdHkileG5cVpaaAynnx167O66ozs suMji74lUuNtDgP/EdmiHUtCFMJI1maz+atSveFX3G/4nT7Z8s6OkYY3a1tORySSoglv ePh12HpwkPMC8hWFMrO0UkL9of/I1TxT93TIwMjgL7ik9X8LeVyFVjh1lmnYdG8qNLYr 5KtrQz4yeRxKtxDNjeNnMM2k3ZypFJOeail3LWUr8/bT4E63iPfi0FBHdmYRIQiwe8NI WBYg== X-Gm-Message-State: AOJu0YxaCnIbsszCktumHVuaWclHeQwgKQA5x25OrXOVCaDcGaAutZSB KiQUpzzDgvS9VWZF4qxCe7FxMAJymbMroIzvTFnVOxTfLPiJuJ66r2Lr2KUuwpiUmiZRVoeQ5Xg JHwTwYmM0oDOMyPQtf282FpyBAdxuwbB/gdKj0OkbH60P X-Gm-Gg: ASbGncv3x+ASjTwJFAQ+BVnnyzmb2aLlkfBo6zZRIH+resXDA24eTaL34vzSb6IvF4g ibrTor3D/FmyCWv/UDjbw1vWq7MhVmEQ3zomkHTUT6/7zNJahz9cJ/XAOl2J8HigCkiZfm88ci8 hbSYNmwptXe2wRP9snyLKeaPw0xRMGYSQY7hk11Vc0aZYFogVeW2y3bL3dPgikRKjrQ4CXi+/kS /z0P+Tuf62BiIBrSrLaMjnPSHTtyGpKfI/hx+m4YW491N7hQxgGvOXqeA34HT1WB7zGHCJ11G0k fIKRIag8x/JSQ4qDe9cbhJKpxZjaBeO9rMARikdg2tT0CQbl19/w01RpY2OG8ousEf7P+b18 X-Google-Smtp-Source: AGHT+IFHIAcNVmi063xAbgB+OXGagUG34Q9O4R/h2ahD1PEtHn1ZlOhDQhzYEEpzp3gMLh+dRD8oCiXwF2L0 X-Received: by 2002:a05:690c:6712:b0:729:5b86:551c with SMTP id 00721157ae682-76546138578mr82215267b3.0.1758921133597; Fri, 26 Sep 2025 14:12:13 -0700 (PDT) Received: from postal.iol.unh.edu (postal.iol.unh.edu. [132.177.123.84]) by smtp-relay.gmail.com with ESMTPS id 00721157ae682-765d86cbb8esm2910377b3.28.2025.09.26.14.12.13 (version=TLS1_2 cipher=ECDHE-ECDSA-AES128-GCM-SHA256 bits=128/128); Fri, 26 Sep 2025 14:12:13 -0700 (PDT) X-Relaying-Domain: iol.unh.edu Date: Fri, 26 Sep 2025 14:12:13 -0700 (PDT) Message-ID: <68d701ad.050a0220.1982d9.1451SMTPIN_ADDED_MISSING@mx.google.com> Received: from [172.21.0.2] (unknown [172.18.0.240]) by postal.iol.unh.edu (Postfix) with ESMTP id 37A9F6051830; Fri, 26 Sep 2025 17:12:13 -0400 (EDT) Subject: |SUCCESS| pw157015 [PATCH] net/zxdh: avoid use of rte_memcpy From: dpdklab@iol.unh.edu To: Test Report Cc: dpdk-test-reports@iol.unh.edu, Stephen Hemminger In-Reply-To: <20250926181017.470585-1-stephen@networkplumber.org> References: <20250926181017.470585-1-stephen@networkplumber.org> Content-Type: text/plain X-BeenThere: test-report@dpdk.org X-Mailman-Version: 2.1.29 Precedence: list List-Id: automatic DPDK test reports List-Unsubscribe: , List-Archive: List-Post: List-Help: List-Subscribe: , Errors-To: test-report-bounces@dpdk.org Test-Label: iol-compile-amd64-testing Test-Status: SUCCESS http://dpdk.org/patch/157015 _Testing PASS_ Submitter: Stephen Hemminger Date: Friday, September 26 2025 18:10:17 DPDK git baseline: Repo:dpdk-next-net Branch: master CommitID:c04bbd131b2c14b3049bf86d3ef367b34e6fdf1e 157015 --> testing pass Upstream job id: Generic-DPDK-Compile-Meson#429199 Test environment and result as below: +-------------------------------+--------------------+-------------------+-------------------------+----------------------+-------------------+------------------+ | Environment | dpdk_meson_compile | dpdk_msvc_compile | dpdk_llvm_clang_compile | dpdk_mingw64_compile | dpdk_compile_spdk | dpdk_compile_ovs | +===============================+====================+===================+=========================+======================+===================+==================+ | Ubuntu 20.04 | PASS | SKIPPED | SKIPPED | SKIPPED | SKIPPED | SKIPPED | +-------------------------------+--------------------+-------------------+-------------------------+----------------------+-------------------+------------------+ | FreeBSD 14.2 | PASS | SKIPPED | SKIPPED | SKIPPED | SKIPPED | SKIPPED | +-------------------------------+--------------------+-------------------+-------------------------+----------------------+-------------------+------------------+ | CentOS Stream 9 | PASS | SKIPPED | SKIPPED | SKIPPED | PASS | SKIPPED | +-------------------------------+--------------------+-------------------+-------------------------+----------------------+-------------------+------------------+ | CentOS Stream 10 | PASS | SKIPPED | SKIPPED | SKIPPED | SKIPPED | SKIPPED | +-------------------------------+--------------------+-------------------+-------------------------+----------------------+-------------------+------------------+ | Debian GNU/Linux 12 | PASS | SKIPPED | SKIPPED | SKIPPED | PASS | SKIPPED | +-------------------------------+--------------------+-------------------+-------------------------+----------------------+-------------------+------------------+ | Fedora Linux 42 | PASS | SKIPPED | SKIPPED | SKIPPED | PASS | PASS | +-------------------------------+--------------------+-------------------+-------------------------+----------------------+-------------------+------------------+ | openSUSE Leap 15.6 | PASS | SKIPPED | SKIPPED | SKIPPED | SKIPPED | SKIPPED | +-------------------------------+--------------------+-------------------+-------------------------+----------------------+-------------------+------------------+ | Red Hat Enterprise Linux 8.10 | PASS | SKIPPED | SKIPPED | SKIPPED | SKIPPED | SKIPPED | +-------------------------------+--------------------+-------------------+-------------------------+----------------------+-------------------+------------------+ | Red Hat Enterprise Linux 9.5 | PASS | SKIPPED | SKIPPED | SKIPPED | SKIPPED | SKIPPED | +-------------------------------+--------------------+-------------------+-------------------------+----------------------+-------------------+------------------+ | Ubuntu 22.04 | PASS | SKIPPED | SKIPPED | SKIPPED | PASS | SKIPPED | +-------------------------------+--------------------+-------------------+-------------------------+----------------------+-------------------+------------------+ | Ubuntu 24.04 | PASS | SKIPPED | SKIPPED | SKIPPED | PASS | PASS | +-------------------------------+--------------------+-------------------+-------------------------+----------------------+-------------------+------------------+ | Alpine Linux 3.22.0 | PASS | SKIPPED | SKIPPED | SKIPPED | SKIPPED | SKIPPED | +-------------------------------+--------------------+-------------------+-------------------------+----------------------+-------------------+------------------+ | Windows Server 2022 | SKIPPED | PASS | PASS | PASS | SKIPPED | SKIPPED | +-------------------------------+--------------------+-------------------+-------------------------+----------------------+-------------------+------------------+ Ubuntu 20.04 Kernel: 4.19 Compiler: gcc gcc (Ubuntu 9.4.0-1ubuntu1~20.04.2) 9.4.0 FreeBSD 14.2 Kernel: 14.2-RELEASE Compiler: clang 18.1.6 CentOS Stream 9 Kernel: 5.15 Compiler: gcc gcc (GCC) 11.5.0 20240719 (Red Hat 11.5.0-11) CentOS Stream 10 Kernel: 5.15 Compiler: gcc gcc (GCC) 14.2.1 20250110 (Red Hat 14.2.1-8) Debian GNU/Linux 12 Kernel: 5.15 Compiler: gcc gcc (Debian 12.2.0-14+deb12u1) 12.2.0 Fedora Linux 42 Kernel: 5.15 Compiler: clang gcc (GCC) 15.2.1 20250808 (Red Hat 15.2.1-1) openSUSE Leap 15.6 Kernel: 5.15 Compiler: gcc gcc (SUSE Linux) 7.5.0 Red Hat Enterprise Linux 8.10 Kernel: 5.15 Compiler: gcc gcc (GCC) 8.5.0 20210514 (Red Hat 8.5.0-22) Red Hat Enterprise Linux 9.5 Kernel: 5.15 Compiler: gcc gcc (GCC) 11.5.0 20240719 (Red Hat 11.5.0-2) Ubuntu 22.04 Kernel: 5.15 Compiler: gcc gcc (Ubuntu 11.4.0-1ubuntu1~22.04) 11.4.0 Ubuntu 24.04 Kernel: 5.15 Compiler: gcc gcc (Ubuntu 13.3.0-6ubuntu2~24.04) 13.3.0 Alpine Linux 3.22.0 Kernel: 5.15 Compiler: gcc gcc (Alpine 14.2.0) 14.2.0 Windows Server 2022 Kernel: 10.0.20348.2031 Compiler: clang 15.0.7, gcc 14.1.0 (MinGW), and MSVC VS 19.39.33521 To view detailed results, visit: https://lab.dpdk.org/results/dashboard/patchsets/34165/ UNH-IOL DPDK Community Lab To manage your email subscriptions, visit: https://lab.dpdk.org/results/dashboard/preferences/subscriptions/