From mboxrd@z Thu Jan 1 00:00:00 1970 Return-Path: Received: from mails.dpdk.org (mails.dpdk.org [217.70.189.124]) by inbox.dpdk.org (Postfix) with ESMTP id D946D46F8D for ; Fri, 26 Sep 2025 23:39:24 +0200 (CEST) Received: from mails.dpdk.org (localhost [127.0.0.1]) by mails.dpdk.org (Postfix) with ESMTP id B3E754027F; Fri, 26 Sep 2025 23:39:24 +0200 (CEST) Received: from mail-yw1-f227.google.com (mail-yw1-f227.google.com [209.85.128.227]) by mails.dpdk.org (Postfix) with ESMTP id AAD7D4027F for ; Fri, 26 Sep 2025 23:39:22 +0200 (CEST) Received: by mail-yw1-f227.google.com with SMTP id 00721157ae682-71d60504788so26364037b3.2 for ; Fri, 26 Sep 2025 14:39:22 -0700 (PDT) DKIM-Signature: v=1; a=rsa-sha256; c=relaxed/relaxed; d=iol.unh.edu; s=unh-iol; t=1758922762; x=1759527562; darn=dpdk.org; h=references:in-reply-to:cc:to:from:subject:message-id:date:from:to :cc:subject:date:message-id:reply-to; bh=QmWncd/n773WIzu2XHXptSrCNctMBcO7Cn1u4RHpkB8=; b=TY7GxCLzhzCegREeJag+C3bXN4URf9DdvfUBhE7zu7Qa7R2l2McGXu20K0uAZ224tf s03Fb++7MmM8U8gRZF45AXEXEaHQ6GpxE6AnT+gJQoVb8IDSpd3qv/Et66Wv5PMzkova d47847kKCyPyaIP/Yz/zenWOygrIPnK0K4Tw0= X-Google-DKIM-Signature: v=1; a=rsa-sha256; c=relaxed/relaxed; d=1e100.net; s=20230601; t=1758922762; x=1759527562; h=references:in-reply-to:cc:to:from:subject:message-id:date :x-gm-message-state:from:to:cc:subject:date:message-id:reply-to; bh=QmWncd/n773WIzu2XHXptSrCNctMBcO7Cn1u4RHpkB8=; b=oeclYmtx0L8gmvBwwZHR90dNGMj51MlbkpyYEyXYDuVRjdo6kq6sgXyKspL5j68M17 pLSTDrUyE5Qpp8OzXliyvIsFVyoWlHSlQssV+4UW/p3QF+xkvwavnuxP4MN/v9k4CezE 1CzekITHoEQgsM0BCGmp7aDTF07O0uX4wG5gi74A0E8H7PFEgarrH8W7oGz1c/UAiSNA Cx8w1VwTi8pTF2RE/hyUaSFn+e7CGPVChB3KJfyCkN3Ub19ylmbc+UkrErz6HQhRenen NXxoh6ar+1nxLAWe8DzX4IIAOiqSehq38zi/ytNq9ifFQH0tsoISh6xsNgldaNz1LrYk qYiw== X-Gm-Message-State: AOJu0Yz//0RxKBuQtHvsl2Yyu67ld0xzwWBIuTiuShcG6P1l/Rb7AJ/l PXq+BKBY0EdKjZK2p+CuIV/3WIZafb1X1sdTjtBkoQljhYfC5KHuXXnWRRZQ2F5m9VfZmsQa6Q2 taFv8V8vtXvqJQ4JzJwC6SRLSPz3MqNkyKvTJoLs/jLKARMAJqRr3MZiATiAB X-Gm-Gg: ASbGncsGLccFqm1tRYWZvp43pcdhuVi/KnPb/jaydV8CCMqc6TVuG01QlYEJWkNT+f0 RV4U8Wylk6t36+vITIjrXW7TCPEHPBcecbmXSzsIzPvWhGxEM21yAgBX2MgonYHunXMzKhZKgup bOD643rpHQcm+0zRrb7YkqrSPwLEX4iNkGxlfRPCYalqhp5UJVKS2sY7fO3ZG6eqdNoFLCmIvCo w1WE5npHZUvCmRkGNIynHSXpJCz0VzfiL7DGEHIiZcgRfME3a4jHEM4HO9Rf2Lzz1OR6P+lZA+H 8gUkYFo2rjEsN/PT4jR+ytS0xLqekXwU66VWuqogJPza/qdx3g== X-Google-Smtp-Source: AGHT+IGQgw/fZ82uZJwzhVPfZfcaJT0psB02RP78sgoL2TYKXNfgpF2fZeXlsqRaHkjoBnTjvlBihGFUv9Y6 X-Received: by 2002:a05:690c:4b02:b0:730:c83b:e9e7 with SMTP id 00721157ae682-764051fe188mr88858827b3.43.1758922761874; Fri, 26 Sep 2025 14:39:21 -0700 (PDT) Received: from postal.iol.unh.edu (postal.iol.unh.edu. [2606:4100:3880:1234::84]) by smtp-relay.gmail.com with ESMTPS id 00721157ae682-765db354839sm2591957b3.39.2025.09.26.14.39.21 (version=TLS1_2 cipher=ECDHE-ECDSA-AES128-GCM-SHA256 bits=128/128); Fri, 26 Sep 2025 14:39:21 -0700 (PDT) X-Relaying-Domain: iol.unh.edu Date: Fri, 26 Sep 2025 14:39:21 -0700 (PDT) Message-ID: <68d70809.050a0220.342dde.1bd9SMTPIN_ADDED_MISSING@mx.google.com> Received: from [172.21.0.2] (unknown [172.18.0.240]) by postal.iol.unh.edu (Postfix) with ESMTP id 6AA9060003EA; Fri, 26 Sep 2025 17:39:21 -0400 (EDT) Subject: |SUCCESS| pw157015 [PATCH] net/zxdh: avoid use of rte_memcpy From: dpdklab@iol.unh.edu To: Test Report Cc: dpdk-test-reports@iol.unh.edu, Stephen Hemminger In-Reply-To: <20250926181017.470585-1-stephen@networkplumber.org> References: <20250926181017.470585-1-stephen@networkplumber.org> Content-Type: text/plain X-BeenThere: test-report@dpdk.org X-Mailman-Version: 2.1.29 Precedence: list List-Id: automatic DPDK test reports List-Unsubscribe: , List-Archive: List-Post: List-Help: List-Subscribe: , Errors-To: test-report-bounces@dpdk.org Test-Label: iol-unit-amd64-testing Test-Status: SUCCESS http://dpdk.org/patch/157015 _Testing PASS_ Submitter: Stephen Hemminger Date: Friday, September 26 2025 18:10:17 DPDK git baseline: Repo:dpdk-next-net Branch: master CommitID:c04bbd131b2c14b3049bf86d3ef367b34e6fdf1e 157015 --> testing pass Upstream job id: Generic-Unit-Test-DPDK#375678 Test environment and result as below: +-------------------------------+----------------+ | Environment | dpdk_unit_test | +===============================+================+ | CentOS Stream 9 | PASS | +-------------------------------+----------------+ | CentOS Stream 10 | PASS | +-------------------------------+----------------+ | Debian GNU/Linux 12 | PASS | +-------------------------------+----------------+ | Fedora Linux 40 | PASS | +-------------------------------+----------------+ | Fedora Linux 41 | PASS | +-------------------------------+----------------+ | Fedora Linux 42 | PASS | +-------------------------------+----------------+ | Ubuntu 20.04 | PASS | +-------------------------------+----------------+ | Red Hat Enterprise Linux 9.5 | PASS | +-------------------------------+----------------+ | Red Hat Enterprise Linux 8.10 | PASS | +-------------------------------+----------------+ | Ubuntu 22.04 | PASS | +-------------------------------+----------------+ | Ubuntu 24.04 | PASS | +-------------------------------+----------------+ | Windows Server 2022 | PASS | +-------------------------------+----------------+ CentOS Stream 9 Kernel: 5.15 Compiler: gcc gcc (GCC) 11.5.0 20240719 (Red Hat 11.5.0-11) CentOS Stream 10 Kernel: 5.15 Compiler: gcc gcc (GCC) 14.2.1 20250110 (Red Hat 14.2.1-8) Debian GNU/Linux 12 Kernel: 5.15 Compiler: gcc gcc (Debian 12.2.0-14+deb12u1) 12.2.0 Fedora Linux 40 Kernel: 5.15 Compiler: clang gcc (GCC) 14.2.1 20240912 (Red Hat 14.2.1-3) Fedora Linux 41 Kernel: 5.15 Compiler: gcc gcc (GCC) 14.3.1 20250523 (Red Hat 14.3.1-1) Fedora Linux 42 Kernel: 5.15 Compiler: gcc gcc (GCC) 15.2.1 20250808 (Red Hat 15.2.1-1) Ubuntu 20.04 Kernel: 5.15 Compiler: gcc gcc (Ubuntu 9.4.0-1ubuntu1~20.04.2) 9.4.0 Red Hat Enterprise Linux 9.5 Kernel: 5.15 Compiler: gcc gcc (GCC) 11.5.0 20240719 (Red Hat 11.5.0-2) Red Hat Enterprise Linux 8.10 Kernel: 5.15 Compiler: gcc gcc (GCC) 8.5.0 20210514 (Red Hat 8.5.0-22) Ubuntu 22.04 Kernel: 5.15 Compiler: gcc gcc (Ubuntu 11.4.0-1ubuntu1~22.04) 11.4.0 Ubuntu 24.04 Kernel: 5.15 Compiler: gcc gcc (Ubuntu 13.3.0-6ubuntu2~24.04) 13.3.0 Windows Server 2022 Kernel: 10.0.20348.2031 Compiler: clang 15.0.7, gcc 14.1.0 (MinGW), and MSVC VS 19.39.33521 To view detailed results, visit: https://lab.dpdk.org/results/dashboard/patchsets/34165/ UNH-IOL DPDK Community Lab To manage your email subscriptions, visit: https://lab.dpdk.org/results/dashboard/preferences/subscriptions/