automatic DPDK test reports
 help / color / mirror / Atom feed
* |PENDING| [GIT MASTER] 3b43ce3f4a54468e7ef65760c2fd7b4d6ee6d9fc
@ 2025-09-27  4:09 dpdklab
  0 siblings, 0 replies; 57+ messages in thread
From: dpdklab @ 2025-09-27  4:09 UTC (permalink / raw)
  To: Test Report; +Cc: dpdk-test-reports

_Testing pending_

Branch: tags/v22.11

3b43ce3f4a54468e7ef65760c2fd7b4d6ee6d9fc --> testing pending

Upstream job id: Generic-Unit-Test-DPDK#375691

Test environment and result as below:

+-----------------+--------------+---------------------------+------------------------------+----------------+
|   Environment   | lpm_autotest | cryptodev_sw_zuc_autotest | cryptodev_sw_snow3g_autotest | dpdk_unit_test |
+=================+==============+===========================+==============================+================+
| Ubuntu 20.04    | PEND         | SKIPPED                   | SKIPPED                      | SKIPPED        |
+-----------------+--------------+---------------------------+------------------------------+----------------+
| Debian 12 (arm) | SKIPPED      | PEND                      | PASS                         | SKIPPED        |
+-----------------+--------------+---------------------------+------------------------------+----------------+
| Ubuntu 22.04    | SKIPPED      | SKIPPED                   | SKIPPED                      | PEND           |
+-----------------+--------------+---------------------------+------------------------------+----------------+


Ubuntu 20.04
	Kernel: 5.4
	Compiler: gcc gcc (Ubuntu 9.4.0-1ubuntu1~20.04.2) 9.4.0

Debian 12 (arm)
	Kernel: Depends on container host
	Compiler: gcc (Debian 12.2.0-14) 12.2.0

Ubuntu 22.04
	Kernel: 5.15
	Compiler: gcc gcc (Ubuntu 11.4.0-1ubuntu1~22.04.2) 11.4.0

To view detailed results, visit:
https://lab.dpdk.org/results/dashboard/tarballs/35026/

UNH-IOL DPDK Community Lab

To manage your email subscriptions, visit: 
https://lab.dpdk.org/results/dashboard/preferences/subscriptions/

^ permalink raw reply	[flat|nested] 57+ messages in thread
* |PENDING| [GIT MASTER] 3b43ce3f4a54468e7ef65760c2fd7b4d6ee6d9fc
@ 2025-10-03  4:21 dpdklab
  0 siblings, 0 replies; 57+ messages in thread
From: dpdklab @ 2025-10-03  4:21 UTC (permalink / raw)
  To: Test Report; +Cc: dpdk-test-reports

_Testing pending_

Branch: tags/v22.11

3b43ce3f4a54468e7ef65760c2fd7b4d6ee6d9fc --> testing pending

Upstream job id: Generic-Unit-Test-DPDK#377980

Test environment and result as below:

+-----------------+---------------------------+------------------------------+--------------+----------------+
|   Environment   | cryptodev_sw_zuc_autotest | cryptodev_sw_snow3g_autotest | lpm_autotest | dpdk_unit_test |
+=================+===========================+==============================+==============+================+
| Debian 12 (arm) | PEND                      | PEND                         | SKIPPED      | SKIPPED        |
+-----------------+---------------------------+------------------------------+--------------+----------------+
| Ubuntu 20.04    | SKIPPED                   | SKIPPED                      | PASS         | SKIPPED        |
+-----------------+---------------------------+------------------------------+--------------+----------------+
| Ubuntu 22.04    | SKIPPED                   | SKIPPED                      | SKIPPED      | PEND           |
+-----------------+---------------------------+------------------------------+--------------+----------------+


Debian 12 (arm)
	Kernel: Depends on container host
	Compiler: gcc (Debian 12.2.0-14) 12.2.0

Ubuntu 20.04
	Kernel: 5.4
	Compiler: gcc gcc (Ubuntu 9.4.0-1ubuntu1~20.04.2) 9.4.0

Ubuntu 22.04
	Kernel: 5.15
	Compiler: gcc gcc (Ubuntu 11.4.0-1ubuntu1~22.04.2) 11.4.0

To view detailed results, visit:
https://lab.dpdk.org/results/dashboard/tarballs/35089/

UNH-IOL DPDK Community Lab

To manage your email subscriptions, visit: 
https://lab.dpdk.org/results/dashboard/preferences/subscriptions/

^ permalink raw reply	[flat|nested] 57+ messages in thread
* |PENDING| [GIT MASTER] 3b43ce3f4a54468e7ef65760c2fd7b4d6ee6d9fc
@ 2025-10-03  4:17 dpdklab
  0 siblings, 0 replies; 57+ messages in thread
From: dpdklab @ 2025-10-03  4:17 UTC (permalink / raw)
  To: Test Report; +Cc: dpdk-test-reports

_Testing pending_

Branch: tags/v22.11

3b43ce3f4a54468e7ef65760c2fd7b4d6ee6d9fc --> testing pending

Upstream job id: Template-DTS-Pipeline#247592

Test environment and result as below:

+--------------+----------------------+----------------------+
| Environment  | dpdk_fips_validation | compressdev_zlib_pmd |
+==============+======================+======================+
| Ubuntu 20.04 | PEND                 | SKIPPED              |
+--------------+----------------------+----------------------+
| Ubuntu 22.04 | SKIPPED              | PASS                 |
+--------------+----------------------+----------------------+


Ubuntu 20.04
	Kernel: 5.15
	Compiler: gcc gcc (Ubuntu 9.4.0-1ubuntu1~20.04.2) 9.4.0

Ubuntu 22.04
	Kernel: 5.15
	Compiler: gcc gcc (Ubuntu 11.4.0-1ubuntu1~22.04.2) 11.4.0

To view detailed results, visit:
https://lab.dpdk.org/results/dashboard/tarballs/35089/

UNH-IOL DPDK Community Lab

To manage your email subscriptions, visit: 
https://lab.dpdk.org/results/dashboard/preferences/subscriptions/

^ permalink raw reply	[flat|nested] 57+ messages in thread
* |PENDING| [GIT MASTER] 3b43ce3f4a54468e7ef65760c2fd7b4d6ee6d9fc
@ 2025-10-03  4:08 dpdklab
  0 siblings, 0 replies; 57+ messages in thread
From: dpdklab @ 2025-10-03  4:08 UTC (permalink / raw)
  To: Test Report; +Cc: dpdk-test-reports

_Testing pending_

Branch: tags/v22.11

3b43ce3f4a54468e7ef65760c2fd7b4d6ee6d9fc --> testing pending

Upstream job id: Generic-VM-DPDK-Compile-Meson#38748

Test environment and result as below:

+---------------------+--------------------+-------------------------+
|     Environment     | dpdk_meson_compile | dpdk_llvm_clang_compile |
+=====================+====================+=========================+
| Ubuntu 20.04        | PASS               | SKIPPED                 |
+---------------------+--------------------+-------------------------+
| FreeBSD 14.2        | PEND               | SKIPPED                 |
+---------------------+--------------------+-------------------------+
| Windows Server 2022 | SKIPPED            | PEND                    |
+---------------------+--------------------+-------------------------+


Ubuntu 20.04
	Kernel: 4.19
	Compiler: gcc gcc (Ubuntu 9.4.0-1ubuntu1~20.04.2) 9.4.0

FreeBSD 14.2
	Kernel: 14.2-RELEASE
	Compiler: clang 18.1.6

Windows Server 2022
	Kernel: 10.0.20348.2031
	Compiler: clang 15.0.7, gcc 14.1.0 (MinGW), and MSVC VS 19.39.33521

To view detailed results, visit:
https://lab.dpdk.org/results/dashboard/tarballs/35089/

UNH-IOL DPDK Community Lab

To manage your email subscriptions, visit: 
https://lab.dpdk.org/results/dashboard/preferences/subscriptions/

^ permalink raw reply	[flat|nested] 57+ messages in thread
* |PENDING| [GIT MASTER] 3b43ce3f4a54468e7ef65760c2fd7b4d6ee6d9fc
@ 2025-10-02  4:24 dpdklab
  0 siblings, 0 replies; 57+ messages in thread
From: dpdklab @ 2025-10-02  4:24 UTC (permalink / raw)
  To: Test Report; +Cc: dpdk-test-reports

_Testing pending_

Branch: tags/v22.11

3b43ce3f4a54468e7ef65760c2fd7b4d6ee6d9fc --> testing pending

Upstream job id: Generic-Unit-Test-DPDK#377783

Test environment and result as below:

+-----------------+---------------------------+------------------------------+--------------+----------------+
|   Environment   | cryptodev_sw_zuc_autotest | cryptodev_sw_snow3g_autotest | lpm_autotest | dpdk_unit_test |
+=================+===========================+==============================+==============+================+
| Debian 12 (arm) | PEND                      | PEND                         | SKIPPED      | SKIPPED        |
+-----------------+---------------------------+------------------------------+--------------+----------------+
| Ubuntu 20.04    | SKIPPED                   | SKIPPED                      | PASS         | SKIPPED        |
+-----------------+---------------------------+------------------------------+--------------+----------------+
| Ubuntu 22.04    | SKIPPED                   | SKIPPED                      | SKIPPED      | PEND           |
+-----------------+---------------------------+------------------------------+--------------+----------------+


Debian 12 (arm)
	Kernel: Depends on container host
	Compiler: gcc (Debian 12.2.0-14) 12.2.0

Ubuntu 20.04
	Kernel: 5.4
	Compiler: gcc gcc (Ubuntu 9.4.0-1ubuntu1~20.04.2) 9.4.0

Ubuntu 22.04
	Kernel: 5.15
	Compiler: gcc gcc (Ubuntu 11.4.0-1ubuntu1~22.04.2) 11.4.0

To view detailed results, visit:
https://lab.dpdk.org/results/dashboard/tarballs/35082/

UNH-IOL DPDK Community Lab

To manage your email subscriptions, visit: 
https://lab.dpdk.org/results/dashboard/preferences/subscriptions/

^ permalink raw reply	[flat|nested] 57+ messages in thread
* |PENDING| [GIT MASTER] 3b43ce3f4a54468e7ef65760c2fd7b4d6ee6d9fc
@ 2025-10-02  4:17 dpdklab
  0 siblings, 0 replies; 57+ messages in thread
From: dpdklab @ 2025-10-02  4:17 UTC (permalink / raw)
  To: Test Report; +Cc: dpdk-test-reports

_Testing pending_

Branch: tags/v22.11

3b43ce3f4a54468e7ef65760c2fd7b4d6ee6d9fc --> testing pending

Upstream job id: Template-DTS-Pipeline#247511

Test environment and result as below:

+--------------+----------------------+----------------------+
| Environment  | dpdk_fips_validation | compressdev_zlib_pmd |
+==============+======================+======================+
| Ubuntu 20.04 | PEND                 | SKIPPED              |
+--------------+----------------------+----------------------+
| Ubuntu 22.04 | SKIPPED              | PASS                 |
+--------------+----------------------+----------------------+


Ubuntu 20.04
	Kernel: 5.15
	Compiler: gcc gcc (Ubuntu 9.4.0-1ubuntu1~20.04.2) 9.4.0

Ubuntu 22.04
	Kernel: 5.15
	Compiler: gcc gcc (Ubuntu 11.4.0-1ubuntu1~22.04.2) 11.4.0

To view detailed results, visit:
https://lab.dpdk.org/results/dashboard/tarballs/35082/

UNH-IOL DPDK Community Lab

To manage your email subscriptions, visit: 
https://lab.dpdk.org/results/dashboard/preferences/subscriptions/

^ permalink raw reply	[flat|nested] 57+ messages in thread
* |PENDING| [GIT MASTER] 3b43ce3f4a54468e7ef65760c2fd7b4d6ee6d9fc
@ 2025-10-02  4:15 dpdklab
  0 siblings, 0 replies; 57+ messages in thread
From: dpdklab @ 2025-10-02  4:15 UTC (permalink / raw)
  To: Test Report; +Cc: dpdk-test-reports

_Testing pending_

Branch: tags/v22.11

3b43ce3f4a54468e7ef65760c2fd7b4d6ee6d9fc --> testing pending

Upstream job id: Generic-VM-Unit-Test-DPDK#31538

Test environment and result as below:

+-------------------------------+----------------+
|          Environment          | dpdk_unit_test |
+===============================+================+
| Windows Server 2022           | PASS           |
+-------------------------------+----------------+
| CentOS Stream 9               | PEND           |
+-------------------------------+----------------+
| CentOS Stream 10              | PEND           |
+-------------------------------+----------------+
| Debian GNU/Linux 12           | PEND           |
+-------------------------------+----------------+
| Fedora Linux 40               | PEND           |
+-------------------------------+----------------+
| Fedora Linux 41               | PEND           |
+-------------------------------+----------------+
| Fedora Linux 42               | PEND           |
+-------------------------------+----------------+
| Red Hat Enterprise Linux 8.10 | PEND           |
+-------------------------------+----------------+
| Ubuntu 22.04                  | PEND           |
+-------------------------------+----------------+
| Ubuntu 24.04                  | PEND           |
+-------------------------------+----------------+
| Red Hat Enterprise Linux 9.5  | PEND           |
+-------------------------------+----------------+
| Ubuntu 20.04                  | PEND           |
+-------------------------------+----------------+


Windows Server 2022
	Kernel: 10.0.20348.2031
	Compiler: clang 15.0.7, gcc 14.1.0 (MinGW), and MSVC VS 19.39.33521

CentOS Stream 9
	Kernel: 5.15
	Compiler: gcc gcc (GCC) 11.5.0 20240719 (Red Hat 11.5.0-11)

CentOS Stream 10
	Kernel: 5.15
	Compiler: gcc gcc (GCC) 14.2.1 20250110 (Red Hat 14.2.1-8)

Debian GNU/Linux 12
	Kernel: 5.15
	Compiler: gcc gcc (Debian 12.2.0-14+deb12u1) 12.2.0

Fedora Linux 40
	Kernel: 5.15
	Compiler: gcc gcc (GCC) 14.2.1 20240912 (Red Hat 14.2.1-3)

Fedora Linux 41
	Kernel: 5.15
	Compiler: gcc gcc (GCC) 14.3.1 20250523 (Red Hat 14.3.1-1)

Fedora Linux 42
	Kernel: 5.15
	Compiler: gcc gcc (GCC) 15.2.1 20250808 (Red Hat 15.2.1-1)

Red Hat Enterprise Linux 8.10
	Kernel: 5.15
	Compiler: gcc gcc (GCC) 8.5.0 20210514 (Red Hat 8.5.0-22)

Ubuntu 22.04
	Kernel: 5.15
	Compiler: gcc gcc (Ubuntu 11.4.0-1ubuntu1~22.04) 11.4.0

Ubuntu 24.04
	Kernel: 5.15
	Compiler: gcc gcc (Ubuntu 13.3.0-6ubuntu2~24.04) 13.3.0

Red Hat Enterprise Linux 9.5
	Kernel: 5.15
	Compiler: gcc gcc (GCC) 11.5.0 20240719 (Red Hat 11.5.0-2)

Ubuntu 20.04
	Kernel: 5.15
	Compiler: gcc gcc (Ubuntu 9.4.0-1ubuntu1~20.04.2) 9.4.0

To view detailed results, visit:
https://lab.dpdk.org/results/dashboard/tarballs/35082/

UNH-IOL DPDK Community Lab

To manage your email subscriptions, visit: 
https://lab.dpdk.org/results/dashboard/preferences/subscriptions/

^ permalink raw reply	[flat|nested] 57+ messages in thread
* |PENDING| [GIT MASTER] 3b43ce3f4a54468e7ef65760c2fd7b4d6ee6d9fc
@ 2025-10-02  4:08 dpdklab
  0 siblings, 0 replies; 57+ messages in thread
From: dpdklab @ 2025-10-02  4:08 UTC (permalink / raw)
  To: Test Report; +Cc: dpdk-test-reports

_Testing pending_

Branch: tags/v22.11

3b43ce3f4a54468e7ef65760c2fd7b4d6ee6d9fc --> testing pending

Upstream job id: Generic-VM-DPDK-Compile-Meson#38734

Test environment and result as below:

+---------------------+--------------------+-------------------------+
|     Environment     | dpdk_meson_compile | dpdk_llvm_clang_compile |
+=====================+====================+=========================+
| Ubuntu 20.04        | PASS               | SKIPPED                 |
+---------------------+--------------------+-------------------------+
| FreeBSD 14.2        | PEND               | SKIPPED                 |
+---------------------+--------------------+-------------------------+
| Windows Server 2022 | SKIPPED            | PEND                    |
+---------------------+--------------------+-------------------------+


Ubuntu 20.04
	Kernel: 4.19
	Compiler: gcc gcc (Ubuntu 9.4.0-1ubuntu1~20.04.2) 9.4.0

FreeBSD 14.2
	Kernel: 14.2-RELEASE
	Compiler: clang 18.1.6

Windows Server 2022
	Kernel: 10.0.20348.2031
	Compiler: clang 15.0.7, gcc 14.1.0 (MinGW), and MSVC VS 19.39.33521

To view detailed results, visit:
https://lab.dpdk.org/results/dashboard/tarballs/35082/

UNH-IOL DPDK Community Lab

To manage your email subscriptions, visit: 
https://lab.dpdk.org/results/dashboard/preferences/subscriptions/

^ permalink raw reply	[flat|nested] 57+ messages in thread
* |PENDING| [GIT MASTER] 3b43ce3f4a54468e7ef65760c2fd7b4d6ee6d9fc
@ 2025-10-01  5:09 dpdklab
  0 siblings, 0 replies; 57+ messages in thread
From: dpdklab @ 2025-10-01  5:09 UTC (permalink / raw)
  To: Test Report; +Cc: dpdk-test-reports

_Testing pending_

Branch: tags/v22.11

3b43ce3f4a54468e7ef65760c2fd7b4d6ee6d9fc --> testing pending

Upstream job id: Generic-Unit-Test-DPDK#377364

Test environment and result as below:

+-----------------+----------------+--------------+---------------------------+------------------------------+
|   Environment   | dpdk_unit_test | lpm_autotest | cryptodev_sw_zuc_autotest | cryptodev_sw_snow3g_autotest |
+=================+================+==============+===========================+==============================+
| Ubuntu 22.04    | PEND           | SKIPPED      | SKIPPED                   | SKIPPED                      |
+-----------------+----------------+--------------+---------------------------+------------------------------+
| Ubuntu 20.04    | SKIPPED        | PASS         | SKIPPED                   | SKIPPED                      |
+-----------------+----------------+--------------+---------------------------+------------------------------+
| Debian 12 (arm) | SKIPPED        | SKIPPED      | PEND                      | PEND                         |
+-----------------+----------------+--------------+---------------------------+------------------------------+


Ubuntu 22.04
	Kernel: 5.15
	Compiler: gcc gcc (Ubuntu 11.4.0-1ubuntu1~22.04.2) 11.4.0

Ubuntu 20.04
	Kernel: 5.4
	Compiler: gcc gcc (Ubuntu 9.4.0-1ubuntu1~20.04.2) 9.4.0

Debian 12 (arm)
	Kernel: Depends on container host
	Compiler: gcc (Debian 12.2.0-14) 12.2.0

To view detailed results, visit:
https://lab.dpdk.org/results/dashboard/tarballs/35067/

UNH-IOL DPDK Community Lab

To manage your email subscriptions, visit: 
https://lab.dpdk.org/results/dashboard/preferences/subscriptions/

^ permalink raw reply	[flat|nested] 57+ messages in thread
* |PENDING| [GIT MASTER] 3b43ce3f4a54468e7ef65760c2fd7b4d6ee6d9fc
@ 2025-10-01  4:32 dpdklab
  0 siblings, 0 replies; 57+ messages in thread
From: dpdklab @ 2025-10-01  4:32 UTC (permalink / raw)
  To: Test Report; +Cc: dpdk-test-reports

_Testing pending_

Branch: tags/v22.11

3b43ce3f4a54468e7ef65760c2fd7b4d6ee6d9fc --> testing pending

Upstream job id: Generic-VM-DPDK-Compile-Meson#38706

Test environment and result as below:

+--------------+--------------------+
| Environment  | dpdk_meson_compile |
+==============+====================+
| Ubuntu 20.04 | PASS               |
+--------------+--------------------+
| FreeBSD 14.2 | PEND               |
+--------------+--------------------+


Ubuntu 20.04
	Kernel: 4.19
	Compiler: gcc gcc (Ubuntu 9.4.0-1ubuntu1~20.04.2) 9.4.0

FreeBSD 14.2
	Kernel: 14.2-RELEASE
	Compiler: clang 18.1.6

To view detailed results, visit:
https://lab.dpdk.org/results/dashboard/tarballs/35067/

UNH-IOL DPDK Community Lab

To manage your email subscriptions, visit: 
https://lab.dpdk.org/results/dashboard/preferences/subscriptions/

^ permalink raw reply	[flat|nested] 57+ messages in thread
* |PENDING| [GIT MASTER] 3b43ce3f4a54468e7ef65760c2fd7b4d6ee6d9fc
@ 2025-09-30  6:07 dpdklab
  0 siblings, 0 replies; 57+ messages in thread
From: dpdklab @ 2025-09-30  6:07 UTC (permalink / raw)
  To: Test Report; +Cc: dpdk-test-reports

_Testing pending_

Branch: tags/v22.11

3b43ce3f4a54468e7ef65760c2fd7b4d6ee6d9fc --> testing pending

Upstream job id: Generic-DPDK-Compile-Meson#429892

Test environment and result as below:

+------------------------------+--------------------+
|         Environment          | dpdk_meson_compile |
+==============================+====================+
| Red Hat Enterprise Linux 9.5 | PEND               |
+------------------------------+--------------------+
| Ubuntu 20.04                 | PASS               |
+------------------------------+--------------------+


Red Hat Enterprise Linux 9.5
	Kernel: 5.4
	Compiler: gcc gcc (GCC) 11.5.0 20240719 (Red Hat 11.5.0-2)

Ubuntu 20.04
	Kernel: 5.15
	Compiler: aarch64-linux-gnu-gcc gcc (Ubuntu 9.4.0-1ubuntu1~20.04.2) 9.4.0

To view detailed results, visit:
https://lab.dpdk.org/results/dashboard/tarballs/35051/

UNH-IOL DPDK Community Lab

To manage your email subscriptions, visit: 
https://lab.dpdk.org/results/dashboard/preferences/subscriptions/

^ permalink raw reply	[flat|nested] 57+ messages in thread
* |PENDING| [GIT MASTER] 3b43ce3f4a54468e7ef65760c2fd7b4d6ee6d9fc
@ 2025-09-30  5:16 dpdklab
  0 siblings, 0 replies; 57+ messages in thread
From: dpdklab @ 2025-09-30  5:16 UTC (permalink / raw)
  To: Test Report; +Cc: dpdk-test-reports

_Testing pending_

Branch: tags/v22.11

3b43ce3f4a54468e7ef65760c2fd7b4d6ee6d9fc --> testing pending

Upstream job id: Generic-Unit-Test-DPDK#376446

Test environment and result as below:

+-----------------+--------------+------------------------------+---------------------------+----------------+
|   Environment   | lpm_autotest | cryptodev_sw_snow3g_autotest | cryptodev_sw_zuc_autotest | dpdk_unit_test |
+=================+==============+==============================+===========================+================+
| Ubuntu 20.04    | PASS         | SKIPPED                      | SKIPPED                   | SKIPPED        |
+-----------------+--------------+------------------------------+---------------------------+----------------+
| Debian 12 (arm) | SKIPPED      | PEND                         | PEND                      | SKIPPED        |
+-----------------+--------------+------------------------------+---------------------------+----------------+
| Ubuntu 22.04    | SKIPPED      | SKIPPED                      | SKIPPED                   | PEND           |
+-----------------+--------------+------------------------------+---------------------------+----------------+


Ubuntu 20.04
	Kernel: 5.4
	Compiler: gcc gcc (Ubuntu 9.4.0-1ubuntu1~20.04.2) 9.4.0

Debian 12 (arm)
	Kernel: Depends on container host
	Compiler: gcc (Debian 12.2.0-14) 12.2.0

Ubuntu 22.04
	Kernel: 5.15
	Compiler: gcc gcc (Ubuntu 11.4.0-1ubuntu1~22.04.2) 11.4.0

To view detailed results, visit:
https://lab.dpdk.org/results/dashboard/tarballs/35051/

UNH-IOL DPDK Community Lab

To manage your email subscriptions, visit: 
https://lab.dpdk.org/results/dashboard/preferences/subscriptions/

^ permalink raw reply	[flat|nested] 57+ messages in thread
* |PENDING| [GIT MASTER] 3b43ce3f4a54468e7ef65760c2fd7b4d6ee6d9fc
@ 2025-09-30  4:15 dpdklab
  0 siblings, 0 replies; 57+ messages in thread
From: dpdklab @ 2025-09-30  4:15 UTC (permalink / raw)
  To: Test Report; +Cc: dpdk-test-reports

_Testing pending_

Branch: tags/v22.11

3b43ce3f4a54468e7ef65760c2fd7b4d6ee6d9fc --> testing pending

Upstream job id: Template-DTS-Pipeline#247060

Test environment and result as below:

+--------------+----------------------+----------------------+
| Environment  | dpdk_fips_validation | compressdev_zlib_pmd |
+==============+======================+======================+
| Ubuntu 20.04 | PEND                 | SKIPPED              |
+--------------+----------------------+----------------------+
| Ubuntu 22.04 | SKIPPED              | PASS                 |
+--------------+----------------------+----------------------+


Ubuntu 20.04
	Kernel: 5.15
	Compiler: gcc gcc (Ubuntu 9.4.0-1ubuntu1~20.04.2) 9.4.0

Ubuntu 22.04
	Kernel: 5.15
	Compiler: gcc gcc (Ubuntu 11.4.0-1ubuntu1~22.04.2) 11.4.0

To view detailed results, visit:
https://lab.dpdk.org/results/dashboard/tarballs/35051/

UNH-IOL DPDK Community Lab

To manage your email subscriptions, visit: 
https://lab.dpdk.org/results/dashboard/preferences/subscriptions/

^ permalink raw reply	[flat|nested] 57+ messages in thread
* |PENDING| [GIT MASTER] 3b43ce3f4a54468e7ef65760c2fd7b4d6ee6d9fc
@ 2025-09-30  4:12 dpdklab
  0 siblings, 0 replies; 57+ messages in thread
From: dpdklab @ 2025-09-30  4:12 UTC (permalink / raw)
  To: Test Report; +Cc: dpdk-test-reports

_Testing pending_

Branch: tags/v22.11

3b43ce3f4a54468e7ef65760c2fd7b4d6ee6d9fc --> testing pending

Upstream job id: Generic-VM-Unit-Test-DPDK#31476

Test environment and result as below:

+-------------------------------+----------------+
|          Environment          | dpdk_unit_test |
+===============================+================+
| CentOS Stream 10              | PEND           |
+-------------------------------+----------------+
| Fedora Linux 40               | PEND           |
+-------------------------------+----------------+
| Fedora Linux 41               | PEND           |
+-------------------------------+----------------+
| Debian GNU/Linux 12           | PEND           |
+-------------------------------+----------------+
| Red Hat Enterprise Linux 8.10 | PEND           |
+-------------------------------+----------------+
| CentOS Stream 9               | PEND           |
+-------------------------------+----------------+
| Fedora Linux 42               | PEND           |
+-------------------------------+----------------+
| Ubuntu 20.04                  | PEND           |
+-------------------------------+----------------+
| Ubuntu 22.04                  | PEND           |
+-------------------------------+----------------+
| Red Hat Enterprise Linux 9.5  | PEND           |
+-------------------------------+----------------+
| Ubuntu 24.04                  | PEND           |
+-------------------------------+----------------+
| Windows Server 2022           | PASS           |
+-------------------------------+----------------+


CentOS Stream 10
	Kernel: 5.15
	Compiler: gcc gcc (GCC) 14.2.1 20250110 (Red Hat 14.2.1-8)

Fedora Linux 40
	Kernel: 5.15
	Compiler: gcc gcc (GCC) 14.2.1 20240912 (Red Hat 14.2.1-3)

Fedora Linux 41
	Kernel: 5.15
	Compiler: gcc gcc (GCC) 14.3.1 20250523 (Red Hat 14.3.1-1)

Debian GNU/Linux 12
	Kernel: 5.15
	Compiler: gcc gcc (Debian 12.2.0-14+deb12u1) 12.2.0

Red Hat Enterprise Linux 8.10
	Kernel: 5.15
	Compiler: gcc gcc (GCC) 8.5.0 20210514 (Red Hat 8.5.0-22)

CentOS Stream 9
	Kernel: 5.15
	Compiler: gcc gcc (GCC) 11.5.0 20240719 (Red Hat 11.5.0-11)

Fedora Linux 42
	Kernel: 5.15
	Compiler: gcc gcc (GCC) 15.2.1 20250808 (Red Hat 15.2.1-1)

Ubuntu 20.04
	Kernel: 5.15
	Compiler: gcc gcc (Ubuntu 9.4.0-1ubuntu1~20.04.2) 9.4.0

Ubuntu 22.04
	Kernel: 5.15
	Compiler: gcc gcc (Ubuntu 11.4.0-1ubuntu1~22.04) 11.4.0

Red Hat Enterprise Linux 9.5
	Kernel: 5.15
	Compiler: gcc gcc (GCC) 11.5.0 20240719 (Red Hat 11.5.0-2)

Ubuntu 24.04
	Kernel: 5.15
	Compiler: gcc gcc (Ubuntu 13.3.0-6ubuntu2~24.04) 13.3.0

Windows Server 2022
	Kernel: 10.0.20348.2031
	Compiler: clang 15.0.7, gcc 14.1.0 (MinGW), and MSVC VS 19.39.33521

To view detailed results, visit:
https://lab.dpdk.org/results/dashboard/tarballs/35051/

UNH-IOL DPDK Community Lab

To manage your email subscriptions, visit: 
https://lab.dpdk.org/results/dashboard/preferences/subscriptions/

^ permalink raw reply	[flat|nested] 57+ messages in thread
* |PENDING| [GIT MASTER] 3b43ce3f4a54468e7ef65760c2fd7b4d6ee6d9fc
@ 2025-09-30  4:07 dpdklab
  0 siblings, 0 replies; 57+ messages in thread
From: dpdklab @ 2025-09-30  4:07 UTC (permalink / raw)
  To: Test Report; +Cc: dpdk-test-reports

_Testing pending_

Branch: tags/v22.11

3b43ce3f4a54468e7ef65760c2fd7b4d6ee6d9fc --> testing pending

Upstream job id: Generic-VM-DPDK-Compile-Meson#38674

Test environment and result as below:

+--------------+--------------------+
| Environment  | dpdk_meson_compile |
+==============+====================+
| Ubuntu 20.04 | PASS               |
+--------------+--------------------+
| FreeBSD 14.2 | PEND               |
+--------------+--------------------+


Ubuntu 20.04
	Kernel: 4.19
	Compiler: gcc gcc (Ubuntu 9.4.0-1ubuntu1~20.04.2) 9.4.0

FreeBSD 14.2
	Kernel: 14.2-RELEASE
	Compiler: clang 18.1.6

To view detailed results, visit:
https://lab.dpdk.org/results/dashboard/tarballs/35051/

UNH-IOL DPDK Community Lab

To manage your email subscriptions, visit: 
https://lab.dpdk.org/results/dashboard/preferences/subscriptions/

^ permalink raw reply	[flat|nested] 57+ messages in thread
* |PENDING| [GIT MASTER] 3b43ce3f4a54468e7ef65760c2fd7b4d6ee6d9fc
@ 2025-09-29  6:26 dpdklab
  0 siblings, 0 replies; 57+ messages in thread
From: dpdklab @ 2025-09-29  6:26 UTC (permalink / raw)
  To: Test Report; +Cc: dpdk-test-reports

_Testing pending_

Branch: tags/v22.11

3b43ce3f4a54468e7ef65760c2fd7b4d6ee6d9fc --> testing pending

Upstream job id: Generic-DPDK-Compile-Meson#429547

Test environment and result as below:

+------------------------------+--------------------+
|         Environment          | dpdk_meson_compile |
+==============================+====================+
| Fedora Linux 42              | PEND               |
+------------------------------+--------------------+
| Red Hat Enterprise Linux 9.5 | PEND               |
+------------------------------+--------------------+
| Ubuntu 20.04                 | PASS               |
+------------------------------+--------------------+
| Ubuntu 22.04                 | PEND               |
+------------------------------+--------------------+
| Debian GNU/Linux 12          | PEND               |
+------------------------------+--------------------+
| Ubuntu 24.04                 | PEND               |
+------------------------------+--------------------+
| CentOS Stream 9              | PEND               |
+------------------------------+--------------------+
| CentOS Stream 10             | PEND               |
+------------------------------+--------------------+


Fedora Linux 42
	Kernel: 5.4
	Compiler: gcc gcc (GCC) 15.2.1 20250808 (Red Hat 15.2.1-1)

Red Hat Enterprise Linux 9.5
	Kernel: 5.4
	Compiler: gcc gcc (GCC) 11.5.0 20240719 (Red Hat 11.5.0-2)

Ubuntu 20.04
	Kernel: 5.4
	Compiler: gcc gcc (Ubuntu 9.4.0-1ubuntu1~20.04.2) 9.4.0

Ubuntu 22.04
	Kernel: 5.4
	Compiler: gcc gcc (Ubuntu 11.4.0-1ubuntu1~22.04) 11.4.0

Debian GNU/Linux 12
	Kernel: 5.4
	Compiler: gcc gcc (Debian 12.2.0-14+deb12u1) 12.2.0

Ubuntu 24.04
	Kernel: 5.4
	Compiler: gcc gcc (Ubuntu 13.3.0-6ubuntu2~24.04) 13.3.0

CentOS Stream 9
	Kernel: 5.4
	Compiler: gcc gcc (GCC) 11.5.0 20240719 (Red Hat 11.5.0-11)

CentOS Stream 10
	Kernel: 5.4
	Compiler: gcc gcc (GCC) 14.2.1 20250110 (Red Hat 14.2.1-8)

To view detailed results, visit:
https://lab.dpdk.org/results/dashboard/tarballs/35039/

UNH-IOL DPDK Community Lab

To manage your email subscriptions, visit: 
https://lab.dpdk.org/results/dashboard/preferences/subscriptions/

^ permalink raw reply	[flat|nested] 57+ messages in thread
* |PENDING| [GIT MASTER] 3b43ce3f4a54468e7ef65760c2fd7b4d6ee6d9fc
@ 2025-09-29  5:10 dpdklab
  0 siblings, 0 replies; 57+ messages in thread
From: dpdklab @ 2025-09-29  5:10 UTC (permalink / raw)
  To: Test Report; +Cc: dpdk-test-reports

_Testing pending_

Branch: tags/v22.11

3b43ce3f4a54468e7ef65760c2fd7b4d6ee6d9fc --> testing pending

Upstream job id: Aarch32-Unit-Test#7671

Test environment and result as below:

+-----------------+--------------+------------------------------+---------------------------+----------------+
|   Environment   | lpm_autotest | cryptodev_sw_snow3g_autotest | cryptodev_sw_zuc_autotest | dpdk_unit_test |
+=================+==============+==============================+===========================+================+
| Ubuntu 20.04    | PEND         | SKIPPED                      | SKIPPED                   | SKIPPED        |
+-----------------+--------------+------------------------------+---------------------------+----------------+
| Debian 12 (arm) | SKIPPED      | PEND                         | PEND                      | SKIPPED        |
+-----------------+--------------+------------------------------+---------------------------+----------------+
| Ubuntu 22.04    | SKIPPED      | SKIPPED                      | SKIPPED                   | PASS           |
+-----------------+--------------+------------------------------+---------------------------+----------------+


Ubuntu 20.04
	Kernel: 5.4
	Compiler: gcc gcc (Ubuntu 9.4.0-1ubuntu1~20.04.2) 9.4.0

Debian 12 (arm)
	Kernel: Depends on container host
	Compiler: gcc (Debian 12.2.0-14) 12.2.0

Ubuntu 22.04
	Kernel: 5.15
	Compiler: gcc gcc (Ubuntu 11.4.0-1ubuntu1~22.04.2) 11.4.0

To view detailed results, visit:
https://lab.dpdk.org/results/dashboard/tarballs/35039/

UNH-IOL DPDK Community Lab

To manage your email subscriptions, visit: 
https://lab.dpdk.org/results/dashboard/preferences/subscriptions/

^ permalink raw reply	[flat|nested] 57+ messages in thread
* |PENDING| [GIT MASTER] 3b43ce3f4a54468e7ef65760c2fd7b4d6ee6d9fc
@ 2025-09-29  4:56 dpdklab
  0 siblings, 0 replies; 57+ messages in thread
From: dpdklab @ 2025-09-29  4:56 UTC (permalink / raw)
  To: Test Report; +Cc: dpdk-test-reports

_Testing pending_

Branch: tags/v22.11

3b43ce3f4a54468e7ef65760c2fd7b4d6ee6d9fc --> testing pending

Upstream job id: Generic-VM-Unit-Test-DPDK#31452

Test environment and result as below:

+-------------------------------+----------------+
|          Environment          | dpdk_unit_test |
+===============================+================+
| CentOS Stream 10              | PEND           |
+-------------------------------+----------------+
| Debian GNU/Linux 12           | PEND           |
+-------------------------------+----------------+
| CentOS Stream 9               | PEND           |
+-------------------------------+----------------+
| Fedora Linux 40               | PEND           |
+-------------------------------+----------------+
| Fedora Linux 41               | PEND           |
+-------------------------------+----------------+
| Fedora Linux 42               | PEND           |
+-------------------------------+----------------+
| Red Hat Enterprise Linux 8.10 | PEND           |
+-------------------------------+----------------+
| Red Hat Enterprise Linux 9.5  | PEND           |
+-------------------------------+----------------+
| Ubuntu 22.04                  | PEND           |
+-------------------------------+----------------+
| Ubuntu 20.04                  | PEND           |
+-------------------------------+----------------+
| Ubuntu 24.04                  | PEND           |
+-------------------------------+----------------+
| Windows Server 2022           | PASS           |
+-------------------------------+----------------+


CentOS Stream 10
	Kernel: 5.15
	Compiler: gcc gcc (GCC) 14.2.1 20250110 (Red Hat 14.2.1-8)

Debian GNU/Linux 12
	Kernel: 5.15
	Compiler: gcc gcc (Debian 12.2.0-14+deb12u1) 12.2.0

CentOS Stream 9
	Kernel: 5.15
	Compiler: gcc gcc (GCC) 11.5.0 20240719 (Red Hat 11.5.0-11)

Fedora Linux 40
	Kernel: 5.15
	Compiler: gcc gcc (GCC) 14.2.1 20240912 (Red Hat 14.2.1-3)

Fedora Linux 41
	Kernel: 5.15
	Compiler: gcc gcc (GCC) 14.3.1 20250523 (Red Hat 14.3.1-1)

Fedora Linux 42
	Kernel: 5.15
	Compiler: gcc gcc (GCC) 15.2.1 20250808 (Red Hat 15.2.1-1)

Red Hat Enterprise Linux 8.10
	Kernel: 5.15
	Compiler: gcc gcc (GCC) 8.5.0 20210514 (Red Hat 8.5.0-22)

Red Hat Enterprise Linux 9.5
	Kernel: 5.15
	Compiler: gcc gcc (GCC) 11.5.0 20240719 (Red Hat 11.5.0-2)

Ubuntu 22.04
	Kernel: 5.15
	Compiler: gcc gcc (Ubuntu 11.4.0-1ubuntu1~22.04) 11.4.0

Ubuntu 20.04
	Kernel: 5.15
	Compiler: gcc gcc (Ubuntu 9.4.0-1ubuntu1~20.04.2) 9.4.0

Ubuntu 24.04
	Kernel: 5.15
	Compiler: gcc gcc (Ubuntu 13.3.0-6ubuntu2~24.04) 13.3.0

Windows Server 2022
	Kernel: 10.0.20348.2031
	Compiler: clang 15.0.7, gcc 14.1.0 (MinGW), and MSVC VS 19.39.33521

To view detailed results, visit:
https://lab.dpdk.org/results/dashboard/tarballs/35039/

UNH-IOL DPDK Community Lab

To manage your email subscriptions, visit: 
https://lab.dpdk.org/results/dashboard/preferences/subscriptions/

^ permalink raw reply	[flat|nested] 57+ messages in thread
* |PENDING| [GIT MASTER] 3b43ce3f4a54468e7ef65760c2fd7b4d6ee6d9fc
@ 2025-09-29  4:09 dpdklab
  0 siblings, 0 replies; 57+ messages in thread
From: dpdklab @ 2025-09-29  4:09 UTC (permalink / raw)
  To: Test Report; +Cc: dpdk-test-reports

_Testing pending_

Branch: tags/v22.11

3b43ce3f4a54468e7ef65760c2fd7b4d6ee6d9fc --> testing pending

Upstream job id: Generic-VM-DPDK-Compile-Meson#38648

Test environment and result as below:

+-------------------------------+--------------------+
|          Environment          | dpdk_meson_compile |
+===============================+====================+
| CentOS Stream 9               | PEND               |
+-------------------------------+--------------------+
| CentOS Stream 10              | PEND               |
+-------------------------------+--------------------+
| Fedora Linux 42               | PEND               |
+-------------------------------+--------------------+
| Debian GNU/Linux 12           | PEND               |
+-------------------------------+--------------------+
| openSUSE Leap 15.6            | PEND               |
+-------------------------------+--------------------+
| Ubuntu 22.04                  | PEND               |
+-------------------------------+--------------------+
| Ubuntu 20.04                  | PASS               |
+-------------------------------+--------------------+
| Red Hat Enterprise Linux 9.5  | PEND               |
+-------------------------------+--------------------+
| Red Hat Enterprise Linux 8.10 | PEND               |
+-------------------------------+--------------------+
| Ubuntu 24.04                  | PEND               |
+-------------------------------+--------------------+


CentOS Stream 9
	Kernel: 5.15
	Compiler: gcc gcc (GCC) 11.5.0 20240719 (Red Hat 11.5.0-11)

CentOS Stream 10
	Kernel: 5.15
	Compiler: gcc gcc (GCC) 14.2.1 20250110 (Red Hat 14.2.1-8)

Fedora Linux 42
	Kernel: 5.15
	Compiler: clang gcc (GCC) 15.2.1 20250808 (Red Hat 15.2.1-1)

Debian GNU/Linux 12
	Kernel: 5.15
	Compiler: gcc gcc (Debian 12.2.0-14+deb12u1) 12.2.0

openSUSE Leap 15.6
	Kernel: 5.15
	Compiler: gcc gcc (SUSE Linux) 7.5.0

Ubuntu 22.04
	Kernel: 5.15
	Compiler: gcc gcc (Ubuntu 11.4.0-1ubuntu1~22.04) 11.4.0

Ubuntu 20.04
	Kernel: 5.15
	Compiler: gcc gcc (Ubuntu 9.4.0-1ubuntu1~20.04.2) 9.4.0

Red Hat Enterprise Linux 9.5
	Kernel: 5.15
	Compiler: gcc gcc (GCC) 11.5.0 20240719 (Red Hat 11.5.0-2)

Red Hat Enterprise Linux 8.10
	Kernel: 5.15
	Compiler: gcc gcc (GCC) 8.5.0 20210514 (Red Hat 8.5.0-22)

Ubuntu 24.04
	Kernel: 5.15
	Compiler: gcc gcc (Ubuntu 13.3.0-6ubuntu2~24.04) 13.3.0

To view detailed results, visit:
https://lab.dpdk.org/results/dashboard/tarballs/35039/

UNH-IOL DPDK Community Lab

To manage your email subscriptions, visit: 
https://lab.dpdk.org/results/dashboard/preferences/subscriptions/

^ permalink raw reply	[flat|nested] 57+ messages in thread
* |PENDING| [GIT MASTER] 3b43ce3f4a54468e7ef65760c2fd7b4d6ee6d9fc
@ 2025-09-28  5:10 dpdklab
  0 siblings, 0 replies; 57+ messages in thread
From: dpdklab @ 2025-09-28  5:10 UTC (permalink / raw)
  To: Test Report; +Cc: dpdk-test-reports

_Testing pending_

Branch: tags/v22.11

3b43ce3f4a54468e7ef65760c2fd7b4d6ee6d9fc --> testing pending

Upstream job id: Generic-DPDK-Compile-Meson#429358

Test environment and result as below:

+------------------------------+--------------------+
|         Environment          | dpdk_meson_compile |
+==============================+====================+
| Fedora Linux 42              | PEND               |
+------------------------------+--------------------+
| Ubuntu 22.04                 | PEND               |
+------------------------------+--------------------+
| Ubuntu 20.04                 | PEND               |
+------------------------------+--------------------+
| Red Hat Enterprise Linux 9.5 | PEND               |
+------------------------------+--------------------+
| Debian GNU/Linux 12          | PEND               |
+------------------------------+--------------------+
| CentOS Stream 10             | PEND               |
+------------------------------+--------------------+
| CentOS Stream 9              | PEND               |
+------------------------------+--------------------+
| Ubuntu 24.04                 | PEND               |
+------------------------------+--------------------+


Fedora Linux 42
	Kernel: 5.4
	Compiler: clang gcc (GCC) 15.2.1 20250808 (Red Hat 15.2.1-1)

Ubuntu 22.04
	Kernel: 5.4
	Compiler: gcc gcc (Ubuntu 11.4.0-1ubuntu1~22.04) 11.4.0

Ubuntu 20.04
	Kernel: 5.4
	Compiler: gcc gcc (Ubuntu 9.4.0-1ubuntu1~20.04.2) 9.4.0

Red Hat Enterprise Linux 9.5
	Kernel: 5.4
	Compiler: gcc gcc (GCC) 11.5.0 20240719 (Red Hat 11.5.0-2)

Debian GNU/Linux 12
	Kernel: 5.4
	Compiler: gcc gcc (Debian 12.2.0-14+deb12u1) 12.2.0

CentOS Stream 10
	Kernel: 5.4
	Compiler: gcc gcc (GCC) 14.2.1 20250110 (Red Hat 14.2.1-8)

CentOS Stream 9
	Kernel: 5.4
	Compiler: gcc gcc (GCC) 11.5.0 20240719 (Red Hat 11.5.0-11)

Ubuntu 24.04
	Kernel: 5.4
	Compiler: gcc gcc (Ubuntu 13.3.0-6ubuntu2~24.04) 13.3.0

To view detailed results, visit:
https://lab.dpdk.org/results/dashboard/tarballs/35031/

UNH-IOL DPDK Community Lab

To manage your email subscriptions, visit: 
https://lab.dpdk.org/results/dashboard/preferences/subscriptions/

^ permalink raw reply	[flat|nested] 57+ messages in thread
* |PENDING| [GIT MASTER] 3b43ce3f4a54468e7ef65760c2fd7b4d6ee6d9fc
@ 2025-09-28  5:02 dpdklab
  0 siblings, 0 replies; 57+ messages in thread
From: dpdklab @ 2025-09-28  5:02 UTC (permalink / raw)
  To: Test Report; +Cc: dpdk-test-reports

_Testing pending_

Branch: tags/v22.11

3b43ce3f4a54468e7ef65760c2fd7b4d6ee6d9fc --> testing pending

Upstream job id: Generic-Unit-Test-DPDK#375871

Test environment and result as below:

+-----------------+--------------+---------------------------+------------------------------+----------------+
|   Environment   | lpm_autotest | cryptodev_sw_zuc_autotest | cryptodev_sw_snow3g_autotest | dpdk_unit_test |
+=================+==============+===========================+==============================+================+
| Ubuntu 20.04    | PASS         | SKIPPED                   | SKIPPED                      | SKIPPED        |
+-----------------+--------------+---------------------------+------------------------------+----------------+
| Debian 12 (arm) | SKIPPED      | PEND                      | PEND                         | SKIPPED        |
+-----------------+--------------+---------------------------+------------------------------+----------------+
| Ubuntu 22.04    | SKIPPED      | SKIPPED                   | SKIPPED                      | PEND           |
+-----------------+--------------+---------------------------+------------------------------+----------------+


Ubuntu 20.04
	Kernel: 5.4
	Compiler: gcc gcc (Ubuntu 9.4.0-1ubuntu1~20.04.2) 9.4.0

Debian 12 (arm)
	Kernel: Depends on container host
	Compiler: gcc (Debian 12.2.0-14) 12.2.0

Ubuntu 22.04
	Kernel: 5.15
	Compiler: gcc gcc (Ubuntu 11.4.0-1ubuntu1~22.04.2) 11.4.0

To view detailed results, visit:
https://lab.dpdk.org/results/dashboard/tarballs/35031/

UNH-IOL DPDK Community Lab

To manage your email subscriptions, visit: 
https://lab.dpdk.org/results/dashboard/preferences/subscriptions/

^ permalink raw reply	[flat|nested] 57+ messages in thread
* |PENDING| [GIT MASTER] 3b43ce3f4a54468e7ef65760c2fd7b4d6ee6d9fc
@ 2025-09-28  4:25 dpdklab
  0 siblings, 0 replies; 57+ messages in thread
From: dpdklab @ 2025-09-28  4:25 UTC (permalink / raw)
  To: Test Report; +Cc: dpdk-test-reports

_Testing pending_

Branch: tags/v22.11

3b43ce3f4a54468e7ef65760c2fd7b4d6ee6d9fc --> testing pending

Upstream job id: Generic-VM-Unit-Test-DPDK#31438

Test environment and result as below:

+-------------------------------+----------------+
|          Environment          | dpdk_unit_test |
+===============================+================+
| CentOS Stream 10              | PEND           |
+-------------------------------+----------------+
| Fedora Linux 41               | PEND           |
+-------------------------------+----------------+
| Ubuntu 22.04                  | PEND           |
+-------------------------------+----------------+
| Debian GNU/Linux 12           | PEND           |
+-------------------------------+----------------+
| Red Hat Enterprise Linux 8.10 | PEND           |
+-------------------------------+----------------+
| Red Hat Enterprise Linux 9.5  | PEND           |
+-------------------------------+----------------+
| Fedora Linux 40               | PEND           |
+-------------------------------+----------------+
| Fedora Linux 42               | PEND           |
+-------------------------------+----------------+
| CentOS Stream 9               | PEND           |
+-------------------------------+----------------+
| Ubuntu 20.04                  | PEND           |
+-------------------------------+----------------+
| Ubuntu 24.04                  | PEND           |
+-------------------------------+----------------+
| Windows Server 2022           | PASS           |
+-------------------------------+----------------+


CentOS Stream 10
	Kernel: 5.15
	Compiler: gcc gcc (GCC) 14.2.1 20250110 (Red Hat 14.2.1-8)

Fedora Linux 41
	Kernel: 5.15
	Compiler: gcc gcc (GCC) 14.3.1 20250523 (Red Hat 14.3.1-1)

Ubuntu 22.04
	Kernel: 5.15
	Compiler: gcc gcc (Ubuntu 11.4.0-1ubuntu1~22.04) 11.4.0

Debian GNU/Linux 12
	Kernel: 5.15
	Compiler: gcc gcc (Debian 12.2.0-14+deb12u1) 12.2.0

Red Hat Enterprise Linux 8.10
	Kernel: 5.15
	Compiler: gcc gcc (GCC) 8.5.0 20210514 (Red Hat 8.5.0-22)

Red Hat Enterprise Linux 9.5
	Kernel: 5.15
	Compiler: gcc gcc (GCC) 11.5.0 20240719 (Red Hat 11.5.0-2)

Fedora Linux 40
	Kernel: 5.15
	Compiler: gcc gcc (GCC) 14.2.1 20240912 (Red Hat 14.2.1-3)

Fedora Linux 42
	Kernel: 5.15
	Compiler: gcc gcc (GCC) 15.2.1 20250808 (Red Hat 15.2.1-1)

CentOS Stream 9
	Kernel: 5.15
	Compiler: gcc gcc (GCC) 11.5.0 20240719 (Red Hat 11.5.0-11)

Ubuntu 20.04
	Kernel: 5.15
	Compiler: gcc gcc (Ubuntu 9.4.0-1ubuntu1~20.04.2) 9.4.0

Ubuntu 24.04
	Kernel: 5.15
	Compiler: gcc gcc (Ubuntu 13.3.0-6ubuntu2~24.04) 13.3.0

Windows Server 2022
	Kernel: 10.0.20348.2031
	Compiler: clang 15.0.7, gcc 14.1.0 (MinGW), and MSVC VS 19.39.33521

To view detailed results, visit:
https://lab.dpdk.org/results/dashboard/tarballs/35031/

UNH-IOL DPDK Community Lab

To manage your email subscriptions, visit: 
https://lab.dpdk.org/results/dashboard/preferences/subscriptions/

^ permalink raw reply	[flat|nested] 57+ messages in thread
* |PENDING| [GIT MASTER] 3b43ce3f4a54468e7ef65760c2fd7b4d6ee6d9fc
@ 2025-09-28  4:11 dpdklab
  0 siblings, 0 replies; 57+ messages in thread
From: dpdklab @ 2025-09-28  4:11 UTC (permalink / raw)
  To: Test Report; +Cc: dpdk-test-reports

_Testing pending_

Branch: tags/v22.11

3b43ce3f4a54468e7ef65760c2fd7b4d6ee6d9fc --> testing pending

Upstream job id: Generic-VM-DPDK-Compile-Meson#38634

Test environment and result as below:

+-------------------------------+--------------------+-------------------------+
|          Environment          | dpdk_meson_compile | dpdk_llvm_clang_compile |
+===============================+====================+=========================+
| CentOS Stream 9               | PEND               | SKIPPED                 |
+-------------------------------+--------------------+-------------------------+
| CentOS Stream 10              | PEND               | SKIPPED                 |
+-------------------------------+--------------------+-------------------------+
| Debian GNU/Linux 12           | PEND               | SKIPPED                 |
+-------------------------------+--------------------+-------------------------+
| Fedora Linux 42               | PEND               | SKIPPED                 |
+-------------------------------+--------------------+-------------------------+
| openSUSE Leap 15.6            | PEND               | SKIPPED                 |
+-------------------------------+--------------------+-------------------------+
| Red Hat Enterprise Linux 8.10 | PEND               | SKIPPED                 |
+-------------------------------+--------------------+-------------------------+
| Red Hat Enterprise Linux 9.5  | PEND               | SKIPPED                 |
+-------------------------------+--------------------+-------------------------+
| Ubuntu 22.04                  | PEND               | SKIPPED                 |
+-------------------------------+--------------------+-------------------------+
| Ubuntu 24.04                  | PEND               | SKIPPED                 |
+-------------------------------+--------------------+-------------------------+
| Ubuntu 20.04                  | PASS               | SKIPPED                 |
+-------------------------------+--------------------+-------------------------+
| Windows Server 2022           | SKIPPED            | PEND                    |
+-------------------------------+--------------------+-------------------------+


CentOS Stream 9
	Kernel: 5.15
	Compiler: gcc gcc (GCC) 11.5.0 20240719 (Red Hat 11.5.0-11)

CentOS Stream 10
	Kernel: 5.15
	Compiler: gcc gcc (GCC) 14.2.1 20250110 (Red Hat 14.2.1-8)

Debian GNU/Linux 12
	Kernel: 5.15
	Compiler: gcc gcc (Debian 12.2.0-14+deb12u1) 12.2.0

Fedora Linux 42
	Kernel: 5.15
	Compiler: clang gcc (GCC) 15.2.1 20250808 (Red Hat 15.2.1-1)

openSUSE Leap 15.6
	Kernel: 5.15
	Compiler: gcc gcc (SUSE Linux) 7.5.0

Red Hat Enterprise Linux 8.10
	Kernel: 5.15
	Compiler: gcc gcc (GCC) 8.5.0 20210514 (Red Hat 8.5.0-22)

Red Hat Enterprise Linux 9.5
	Kernel: 5.15
	Compiler: gcc gcc (GCC) 11.5.0 20240719 (Red Hat 11.5.0-2)

Ubuntu 22.04
	Kernel: 5.15
	Compiler: gcc gcc (Ubuntu 11.4.0-1ubuntu1~22.04) 11.4.0

Ubuntu 24.04
	Kernel: 5.15
	Compiler: gcc gcc (Ubuntu 13.3.0-6ubuntu2~24.04) 13.3.0

Ubuntu 20.04
	Kernel: 5.15
	Compiler: gcc gcc (Ubuntu 9.4.0-1ubuntu1~20.04.2) 9.4.0

Windows Server 2022
	Kernel: 10.0.20348.2031
	Compiler: clang 15.0.7, gcc 14.1.0 (MinGW), and MSVC VS 19.39.33521

To view detailed results, visit:
https://lab.dpdk.org/results/dashboard/tarballs/35031/

UNH-IOL DPDK Community Lab

To manage your email subscriptions, visit: 
https://lab.dpdk.org/results/dashboard/preferences/subscriptions/

^ permalink raw reply	[flat|nested] 57+ messages in thread
* |PENDING| [GIT MASTER] 3b43ce3f4a54468e7ef65760c2fd7b4d6ee6d9fc
@ 2025-09-27  4:29 dpdklab
  0 siblings, 0 replies; 57+ messages in thread
From: dpdklab @ 2025-09-27  4:29 UTC (permalink / raw)
  To: Test Report; +Cc: dpdk-test-reports

_Testing pending_

Branch: tags/v22.11

3b43ce3f4a54468e7ef65760c2fd7b4d6ee6d9fc --> testing pending

Upstream job id: Template-DTS-Pipeline#246724

Test environment and result as below:

+--------------+----------------------+----------------------+
| Environment  | dpdk_fips_validation | compressdev_zlib_pmd |
+==============+======================+======================+
| Ubuntu 20.04 | PEND                 | SKIPPED              |
+--------------+----------------------+----------------------+
| Ubuntu 22.04 | SKIPPED              | PASS                 |
+--------------+----------------------+----------------------+


Ubuntu 20.04
	Kernel: 5.15
	Compiler: gcc gcc (Ubuntu 9.4.0-1ubuntu1~20.04.2) 9.4.0

Ubuntu 22.04
	Kernel: 5.15
	Compiler: gcc gcc (Ubuntu 11.4.0-1ubuntu1~22.04.2) 11.4.0

To view detailed results, visit:
https://lab.dpdk.org/results/dashboard/tarballs/35026/

UNH-IOL DPDK Community Lab

To manage your email subscriptions, visit: 
https://lab.dpdk.org/results/dashboard/preferences/subscriptions/

^ permalink raw reply	[flat|nested] 57+ messages in thread
* |PENDING| [GIT MASTER] 3b43ce3f4a54468e7ef65760c2fd7b4d6ee6d9fc
@ 2025-09-27  4:15 dpdklab
  0 siblings, 0 replies; 57+ messages in thread
From: dpdklab @ 2025-09-27  4:15 UTC (permalink / raw)
  To: Test Report; +Cc: dpdk-test-reports

_Testing pending_

Branch: tags/v22.11

3b43ce3f4a54468e7ef65760c2fd7b4d6ee6d9fc --> testing pending

Upstream job id: Generic-DPDK-Compile-Meson#429219

Test environment and result as below:

+------------------------------+--------------------+
|         Environment          | dpdk_meson_compile |
+==============================+====================+
| Debian GNU/Linux 12          | PEND               |
+------------------------------+--------------------+
| Fedora Linux 42              | PEND               |
+------------------------------+--------------------+
| Red Hat Enterprise Linux 9.5 | PEND               |
+------------------------------+--------------------+
| Ubuntu 20.04                 | PEND               |
+------------------------------+--------------------+
| CentOS Stream 9              | PEND               |
+------------------------------+--------------------+
| Ubuntu 24.04                 | PEND               |
+------------------------------+--------------------+
| Ubuntu 22.04                 | PEND               |
+------------------------------+--------------------+
| CentOS Stream 10             | PEND               |
+------------------------------+--------------------+


Debian GNU/Linux 12
	Kernel: 5.4
	Compiler: gcc gcc (Debian 12.2.0-14+deb12u1) 12.2.0

Fedora Linux 42
	Kernel: 5.4
	Compiler: gcc gcc (GCC) 15.2.1 20250808 (Red Hat 15.2.1-1)

Red Hat Enterprise Linux 9.5
	Kernel: 5.4
	Compiler: gcc gcc (GCC) 11.5.0 20240719 (Red Hat 11.5.0-2)

Ubuntu 20.04
	Kernel: 5.4
	Compiler: gcc gcc (Ubuntu 9.4.0-1ubuntu1~20.04.2) 9.4.0

CentOS Stream 9
	Kernel: 5.4
	Compiler: gcc gcc (GCC) 11.5.0 20240719 (Red Hat 11.5.0-11)

Ubuntu 24.04
	Kernel: 5.4
	Compiler: gcc gcc (Ubuntu 13.3.0-6ubuntu2~24.04) 13.3.0

Ubuntu 22.04
	Kernel: 5.4
	Compiler: gcc gcc (Ubuntu 11.4.0-1ubuntu1~22.04) 11.4.0

CentOS Stream 10
	Kernel: 5.4
	Compiler: gcc gcc (GCC) 14.2.1 20250110 (Red Hat 14.2.1-8)

To view detailed results, visit:
https://lab.dpdk.org/results/dashboard/tarballs/35026/

UNH-IOL DPDK Community Lab

To manage your email subscriptions, visit: 
https://lab.dpdk.org/results/dashboard/preferences/subscriptions/

^ permalink raw reply	[flat|nested] 57+ messages in thread
* |PENDING| [GIT MASTER] 3b43ce3f4a54468e7ef65760c2fd7b4d6ee6d9fc
@ 2025-09-27  4:06 dpdklab
  0 siblings, 0 replies; 57+ messages in thread
From: dpdklab @ 2025-09-27  4:06 UTC (permalink / raw)
  To: Test Report; +Cc: dpdk-test-reports

_Testing pending_

Branch: tags/v22.11

3b43ce3f4a54468e7ef65760c2fd7b4d6ee6d9fc --> testing pending

Upstream job id: Generic-VM-DPDK-Compile-Meson#38622

Test environment and result as below:

+-------------------------------+--------------------+-------------------------+
|          Environment          | dpdk_meson_compile | dpdk_llvm_clang_compile |
+===============================+====================+=========================+
| FreeBSD 14.2                  | PEND               | SKIPPED                 |
+-------------------------------+--------------------+-------------------------+
| Ubuntu 20.04                  | PASS               | SKIPPED                 |
+-------------------------------+--------------------+-------------------------+
| Debian GNU/Linux 12           | PEND               | SKIPPED                 |
+-------------------------------+--------------------+-------------------------+
| CentOS Stream 9               | PEND               | SKIPPED                 |
+-------------------------------+--------------------+-------------------------+
| Fedora Linux 42               | PEND               | SKIPPED                 |
+-------------------------------+--------------------+-------------------------+
| CentOS Stream 10              | PEND               | SKIPPED                 |
+-------------------------------+--------------------+-------------------------+
| openSUSE Leap 15.6            | PEND               | SKIPPED                 |
+-------------------------------+--------------------+-------------------------+
| Red Hat Enterprise Linux 9.5  | PEND               | SKIPPED                 |
+-------------------------------+--------------------+-------------------------+
| Red Hat Enterprise Linux 8.10 | PEND               | SKIPPED                 |
+-------------------------------+--------------------+-------------------------+
| Ubuntu 24.04                  | PEND               | SKIPPED                 |
+-------------------------------+--------------------+-------------------------+
| Ubuntu 22.04                  | PEND               | SKIPPED                 |
+-------------------------------+--------------------+-------------------------+
| Windows Server 2022           | SKIPPED            | PEND                    |
+-------------------------------+--------------------+-------------------------+


FreeBSD 14.2
	Kernel: 14.2-RELEASE
	Compiler: clang 18.1.6

Ubuntu 20.04
	Kernel: 5.15
	Compiler: gcc gcc (Ubuntu 9.4.0-1ubuntu1~20.04.2) 9.4.0

Debian GNU/Linux 12
	Kernel: 5.15
	Compiler: gcc gcc (Debian 12.2.0-14+deb12u1) 12.2.0

CentOS Stream 9
	Kernel: 5.15
	Compiler: gcc gcc (GCC) 11.5.0 20240719 (Red Hat 11.5.0-11)

Fedora Linux 42
	Kernel: 5.15
	Compiler: clang gcc (GCC) 15.2.1 20250808 (Red Hat 15.2.1-1)

CentOS Stream 10
	Kernel: 5.15
	Compiler: gcc gcc (GCC) 14.2.1 20250110 (Red Hat 14.2.1-8)

openSUSE Leap 15.6
	Kernel: 5.15
	Compiler: gcc gcc (SUSE Linux) 7.5.0

Red Hat Enterprise Linux 9.5
	Kernel: 5.15
	Compiler: gcc gcc (GCC) 11.5.0 20240719 (Red Hat 11.5.0-2)

Red Hat Enterprise Linux 8.10
	Kernel: 5.15
	Compiler: gcc gcc (GCC) 8.5.0 20210514 (Red Hat 8.5.0-22)

Ubuntu 24.04
	Kernel: 5.15
	Compiler: gcc gcc (Ubuntu 13.3.0-6ubuntu2~24.04) 13.3.0

Ubuntu 22.04
	Kernel: 5.15
	Compiler: gcc gcc (Ubuntu 11.4.0-1ubuntu1~22.04) 11.4.0

Windows Server 2022
	Kernel: 10.0.20348.2031
	Compiler: clang 15.0.7, gcc 14.1.0 (MinGW), and MSVC VS 19.39.33521

To view detailed results, visit:
https://lab.dpdk.org/results/dashboard/tarballs/35026/

UNH-IOL DPDK Community Lab

To manage your email subscriptions, visit: 
https://lab.dpdk.org/results/dashboard/preferences/subscriptions/

^ permalink raw reply	[flat|nested] 57+ messages in thread
* |PENDING| [GIT MASTER] 3b43ce3f4a54468e7ef65760c2fd7b4d6ee6d9fc
@ 2025-09-26  5:36 dpdklab
  0 siblings, 0 replies; 57+ messages in thread
From: dpdklab @ 2025-09-26  5:36 UTC (permalink / raw)
  To: Test Report; +Cc: dpdk-test-reports

_Testing pending_

Branch: tags/v22.11

3b43ce3f4a54468e7ef65760c2fd7b4d6ee6d9fc --> testing pending

Upstream job id: Generic-DPDK-Compile-Meson#428764

Test environment and result as below:

+------------------------------+--------------------+
|         Environment          | dpdk_meson_compile |
+==============================+====================+
| Red Hat Enterprise Linux 9.5 | PEND               |
+------------------------------+--------------------+
| Ubuntu 20.04                 | PEND               |
+------------------------------+--------------------+
| Debian GNU/Linux 12          | PEND               |
+------------------------------+--------------------+
| Fedora Linux 42              | PEND               |
+------------------------------+--------------------+
| Ubuntu 22.04                 | PEND               |
+------------------------------+--------------------+
| CentOS Stream 9              | PEND               |
+------------------------------+--------------------+
| Ubuntu 24.04                 | PEND               |
+------------------------------+--------------------+
| CentOS Stream 10             | PEND               |
+------------------------------+--------------------+


Red Hat Enterprise Linux 9.5
	Kernel: 5.4
	Compiler: gcc gcc (GCC) 11.5.0 20240719 (Red Hat 11.5.0-2)

Ubuntu 20.04
	Kernel: 5.15
	Compiler: aarch64-linux-gnu-gcc gcc (Ubuntu 9.4.0-1ubuntu1~20.04.2) 9.4.0

Debian GNU/Linux 12
	Kernel: 5.4
	Compiler: gcc gcc (Debian 12.2.0-14+deb12u1) 12.2.0

Fedora Linux 42
	Kernel: 5.4
	Compiler: gcc gcc (GCC) 15.2.1 20250808 (Red Hat 15.2.1-1)

Ubuntu 22.04
	Kernel: 5.4
	Compiler: gcc gcc (Ubuntu 11.4.0-1ubuntu1~22.04) 11.4.0

CentOS Stream 9
	Kernel: 5.4
	Compiler: gcc gcc (GCC) 11.5.0 20240719 (Red Hat 11.5.0-11)

Ubuntu 24.04
	Kernel: 5.4
	Compiler: gcc gcc (Ubuntu 13.3.0-6ubuntu2~24.04) 13.3.0

CentOS Stream 10
	Kernel: 5.4
	Compiler: gcc gcc (GCC) 14.2.1 20250110 (Red Hat 14.2.1-8)

To view detailed results, visit:
https://lab.dpdk.org/results/dashboard/tarballs/35009/

UNH-IOL DPDK Community Lab

To manage your email subscriptions, visit: 
https://lab.dpdk.org/results/dashboard/preferences/subscriptions/

^ permalink raw reply	[flat|nested] 57+ messages in thread
* |PENDING| [GIT MASTER] 3b43ce3f4a54468e7ef65760c2fd7b4d6ee6d9fc
@ 2025-09-26  4:50 dpdklab
  0 siblings, 0 replies; 57+ messages in thread
From: dpdklab @ 2025-09-26  4:50 UTC (permalink / raw)
  To: Test Report; +Cc: dpdk-test-reports

_Testing pending_

Branch: tags/v22.11

3b43ce3f4a54468e7ef65760c2fd7b4d6ee6d9fc --> testing pending

Upstream job id: Aarch32-Unit-Test#7641

Test environment and result as below:

+-----------------+---------------------------+------------------------------+--------------+----------------+
|   Environment   | cryptodev_sw_zuc_autotest | cryptodev_sw_snow3g_autotest | lpm_autotest | dpdk_unit_test |
+=================+===========================+==============================+==============+================+
| Debian 12 (arm) | PEND                      | PEND                         | SKIPPED      | SKIPPED        |
+-----------------+---------------------------+------------------------------+--------------+----------------+
| Ubuntu 20.04    | SKIPPED                   | SKIPPED                      | PEND         | SKIPPED        |
+-----------------+---------------------------+------------------------------+--------------+----------------+
| Ubuntu 22.04    | SKIPPED                   | SKIPPED                      | SKIPPED      | PASS           |
+-----------------+---------------------------+------------------------------+--------------+----------------+


Debian 12 (arm)
	Kernel: Depends on container host
	Compiler: gcc (Debian 12.2.0-14) 12.2.0

Ubuntu 20.04
	Kernel: 5.4
	Compiler: gcc gcc (Ubuntu 9.4.0-1ubuntu1~20.04.2) 9.4.0

Ubuntu 22.04
	Kernel: 5.15
	Compiler: gcc gcc (Ubuntu 11.4.0-1ubuntu1~22.04.2) 11.4.0

To view detailed results, visit:
https://lab.dpdk.org/results/dashboard/tarballs/35009/

UNH-IOL DPDK Community Lab

To manage your email subscriptions, visit: 
https://lab.dpdk.org/results/dashboard/preferences/subscriptions/

^ permalink raw reply	[flat|nested] 57+ messages in thread
* |PENDING| [GIT MASTER] 3b43ce3f4a54468e7ef65760c2fd7b4d6ee6d9fc
@ 2025-09-26  4:17 dpdklab
  0 siblings, 0 replies; 57+ messages in thread
From: dpdklab @ 2025-09-26  4:17 UTC (permalink / raw)
  To: Test Report; +Cc: dpdk-test-reports

_Testing pending_

Branch: tags/v22.11

3b43ce3f4a54468e7ef65760c2fd7b4d6ee6d9fc --> testing pending

Upstream job id: Template-DTS-Pipeline#246441

Test environment and result as below:

+--------------+----------------------+----------------------+
| Environment  | dpdk_fips_validation | compressdev_zlib_pmd |
+==============+======================+======================+
| Ubuntu 20.04 | PEND                 | SKIPPED              |
+--------------+----------------------+----------------------+
| Ubuntu 22.04 | SKIPPED              | PASS                 |
+--------------+----------------------+----------------------+


Ubuntu 20.04
	Kernel: 5.15
	Compiler: gcc gcc (Ubuntu 9.4.0-1ubuntu1~20.04.2) 9.4.0

Ubuntu 22.04
	Kernel: 5.15
	Compiler: gcc gcc (Ubuntu 11.4.0-1ubuntu1~22.04.2) 11.4.0

To view detailed results, visit:
https://lab.dpdk.org/results/dashboard/tarballs/35009/

UNH-IOL DPDK Community Lab

To manage your email subscriptions, visit: 
https://lab.dpdk.org/results/dashboard/preferences/subscriptions/

^ permalink raw reply	[flat|nested] 57+ messages in thread
* |PENDING| [GIT MASTER] 3b43ce3f4a54468e7ef65760c2fd7b4d6ee6d9fc
@ 2025-09-26  4:09 dpdklab
  0 siblings, 0 replies; 57+ messages in thread
From: dpdklab @ 2025-09-26  4:09 UTC (permalink / raw)
  To: Test Report; +Cc: dpdk-test-reports

_Testing pending_

Branch: tags/v22.11

3b43ce3f4a54468e7ef65760c2fd7b4d6ee6d9fc --> testing pending

Upstream job id: Generic-VM-DPDK-Compile-Meson#38588

Test environment and result as below:

+-------------------------------+--------------------+-------------------------+
|          Environment          | dpdk_meson_compile | dpdk_llvm_clang_compile |
+===============================+====================+=========================+
| CentOS Stream 10              | PEND               | SKIPPED                 |
+-------------------------------+--------------------+-------------------------+
| CentOS Stream 9               | PEND               | SKIPPED                 |
+-------------------------------+--------------------+-------------------------+
| Fedora Linux 42               | PEND               | SKIPPED                 |
+-------------------------------+--------------------+-------------------------+
| Debian GNU/Linux 12           | PEND               | SKIPPED                 |
+-------------------------------+--------------------+-------------------------+
| Ubuntu 20.04                  | PEND               | SKIPPED                 |
+-------------------------------+--------------------+-------------------------+
| openSUSE Leap 15.6            | PEND               | SKIPPED                 |
+-------------------------------+--------------------+-------------------------+
| Red Hat Enterprise Linux 8.10 | PEND               | SKIPPED                 |
+-------------------------------+--------------------+-------------------------+
| FreeBSD 14.2                  | PEND               | SKIPPED                 |
+-------------------------------+--------------------+-------------------------+
| Red Hat Enterprise Linux 9.5  | PEND               | SKIPPED                 |
+-------------------------------+--------------------+-------------------------+
| Ubuntu 22.04                  | PEND               | SKIPPED                 |
+-------------------------------+--------------------+-------------------------+
| Ubuntu 24.04                  | PEND               | SKIPPED                 |
+-------------------------------+--------------------+-------------------------+
| Windows Server 2022           | SKIPPED            | PEND                    |
+-------------------------------+--------------------+-------------------------+


CentOS Stream 10
	Kernel: 5.15
	Compiler: gcc gcc (GCC) 14.2.1 20250110 (Red Hat 14.2.1-8)

CentOS Stream 9
	Kernel: 5.15
	Compiler: gcc gcc (GCC) 11.5.0 20240719 (Red Hat 11.5.0-11)

Fedora Linux 42
	Kernel: 5.15
	Compiler: gcc gcc (GCC) 15.2.1 20250808 (Red Hat 15.2.1-1)

Debian GNU/Linux 12
	Kernel: 5.15
	Compiler: gcc gcc (Debian 12.2.0-14+deb12u1) 12.2.0

Ubuntu 20.04
	Kernel: 4.19
	Compiler: gcc gcc (Ubuntu 9.4.0-1ubuntu1~20.04.2) 9.4.0

openSUSE Leap 15.6
	Kernel: 5.15
	Compiler: gcc gcc (SUSE Linux) 7.5.0

Red Hat Enterprise Linux 8.10
	Kernel: 5.15
	Compiler: gcc gcc (GCC) 8.5.0 20210514 (Red Hat 8.5.0-22)

FreeBSD 14.2
	Kernel: 14.2-RELEASE
	Compiler: clang 18.1.6

Red Hat Enterprise Linux 9.5
	Kernel: 5.15
	Compiler: gcc gcc (GCC) 11.5.0 20240719 (Red Hat 11.5.0-2)

Ubuntu 22.04
	Kernel: 5.15
	Compiler: gcc gcc (Ubuntu 11.4.0-1ubuntu1~22.04) 11.4.0

Ubuntu 24.04
	Kernel: 5.15
	Compiler: gcc gcc (Ubuntu 13.3.0-6ubuntu2~24.04) 13.3.0

Windows Server 2022
	Kernel: 10.0.20348.2031
	Compiler: clang 15.0.7, gcc 14.1.0 (MinGW), and MSVC VS 19.39.33521

To view detailed results, visit:
https://lab.dpdk.org/results/dashboard/tarballs/35009/

UNH-IOL DPDK Community Lab

To manage your email subscriptions, visit: 
https://lab.dpdk.org/results/dashboard/preferences/subscriptions/

^ permalink raw reply	[flat|nested] 57+ messages in thread
* |PENDING| [GIT MASTER] 3b43ce3f4a54468e7ef65760c2fd7b4d6ee6d9fc
@ 2025-09-25  5:26 dpdklab
  0 siblings, 0 replies; 57+ messages in thread
From: dpdklab @ 2025-09-25  5:26 UTC (permalink / raw)
  To: Test Report; +Cc: dpdk-test-reports

_Testing pending_

Branch: tags/v22.11

3b43ce3f4a54468e7ef65760c2fd7b4d6ee6d9fc --> testing pending

Upstream job id: Generic-DPDK-Compile-Meson#428415

Test environment and result as below:

+------------------------------+--------------------+
|         Environment          | dpdk_meson_compile |
+==============================+====================+
| Red Hat Enterprise Linux 9.5 | PEND               |
+------------------------------+--------------------+
| Ubuntu 20.04                 | PEND               |
+------------------------------+--------------------+
| Debian GNU/Linux 12          | PEND               |
+------------------------------+--------------------+
| Fedora Linux 42              | PEND               |
+------------------------------+--------------------+
| Ubuntu 22.04                 | PEND               |
+------------------------------+--------------------+
| Ubuntu 24.04                 | PEND               |
+------------------------------+--------------------+
| CentOS Stream 10             | PEND               |
+------------------------------+--------------------+
| CentOS Stream 9              | PEND               |
+------------------------------+--------------------+


Red Hat Enterprise Linux 9.5
	Kernel: 5.4
	Compiler: gcc gcc (GCC) 11.5.0 20240719 (Red Hat 11.5.0-2)

Ubuntu 20.04
	Kernel: 5.15
	Compiler: aarch64-linux-gnu-gcc gcc (Ubuntu 9.4.0-1ubuntu1~20.04.2) 9.4.0

Debian GNU/Linux 12
	Kernel: 5.4
	Compiler: gcc gcc (Debian 12.2.0-14+deb12u1) 12.2.0

Fedora Linux 42
	Kernel: 5.4
	Compiler: clang gcc (GCC) 15.2.1 20250808 (Red Hat 15.2.1-1)

Ubuntu 22.04
	Kernel: 5.4
	Compiler: gcc gcc (Ubuntu 11.4.0-1ubuntu1~22.04) 11.4.0

Ubuntu 24.04
	Kernel: 5.4
	Compiler: gcc gcc (Ubuntu 13.3.0-6ubuntu2~24.04) 13.3.0

CentOS Stream 10
	Kernel: 5.4
	Compiler: gcc gcc (GCC) 14.2.1 20250110 (Red Hat 14.2.1-8)

CentOS Stream 9
	Kernel: 5.4
	Compiler: gcc gcc (GCC) 11.5.0 20240719 (Red Hat 11.5.0-11)

To view detailed results, visit:
https://lab.dpdk.org/results/dashboard/tarballs/34994/

UNH-IOL DPDK Community Lab

To manage your email subscriptions, visit: 
https://lab.dpdk.org/results/dashboard/preferences/subscriptions/

^ permalink raw reply	[flat|nested] 57+ messages in thread
* |PENDING| [GIT MASTER] 3b43ce3f4a54468e7ef65760c2fd7b4d6ee6d9fc
@ 2025-09-25  5:16 dpdklab
  0 siblings, 0 replies; 57+ messages in thread
From: dpdklab @ 2025-09-25  5:16 UTC (permalink / raw)
  To: Test Report; +Cc: dpdk-test-reports

_Testing pending_

Branch: tags/v22.11

3b43ce3f4a54468e7ef65760c2fd7b4d6ee6d9fc --> testing pending

Upstream job id: Aarch32-Unit-Test#7628

Test environment and result as below:

+-----------------+---------------------------+--------------+------------------------------+----------------+
|   Environment   | cryptodev_sw_zuc_autotest | lpm_autotest | cryptodev_sw_snow3g_autotest | dpdk_unit_test |
+=================+===========================+==============+==============================+================+
| Debian 12 (arm) | PEND                      | SKIPPED      | PEND                         | SKIPPED        |
+-----------------+---------------------------+--------------+------------------------------+----------------+
| Ubuntu 20.04    | SKIPPED                   | PEND         | SKIPPED                      | SKIPPED        |
+-----------------+---------------------------+--------------+------------------------------+----------------+
| Ubuntu 22.04    | SKIPPED                   | SKIPPED      | SKIPPED                      | PASS           |
+-----------------+---------------------------+--------------+------------------------------+----------------+


Debian 12 (arm)
	Kernel: Depends on container host
	Compiler: gcc (Debian 12.2.0-14) 12.2.0

Ubuntu 20.04
	Kernel: 5.4
	Compiler: gcc gcc (Ubuntu 9.4.0-1ubuntu1~20.04.2) 9.4.0

Ubuntu 22.04
	Kernel: 5.15
	Compiler: gcc gcc (Ubuntu 11.4.0-1ubuntu1~22.04.2) 11.4.0

To view detailed results, visit:
https://lab.dpdk.org/results/dashboard/tarballs/34994/

UNH-IOL DPDK Community Lab

To manage your email subscriptions, visit: 
https://lab.dpdk.org/results/dashboard/preferences/subscriptions/

^ permalink raw reply	[flat|nested] 57+ messages in thread
* |PENDING| [GIT MASTER] 3b43ce3f4a54468e7ef65760c2fd7b4d6ee6d9fc
@ 2025-09-25  4:37 dpdklab
  0 siblings, 0 replies; 57+ messages in thread
From: dpdklab @ 2025-09-25  4:37 UTC (permalink / raw)
  To: Test Report; +Cc: dpdk-test-reports

_Testing pending_

Branch: tags/v22.11

3b43ce3f4a54468e7ef65760c2fd7b4d6ee6d9fc --> testing pending

Upstream job id: Generic-VM-Unit-Test-DPDK#31366

Test environment and result as below:

+-------------------------------+----------------+
|          Environment          | dpdk_unit_test |
+===============================+================+
| Fedora Linux 40               | PEND           |
+-------------------------------+----------------+
| Debian GNU/Linux 12           | PEND           |
+-------------------------------+----------------+
| CentOS Stream 10              | PEND           |
+-------------------------------+----------------+
| Fedora Linux 41               | PEND           |
+-------------------------------+----------------+
| CentOS Stream 9               | PEND           |
+-------------------------------+----------------+
| Fedora Linux 42               | PEND           |
+-------------------------------+----------------+
| Ubuntu 22.04                  | PEND           |
+-------------------------------+----------------+
| Red Hat Enterprise Linux 8.10 | PEND           |
+-------------------------------+----------------+
| Red Hat Enterprise Linux 9.5  | PEND           |
+-------------------------------+----------------+
| Ubuntu 20.04                  | PEND           |
+-------------------------------+----------------+
| Ubuntu 24.04                  | PEND           |
+-------------------------------+----------------+
| Windows Server 2022           | PASS           |
+-------------------------------+----------------+


Fedora Linux 40
	Kernel: 5.15
	Compiler: gcc gcc (GCC) 14.2.1 20240912 (Red Hat 14.2.1-3)

Debian GNU/Linux 12
	Kernel: 5.15
	Compiler: gcc gcc (Debian 12.2.0-14+deb12u1) 12.2.0

CentOS Stream 10
	Kernel: 5.15
	Compiler: gcc gcc (GCC) 14.2.1 20250110 (Red Hat 14.2.1-8)

Fedora Linux 41
	Kernel: 5.15
	Compiler: clang gcc (GCC) 14.3.1 20250523 (Red Hat 14.3.1-1)

CentOS Stream 9
	Kernel: 5.15
	Compiler: gcc gcc (GCC) 11.5.0 20240719 (Red Hat 11.5.0-11)

Fedora Linux 42
	Kernel: 5.15
	Compiler: gcc gcc (GCC) 15.2.1 20250808 (Red Hat 15.2.1-1)

Ubuntu 22.04
	Kernel: 5.15
	Compiler: gcc gcc (Ubuntu 11.4.0-1ubuntu1~22.04) 11.4.0

Red Hat Enterprise Linux 8.10
	Kernel: 5.15
	Compiler: gcc gcc (GCC) 8.5.0 20210514 (Red Hat 8.5.0-22)

Red Hat Enterprise Linux 9.5
	Kernel: 5.15
	Compiler: gcc gcc (GCC) 11.5.0 20240719 (Red Hat 11.5.0-2)

Ubuntu 20.04
	Kernel: 5.15
	Compiler: gcc gcc (Ubuntu 9.4.0-1ubuntu1~20.04.2) 9.4.0

Ubuntu 24.04
	Kernel: 5.15
	Compiler: gcc gcc (Ubuntu 13.3.0-6ubuntu2~24.04) 13.3.0

Windows Server 2022
	Kernel: 10.0.20348.2031
	Compiler: clang 15.0.7, gcc 14.1.0 (MinGW), and MSVC VS 19.39.33521

To view detailed results, visit:
https://lab.dpdk.org/results/dashboard/tarballs/34994/

UNH-IOL DPDK Community Lab

To manage your email subscriptions, visit: 
https://lab.dpdk.org/results/dashboard/preferences/subscriptions/

^ permalink raw reply	[flat|nested] 57+ messages in thread
* |PENDING| [GIT MASTER] 3b43ce3f4a54468e7ef65760c2fd7b4d6ee6d9fc
@ 2025-09-25  4:09 dpdklab
  0 siblings, 0 replies; 57+ messages in thread
From: dpdklab @ 2025-09-25  4:09 UTC (permalink / raw)
  To: Test Report; +Cc: dpdk-test-reports

_Testing pending_

Branch: tags/v22.11

3b43ce3f4a54468e7ef65760c2fd7b4d6ee6d9fc --> testing pending

Upstream job id: Generic-VM-DPDK-Compile-Meson#38562

Test environment and result as below:

+-------------------------------+--------------------+
|          Environment          | dpdk_meson_compile |
+===============================+====================+
| CentOS Stream 9               | PEND               |
+-------------------------------+--------------------+
| Debian GNU/Linux 12           | PEND               |
+-------------------------------+--------------------+
| CentOS Stream 10              | PEND               |
+-------------------------------+--------------------+
| Fedora Linux 42               | PEND               |
+-------------------------------+--------------------+
| openSUSE Leap 15.6            | PEND               |
+-------------------------------+--------------------+
| Red Hat Enterprise Linux 8.10 | PEND               |
+-------------------------------+--------------------+
| Red Hat Enterprise Linux 9.5  | PEND               |
+-------------------------------+--------------------+
| Ubuntu 20.04                  | PASS               |
+-------------------------------+--------------------+
| Ubuntu 22.04                  | PEND               |
+-------------------------------+--------------------+
| Ubuntu 24.04                  | PEND               |
+-------------------------------+--------------------+


CentOS Stream 9
	Kernel: 5.15
	Compiler: gcc gcc (GCC) 11.5.0 20240719 (Red Hat 11.5.0-11)

Debian GNU/Linux 12
	Kernel: 5.15
	Compiler: gcc gcc (Debian 12.2.0-14+deb12u1) 12.2.0

CentOS Stream 10
	Kernel: 5.15
	Compiler: gcc gcc (GCC) 14.2.1 20250110 (Red Hat 14.2.1-8)

Fedora Linux 42
	Kernel: 5.15
	Compiler: clang gcc (GCC) 15.2.1 20250808 (Red Hat 15.2.1-1)

openSUSE Leap 15.6
	Kernel: 5.15
	Compiler: gcc gcc (SUSE Linux) 7.5.0

Red Hat Enterprise Linux 8.10
	Kernel: 5.15
	Compiler: gcc gcc (GCC) 8.5.0 20210514 (Red Hat 8.5.0-22)

Red Hat Enterprise Linux 9.5
	Kernel: 5.15
	Compiler: gcc gcc (GCC) 11.5.0 20240719 (Red Hat 11.5.0-2)

Ubuntu 20.04
	Kernel: 5.15
	Compiler: gcc gcc (Ubuntu 9.4.0-1ubuntu1~20.04.2) 9.4.0

Ubuntu 22.04
	Kernel: 5.15
	Compiler: gcc gcc (Ubuntu 11.4.0-1ubuntu1~22.04) 11.4.0

Ubuntu 24.04
	Kernel: 5.15
	Compiler: gcc gcc (Ubuntu 13.3.0-6ubuntu2~24.04) 13.3.0

To view detailed results, visit:
https://lab.dpdk.org/results/dashboard/tarballs/34994/

UNH-IOL DPDK Community Lab

To manage your email subscriptions, visit: 
https://lab.dpdk.org/results/dashboard/preferences/subscriptions/

^ permalink raw reply	[flat|nested] 57+ messages in thread
* |PENDING| [GIT MASTER] 3b43ce3f4a54468e7ef65760c2fd7b4d6ee6d9fc
@ 2025-09-24  4:16 dpdklab
  0 siblings, 0 replies; 57+ messages in thread
From: dpdklab @ 2025-09-24  4:16 UTC (permalink / raw)
  To: Test Report; +Cc: dpdk-test-reports

_Testing pending_

Branch: tags/v22.11

3b43ce3f4a54468e7ef65760c2fd7b4d6ee6d9fc --> testing pending

Upstream job id: Template-DTS-Pipeline#245942

Test environment and result as below:

+--------------+----------------------+----------------------+
| Environment  | dpdk_fips_validation | compressdev_zlib_pmd |
+==============+======================+======================+
| Ubuntu 20.04 | PEND                 | SKIPPED              |
+--------------+----------------------+----------------------+
| Ubuntu 22.04 | SKIPPED              | PASS                 |
+--------------+----------------------+----------------------+


Ubuntu 20.04
	Kernel: 5.15
	Compiler: gcc gcc (Ubuntu 9.4.0-1ubuntu1~20.04.2) 9.4.0

Ubuntu 22.04
	Kernel: 5.15
	Compiler: gcc gcc (Ubuntu 11.4.0-1ubuntu1~22.04.2) 11.4.0

To view detailed results, visit:
https://lab.dpdk.org/results/dashboard/tarballs/34975/

UNH-IOL DPDK Community Lab

To manage your email subscriptions, visit: 
https://lab.dpdk.org/results/dashboard/preferences/subscriptions/

^ permalink raw reply	[flat|nested] 57+ messages in thread
* |PENDING| [GIT MASTER] 3b43ce3f4a54468e7ef65760c2fd7b4d6ee6d9fc
@ 2025-09-24  4:10 dpdklab
  0 siblings, 0 replies; 57+ messages in thread
From: dpdklab @ 2025-09-24  4:10 UTC (permalink / raw)
  To: Test Report; +Cc: dpdk-test-reports

_Testing pending_

Branch: tags/v22.11

3b43ce3f4a54468e7ef65760c2fd7b4d6ee6d9fc --> testing pending

Upstream job id: Generic-Unit-Test-DPDK#374212

Test environment and result as below:

+-----------------+------------------------------+--------------+---------------------------+----------------+
|   Environment   | cryptodev_sw_snow3g_autotest | lpm_autotest | cryptodev_sw_zuc_autotest | dpdk_unit_test |
+=================+==============================+==============+===========================+================+
| Debian 12 (arm) | PEND                         | SKIPPED      | PASS                      | SKIPPED        |
+-----------------+------------------------------+--------------+---------------------------+----------------+
| Ubuntu 20.04    | SKIPPED                      | PEND         | SKIPPED                   | SKIPPED        |
+-----------------+------------------------------+--------------+---------------------------+----------------+
| Ubuntu 22.04    | SKIPPED                      | SKIPPED      | SKIPPED                   | PEND           |
+-----------------+------------------------------+--------------+---------------------------+----------------+


Debian 12 (arm)
	Kernel: Depends on container host
	Compiler: gcc (Debian 12.2.0-14) 12.2.0

Ubuntu 20.04
	Kernel: 5.4
	Compiler: gcc gcc (Ubuntu 9.4.0-1ubuntu1~20.04.2) 9.4.0

Ubuntu 22.04
	Kernel: 5.15
	Compiler: gcc gcc (Ubuntu 11.4.0-1ubuntu1~22.04.2) 11.4.0

To view detailed results, visit:
https://lab.dpdk.org/results/dashboard/tarballs/34975/

UNH-IOL DPDK Community Lab

To manage your email subscriptions, visit: 
https://lab.dpdk.org/results/dashboard/preferences/subscriptions/

^ permalink raw reply	[flat|nested] 57+ messages in thread
* |PENDING| [GIT MASTER] 3b43ce3f4a54468e7ef65760c2fd7b4d6ee6d9fc
@ 2025-09-24  4:08 dpdklab
  0 siblings, 0 replies; 57+ messages in thread
From: dpdklab @ 2025-09-24  4:08 UTC (permalink / raw)
  To: Test Report; +Cc: dpdk-test-reports

_Testing pending_

Branch: tags/v22.11

3b43ce3f4a54468e7ef65760c2fd7b4d6ee6d9fc --> testing pending

Upstream job id: Generic-VM-DPDK-Compile-Meson#38520

Test environment and result as below:

+-------------------------------+--------------------+-------------------------+
|          Environment          | dpdk_meson_compile | dpdk_llvm_clang_compile |
+===============================+====================+=========================+
| CentOS Stream 9               | PEND               | SKIPPED                 |
+-------------------------------+--------------------+-------------------------+
| Fedora Linux 42               | PEND               | SKIPPED                 |
+-------------------------------+--------------------+-------------------------+
| Debian GNU/Linux 12           | PEND               | SKIPPED                 |
+-------------------------------+--------------------+-------------------------+
| openSUSE Leap 15.6            | PEND               | SKIPPED                 |
+-------------------------------+--------------------+-------------------------+
| CentOS Stream 10              | PEND               | SKIPPED                 |
+-------------------------------+--------------------+-------------------------+
| Red Hat Enterprise Linux 8.10 | PEND               | SKIPPED                 |
+-------------------------------+--------------------+-------------------------+
| Ubuntu 20.04                  | PASS               | SKIPPED                 |
+-------------------------------+--------------------+-------------------------+
| Ubuntu 22.04                  | PEND               | SKIPPED                 |
+-------------------------------+--------------------+-------------------------+
| Ubuntu 24.04                  | PEND               | SKIPPED                 |
+-------------------------------+--------------------+-------------------------+
| Red Hat Enterprise Linux 9.5  | PEND               | SKIPPED                 |
+-------------------------------+--------------------+-------------------------+
| Windows Server 2022           | SKIPPED            | PEND                    |
+-------------------------------+--------------------+-------------------------+


CentOS Stream 9
	Kernel: 5.15
	Compiler: gcc gcc (GCC) 11.5.0 20240719 (Red Hat 11.5.0-11)

Fedora Linux 42
	Kernel: 5.15
	Compiler: gcc gcc (GCC) 15.2.1 20250808 (Red Hat 15.2.1-1)

Debian GNU/Linux 12
	Kernel: 5.15
	Compiler: gcc gcc (Debian 12.2.0-14+deb12u1) 12.2.0

openSUSE Leap 15.6
	Kernel: 5.15
	Compiler: gcc gcc (SUSE Linux) 7.5.0

CentOS Stream 10
	Kernel: 5.15
	Compiler: gcc gcc (GCC) 14.2.1 20250110 (Red Hat 14.2.1-8)

Red Hat Enterprise Linux 8.10
	Kernel: 5.15
	Compiler: gcc gcc (GCC) 8.5.0 20210514 (Red Hat 8.5.0-22)

Ubuntu 20.04
	Kernel: 5.15
	Compiler: gcc gcc (Ubuntu 9.4.0-1ubuntu1~20.04.2) 9.4.0

Ubuntu 22.04
	Kernel: 5.15
	Compiler: gcc gcc (Ubuntu 11.4.0-1ubuntu1~22.04) 11.4.0

Ubuntu 24.04
	Kernel: 5.15
	Compiler: gcc gcc (Ubuntu 13.3.0-6ubuntu2~24.04) 13.3.0

Red Hat Enterprise Linux 9.5
	Kernel: 5.15
	Compiler: gcc gcc (GCC) 11.5.0 20240719 (Red Hat 11.5.0-2)

Windows Server 2022
	Kernel: 10.0.20348.2031
	Compiler: clang 15.0.7, gcc 14.1.0 (MinGW), and MSVC VS 19.39.33521

To view detailed results, visit:
https://lab.dpdk.org/results/dashboard/tarballs/34975/

UNH-IOL DPDK Community Lab

To manage your email subscriptions, visit: 
https://lab.dpdk.org/results/dashboard/preferences/subscriptions/

^ permalink raw reply	[flat|nested] 57+ messages in thread
* |PENDING| [GIT MASTER] 3b43ce3f4a54468e7ef65760c2fd7b4d6ee6d9fc
@ 2025-09-23  4:57 dpdklab
  0 siblings, 0 replies; 57+ messages in thread
From: dpdklab @ 2025-09-23  4:57 UTC (permalink / raw)
  To: Test Report; +Cc: dpdk-test-reports

_Testing pending_

Branch: tags/v22.11

3b43ce3f4a54468e7ef65760c2fd7b4d6ee6d9fc --> testing pending

Upstream job id: Generic-Unit-Test-DPDK#373849

Test environment and result as below:

+-----------------+---------------------------+------------------------------+--------------+----------------+
|   Environment   | cryptodev_sw_zuc_autotest | cryptodev_sw_snow3g_autotest | lpm_autotest | dpdk_unit_test |
+=================+===========================+==============================+==============+================+
| Debian 12 (arm) | PEND                      | PEND                         | SKIPPED      | SKIPPED        |
+-----------------+---------------------------+------------------------------+--------------+----------------+
| Ubuntu 20.04    | SKIPPED                   | SKIPPED                      | PASS         | SKIPPED        |
+-----------------+---------------------------+------------------------------+--------------+----------------+
| Ubuntu 22.04    | SKIPPED                   | SKIPPED                      | SKIPPED      | PEND           |
+-----------------+---------------------------+------------------------------+--------------+----------------+


Debian 12 (arm)
	Kernel: Depends on container host
	Compiler: gcc (Debian 12.2.0-14) 12.2.0

Ubuntu 20.04
	Kernel: 5.4
	Compiler: gcc gcc (Ubuntu 9.4.0-1ubuntu1~20.04.2) 9.4.0

Ubuntu 22.04
	Kernel: 5.15
	Compiler: gcc gcc (Ubuntu 11.4.0-1ubuntu1~22.04.2) 11.4.0

To view detailed results, visit:
https://lab.dpdk.org/results/dashboard/tarballs/34963/

UNH-IOL DPDK Community Lab

To manage your email subscriptions, visit: 
https://lab.dpdk.org/results/dashboard/preferences/subscriptions/

^ permalink raw reply	[flat|nested] 57+ messages in thread
* |PENDING| [GIT MASTER] 3b43ce3f4a54468e7ef65760c2fd7b4d6ee6d9fc
@ 2025-09-23  4:56 dpdklab
  0 siblings, 0 replies; 57+ messages in thread
From: dpdklab @ 2025-09-23  4:56 UTC (permalink / raw)
  To: Test Report; +Cc: dpdk-test-reports

_Testing pending_

Branch: tags/v22.11

3b43ce3f4a54468e7ef65760c2fd7b4d6ee6d9fc --> testing pending

Upstream job id: Generic-DPDK-Compile-Meson#427537

Test environment and result as below:

+------------------------------+--------------------+
|         Environment          | dpdk_meson_compile |
+==============================+====================+
| Ubuntu 20.04                 | PEND               |
+------------------------------+--------------------+
| Fedora Linux 42              | PEND               |
+------------------------------+--------------------+
| Red Hat Enterprise Linux 9.5 | PEND               |
+------------------------------+--------------------+
| CentOS Stream 10             | PEND               |
+------------------------------+--------------------+
| Ubuntu 22.04                 | PEND               |
+------------------------------+--------------------+
| Debian GNU/Linux 12          | PEND               |
+------------------------------+--------------------+
| Ubuntu 24.04                 | PEND               |
+------------------------------+--------------------+
| CentOS Stream 9              | PEND               |
+------------------------------+--------------------+


Ubuntu 20.04
	Kernel: 5.15
	Compiler: aarch64-linux-gnu-gcc gcc (Ubuntu 9.4.0-1ubuntu1~20.04.2) 9.4.0

Fedora Linux 42
	Kernel: 5.4
	Compiler: clang gcc (GCC) 15.2.1 20250808 (Red Hat 15.2.1-1)

Red Hat Enterprise Linux 9.5
	Kernel: 5.4
	Compiler: gcc gcc (GCC) 11.5.0 20240719 (Red Hat 11.5.0-2)

CentOS Stream 10
	Kernel: 5.4
	Compiler: gcc gcc (GCC) 14.2.1 20250110 (Red Hat 14.2.1-8)

Ubuntu 22.04
	Kernel: 5.4
	Compiler: gcc gcc (Ubuntu 11.4.0-1ubuntu1~22.04) 11.4.0

Debian GNU/Linux 12
	Kernel: 5.4
	Compiler: gcc gcc (Debian 12.2.0-14+deb12u1) 12.2.0

Ubuntu 24.04
	Kernel: 5.4
	Compiler: gcc gcc (Ubuntu 13.3.0-6ubuntu2~24.04) 13.3.0

CentOS Stream 9
	Kernel: 5.4
	Compiler: gcc gcc (GCC) 11.5.0 20240719 (Red Hat 11.5.0-11)

To view detailed results, visit:
https://lab.dpdk.org/results/dashboard/tarballs/34963/

UNH-IOL DPDK Community Lab

To manage your email subscriptions, visit: 
https://lab.dpdk.org/results/dashboard/preferences/subscriptions/

^ permalink raw reply	[flat|nested] 57+ messages in thread
* |PENDING| [GIT MASTER] 3b43ce3f4a54468e7ef65760c2fd7b4d6ee6d9fc
@ 2025-09-23  4:23 dpdklab
  0 siblings, 0 replies; 57+ messages in thread
From: dpdklab @ 2025-09-23  4:23 UTC (permalink / raw)
  To: Test Report; +Cc: dpdk-test-reports

_Testing pending_

Branch: tags/v22.11

3b43ce3f4a54468e7ef65760c2fd7b4d6ee6d9fc --> testing pending

Upstream job id: Generic-VM-Unit-Test-DPDK#31300

Test environment and result as below:

+-------------------------------+----------------+
|          Environment          | dpdk_unit_test |
+===============================+================+
| Ubuntu 20.04                  | PEND           |
+-------------------------------+----------------+
| CentOS Stream 9               | PEND           |
+-------------------------------+----------------+
| CentOS Stream 10              | PEND           |
+-------------------------------+----------------+
| Ubuntu 24.04                  | PEND           |
+-------------------------------+----------------+
| Fedora Linux 41               | PEND           |
+-------------------------------+----------------+
| Fedora Linux 42               | PEND           |
+-------------------------------+----------------+
| Red Hat Enterprise Linux 8.10 | PEND           |
+-------------------------------+----------------+
| Debian GNU/Linux 12           | PEND           |
+-------------------------------+----------------+
| Fedora Linux 40               | PEND           |
+-------------------------------+----------------+
| Ubuntu 22.04                  | PEND           |
+-------------------------------+----------------+
| Red Hat Enterprise Linux 9.5  | PEND           |
+-------------------------------+----------------+
| Windows Server 2022           | PASS           |
+-------------------------------+----------------+


Ubuntu 20.04
	Kernel: 5.15
	Compiler: gcc gcc (Ubuntu 9.4.0-1ubuntu1~20.04.2) 9.4.0

CentOS Stream 9
	Kernel: 5.15
	Compiler: gcc gcc (GCC) 11.5.0 20240719 (Red Hat 11.5.0-11)

CentOS Stream 10
	Kernel: 5.15
	Compiler: gcc gcc (GCC) 14.2.1 20250110 (Red Hat 14.2.1-8)

Ubuntu 24.04
	Kernel: 5.15
	Compiler: gcc gcc (Ubuntu 13.3.0-6ubuntu2~24.04) 13.3.0

Fedora Linux 41
	Kernel: 5.15
	Compiler: clang gcc (GCC) 14.3.1 20250523 (Red Hat 14.3.1-1)

Fedora Linux 42
	Kernel: 5.15
	Compiler: gcc gcc (GCC) 15.2.1 20250808 (Red Hat 15.2.1-1)

Red Hat Enterprise Linux 8.10
	Kernel: 5.15
	Compiler: gcc gcc (GCC) 8.5.0 20210514 (Red Hat 8.5.0-22)

Debian GNU/Linux 12
	Kernel: 5.15
	Compiler: gcc gcc (Debian 12.2.0-14+deb12u1) 12.2.0

Fedora Linux 40
	Kernel: 5.15
	Compiler: clang gcc (GCC) 14.2.1 20240912 (Red Hat 14.2.1-3)

Ubuntu 22.04
	Kernel: 5.15
	Compiler: gcc gcc (Ubuntu 11.4.0-1ubuntu1~22.04) 11.4.0

Red Hat Enterprise Linux 9.5
	Kernel: 5.15
	Compiler: gcc gcc (GCC) 11.5.0 20240719 (Red Hat 11.5.0-2)

Windows Server 2022
	Kernel: 10.0.20348.2031
	Compiler: clang 15.0.7, gcc 14.1.0 (MinGW), and MSVC VS 19.39.33521

To view detailed results, visit:
https://lab.dpdk.org/results/dashboard/tarballs/34963/

UNH-IOL DPDK Community Lab

To manage your email subscriptions, visit: 
https://lab.dpdk.org/results/dashboard/preferences/subscriptions/

^ permalink raw reply	[flat|nested] 57+ messages in thread
* |PENDING| [GIT MASTER] 3b43ce3f4a54468e7ef65760c2fd7b4d6ee6d9fc
@ 2025-09-23  4:09 dpdklab
  0 siblings, 0 replies; 57+ messages in thread
From: dpdklab @ 2025-09-23  4:09 UTC (permalink / raw)
  To: Test Report; +Cc: dpdk-test-reports

_Testing pending_

Branch: tags/v22.11

3b43ce3f4a54468e7ef65760c2fd7b4d6ee6d9fc --> testing pending

Upstream job id: Generic-VM-DPDK-Compile-Meson#38496

Test environment and result as below:

+-------------------------------+--------------------+
|          Environment          | dpdk_meson_compile |
+===============================+====================+
| Debian GNU/Linux 12           | PEND               |
+-------------------------------+--------------------+
| CentOS Stream 10              | PEND               |
+-------------------------------+--------------------+
| CentOS Stream 9               | PEND               |
+-------------------------------+--------------------+
| Fedora Linux 42               | PEND               |
+-------------------------------+--------------------+
| openSUSE Leap 15.6            | PEND               |
+-------------------------------+--------------------+
| Ubuntu 20.04                  | PEND               |
+-------------------------------+--------------------+
| Red Hat Enterprise Linux 8.10 | PEND               |
+-------------------------------+--------------------+
| Red Hat Enterprise Linux 9.5  | PEND               |
+-------------------------------+--------------------+
| Ubuntu 22.04                  | PEND               |
+-------------------------------+--------------------+
| Ubuntu 24.04                  | PEND               |
+-------------------------------+--------------------+


Debian GNU/Linux 12
	Kernel: 5.15
	Compiler: gcc gcc (Debian 12.2.0-14+deb12u1) 12.2.0

CentOS Stream 10
	Kernel: 5.15
	Compiler: gcc gcc (GCC) 14.2.1 20250110 (Red Hat 14.2.1-8)

CentOS Stream 9
	Kernel: 5.15
	Compiler: gcc gcc (GCC) 11.5.0 20240719 (Red Hat 11.5.0-11)

Fedora Linux 42
	Kernel: 5.15
	Compiler: clang gcc (GCC) 15.2.1 20250808 (Red Hat 15.2.1-1)

openSUSE Leap 15.6
	Kernel: 5.15
	Compiler: gcc gcc (SUSE Linux) 7.5.0

Ubuntu 20.04
	Kernel: 4.19
	Compiler: gcc gcc (Ubuntu 9.4.0-1ubuntu1~20.04.2) 9.4.0

Red Hat Enterprise Linux 8.10
	Kernel: 5.15
	Compiler: gcc gcc (GCC) 8.5.0 20210514 (Red Hat 8.5.0-22)

Red Hat Enterprise Linux 9.5
	Kernel: 5.15
	Compiler: gcc gcc (GCC) 11.5.0 20240719 (Red Hat 11.5.0-2)

Ubuntu 22.04
	Kernel: 5.15
	Compiler: gcc gcc (Ubuntu 11.4.0-1ubuntu1~22.04) 11.4.0

Ubuntu 24.04
	Kernel: 5.15
	Compiler: gcc gcc (Ubuntu 13.3.0-6ubuntu2~24.04) 13.3.0

To view detailed results, visit:
https://lab.dpdk.org/results/dashboard/tarballs/34963/

UNH-IOL DPDK Community Lab

To manage your email subscriptions, visit: 
https://lab.dpdk.org/results/dashboard/preferences/subscriptions/

^ permalink raw reply	[flat|nested] 57+ messages in thread
* |PENDING| [GIT MASTER] 3b43ce3f4a54468e7ef65760c2fd7b4d6ee6d9fc
@ 2025-09-22  4:16 dpdklab
  0 siblings, 0 replies; 57+ messages in thread
From: dpdklab @ 2025-09-22  4:16 UTC (permalink / raw)
  To: Test Report; +Cc: dpdk-test-reports

_Testing pending_

Branch: tags/v22.11

3b43ce3f4a54468e7ef65760c2fd7b4d6ee6d9fc --> testing pending

Upstream job id: Template-DTS-Pipeline#245676

Test environment and result as below:

+--------------+----------------------+----------------------+
| Environment  | dpdk_fips_validation | compressdev_zlib_pmd |
+==============+======================+======================+
| Ubuntu 20.04 | PEND                 | SKIPPED              |
+--------------+----------------------+----------------------+
| Ubuntu 22.04 | SKIPPED              | PASS                 |
+--------------+----------------------+----------------------+


Ubuntu 20.04
	Kernel: 5.15
	Compiler: gcc gcc (Ubuntu 9.4.0-1ubuntu1~20.04.2) 9.4.0

Ubuntu 22.04
	Kernel: 5.15
	Compiler: gcc gcc (Ubuntu 11.4.0-1ubuntu1~22.04.2) 11.4.0

To view detailed results, visit:
https://lab.dpdk.org/results/dashboard/tarballs/34956/

UNH-IOL DPDK Community Lab

To manage your email subscriptions, visit: 
https://lab.dpdk.org/results/dashboard/preferences/subscriptions/

^ permalink raw reply	[flat|nested] 57+ messages in thread
* |PENDING| [GIT MASTER] 3b43ce3f4a54468e7ef65760c2fd7b4d6ee6d9fc
@ 2025-09-22  4:10 dpdklab
  0 siblings, 0 replies; 57+ messages in thread
From: dpdklab @ 2025-09-22  4:10 UTC (permalink / raw)
  To: Test Report; +Cc: dpdk-test-reports

_Testing pending_

Branch: tags/v22.11

3b43ce3f4a54468e7ef65760c2fd7b4d6ee6d9fc --> testing pending

Upstream job id: Generic-Unit-Test-DPDK#373667

Test environment and result as below:

+-----------------+------------------------------+---------------------------+--------------+----------------+
|   Environment   | cryptodev_sw_snow3g_autotest | cryptodev_sw_zuc_autotest | lpm_autotest | dpdk_unit_test |
+=================+==============================+===========================+==============+================+
| Debian 12 (arm) | PEND                         | PASS                      | SKIPPED      | SKIPPED        |
+-----------------+------------------------------+---------------------------+--------------+----------------+
| Ubuntu 20.04    | SKIPPED                      | SKIPPED                   | PEND         | SKIPPED        |
+-----------------+------------------------------+---------------------------+--------------+----------------+
| Ubuntu 22.04    | SKIPPED                      | SKIPPED                   | SKIPPED      | PEND           |
+-----------------+------------------------------+---------------------------+--------------+----------------+


Debian 12 (arm)
	Kernel: Depends on container host
	Compiler: gcc (Debian 12.2.0-14) 12.2.0

Ubuntu 20.04
	Kernel: 5.4
	Compiler: gcc gcc (Ubuntu 9.4.0-1ubuntu1~20.04.2) 9.4.0

Ubuntu 22.04
	Kernel: 5.15
	Compiler: gcc gcc (Ubuntu 11.4.0-1ubuntu1~22.04.2) 11.4.0

To view detailed results, visit:
https://lab.dpdk.org/results/dashboard/tarballs/34956/

UNH-IOL DPDK Community Lab

To manage your email subscriptions, visit: 
https://lab.dpdk.org/results/dashboard/preferences/subscriptions/

^ permalink raw reply	[flat|nested] 57+ messages in thread
* |PENDING| [GIT MASTER] 3b43ce3f4a54468e7ef65760c2fd7b4d6ee6d9fc
@ 2025-09-22  4:10 dpdklab
  0 siblings, 0 replies; 57+ messages in thread
From: dpdklab @ 2025-09-22  4:10 UTC (permalink / raw)
  To: Test Report; +Cc: dpdk-test-reports

_Testing pending_

Branch: tags/v22.11

3b43ce3f4a54468e7ef65760c2fd7b4d6ee6d9fc --> testing pending

Upstream job id: Generic-VM-DPDK-Compile-Meson#38482

Test environment and result as below:

+-------------------------------+--------------------+-------------------------+
|          Environment          | dpdk_meson_compile | dpdk_llvm_clang_compile |
+===============================+====================+=========================+
| CentOS Stream 9               | PEND               | SKIPPED                 |
+-------------------------------+--------------------+-------------------------+
| CentOS Stream 10              | PEND               | SKIPPED                 |
+-------------------------------+--------------------+-------------------------+
| Fedora Linux 42               | PEND               | SKIPPED                 |
+-------------------------------+--------------------+-------------------------+
| Ubuntu 20.04                  | PASS               | SKIPPED                 |
+-------------------------------+--------------------+-------------------------+
| Ubuntu 24.04                  | PEND               | SKIPPED                 |
+-------------------------------+--------------------+-------------------------+
| Red Hat Enterprise Linux 9.5  | PEND               | SKIPPED                 |
+-------------------------------+--------------------+-------------------------+
| Debian GNU/Linux 12           | PEND               | SKIPPED                 |
+-------------------------------+--------------------+-------------------------+
| Red Hat Enterprise Linux 8.10 | PEND               | SKIPPED                 |
+-------------------------------+--------------------+-------------------------+
| openSUSE Leap 15.6            | PEND               | SKIPPED                 |
+-------------------------------+--------------------+-------------------------+
| FreeBSD 14.2                  | PEND               | SKIPPED                 |
+-------------------------------+--------------------+-------------------------+
| Ubuntu 22.04                  | PEND               | SKIPPED                 |
+-------------------------------+--------------------+-------------------------+
| Windows Server 2022           | SKIPPED            | PEND                    |
+-------------------------------+--------------------+-------------------------+


CentOS Stream 9
	Kernel: 5.15
	Compiler: gcc gcc (GCC) 11.5.0 20240719 (Red Hat 11.5.0-11)

CentOS Stream 10
	Kernel: 5.15
	Compiler: gcc gcc (GCC) 14.2.1 20250110 (Red Hat 14.2.1-8)

Fedora Linux 42
	Kernel: 5.15
	Compiler: gcc gcc (GCC) 15.2.1 20250808 (Red Hat 15.2.1-1)

Ubuntu 20.04
	Kernel: 5.15
	Compiler: gcc gcc (Ubuntu 9.4.0-1ubuntu1~20.04.2) 9.4.0

Ubuntu 24.04
	Kernel: 5.15
	Compiler: gcc gcc (Ubuntu 13.3.0-6ubuntu2~24.04) 13.3.0

Red Hat Enterprise Linux 9.5
	Kernel: 5.15
	Compiler: gcc gcc (GCC) 11.5.0 20240719 (Red Hat 11.5.0-2)

Debian GNU/Linux 12
	Kernel: 5.15
	Compiler: gcc gcc (Debian 12.2.0-14+deb12u1) 12.2.0

Red Hat Enterprise Linux 8.10
	Kernel: 5.15
	Compiler: gcc gcc (GCC) 8.5.0 20210514 (Red Hat 8.5.0-22)

openSUSE Leap 15.6
	Kernel: 5.15
	Compiler: gcc gcc (SUSE Linux) 7.5.0

FreeBSD 14.2
	Kernel: 14.2-RELEASE
	Compiler: clang 18.1.6

Ubuntu 22.04
	Kernel: 5.15
	Compiler: gcc gcc (Ubuntu 11.4.0-1ubuntu1~22.04) 11.4.0

Windows Server 2022
	Kernel: 10.0.20348.2031
	Compiler: clang 15.0.7, gcc 14.1.0 (MinGW), and MSVC VS 19.39.33521

To view detailed results, visit:
https://lab.dpdk.org/results/dashboard/tarballs/34956/

UNH-IOL DPDK Community Lab

To manage your email subscriptions, visit: 
https://lab.dpdk.org/results/dashboard/preferences/subscriptions/

^ permalink raw reply	[flat|nested] 57+ messages in thread
* |PENDING| [GIT MASTER] 3b43ce3f4a54468e7ef65760c2fd7b4d6ee6d9fc
@ 2025-09-21  5:10 dpdklab
  0 siblings, 0 replies; 57+ messages in thread
From: dpdklab @ 2025-09-21  5:10 UTC (permalink / raw)
  To: Test Report; +Cc: dpdk-test-reports

_Testing pending_

Branch: tags/v22.11

3b43ce3f4a54468e7ef65760c2fd7b4d6ee6d9fc --> testing pending

Upstream job id: Aarch32-Unit-Test#7585

Test environment and result as below:

+-----------------+------------------------------+--------------+---------------------------+----------------+
|   Environment   | cryptodev_sw_snow3g_autotest | lpm_autotest | cryptodev_sw_zuc_autotest | dpdk_unit_test |
+=================+==============================+==============+===========================+================+
| Debian 12 (arm) | PEND                         | SKIPPED      | PEND                      | SKIPPED        |
+-----------------+------------------------------+--------------+---------------------------+----------------+
| Ubuntu 20.04    | SKIPPED                      | PEND         | SKIPPED                   | SKIPPED        |
+-----------------+------------------------------+--------------+---------------------------+----------------+
| Ubuntu 22.04    | SKIPPED                      | SKIPPED      | SKIPPED                   | PASS           |
+-----------------+------------------------------+--------------+---------------------------+----------------+


Debian 12 (arm)
	Kernel: Depends on container host
	Compiler: gcc (Debian 12.2.0-14) 12.2.0

Ubuntu 20.04
	Kernel: 5.4
	Compiler: gcc gcc (Ubuntu 9.4.0-1ubuntu1~20.04.2) 9.4.0

Ubuntu 22.04
	Kernel: 5.15
	Compiler: gcc gcc (Ubuntu 11.4.0-1ubuntu1~22.04.2) 11.4.0

To view detailed results, visit:
https://lab.dpdk.org/results/dashboard/tarballs/34952/

UNH-IOL DPDK Community Lab

To manage your email subscriptions, visit: 
https://lab.dpdk.org/results/dashboard/preferences/subscriptions/

^ permalink raw reply	[flat|nested] 57+ messages in thread
* |PENDING| [GIT MASTER] 3b43ce3f4a54468e7ef65760c2fd7b4d6ee6d9fc
@ 2025-09-21  4:09 dpdklab
  0 siblings, 0 replies; 57+ messages in thread
From: dpdklab @ 2025-09-21  4:09 UTC (permalink / raw)
  To: Test Report; +Cc: dpdk-test-reports

_Testing pending_

Branch: tags/v22.11

3b43ce3f4a54468e7ef65760c2fd7b4d6ee6d9fc --> testing pending

Upstream job id: Generic-VM-DPDK-Compile-Meson#38476

Test environment and result as below:

+-------------------------------+--------------------+
|          Environment          | dpdk_meson_compile |
+===============================+====================+
| Debian GNU/Linux 12           | PEND               |
+-------------------------------+--------------------+
| CentOS Stream 10              | PEND               |
+-------------------------------+--------------------+
| CentOS Stream 9               | PEND               |
+-------------------------------+--------------------+
| Fedora Linux 42               | PEND               |
+-------------------------------+--------------------+
| Ubuntu 20.04                  | PEND               |
+-------------------------------+--------------------+
| Ubuntu 24.04                  | PEND               |
+-------------------------------+--------------------+
| openSUSE Leap 15.6            | PEND               |
+-------------------------------+--------------------+
| Red Hat Enterprise Linux 8.10 | PEND               |
+-------------------------------+--------------------+
| Red Hat Enterprise Linux 9.5  | PEND               |
+-------------------------------+--------------------+
| Ubuntu 22.04                  | PEND               |
+-------------------------------+--------------------+


Debian GNU/Linux 12
	Kernel: 5.15
	Compiler: gcc gcc (Debian 12.2.0-14+deb12u1) 12.2.0

CentOS Stream 10
	Kernel: 5.15
	Compiler: gcc gcc (GCC) 14.2.1 20250110 (Red Hat 14.2.1-8)

CentOS Stream 9
	Kernel: 5.15
	Compiler: gcc gcc (GCC) 11.5.0 20240719 (Red Hat 11.5.0-11)

Fedora Linux 42
	Kernel: 5.15
	Compiler: clang gcc (GCC) 15.2.1 20250808 (Red Hat 15.2.1-1)

Ubuntu 20.04
	Kernel: 4.19
	Compiler: gcc gcc (Ubuntu 9.4.0-1ubuntu1~20.04.2) 9.4.0

Ubuntu 24.04
	Kernel: 5.15
	Compiler: gcc gcc (Ubuntu 13.3.0-6ubuntu2~24.04) 13.3.0

openSUSE Leap 15.6
	Kernel: 5.15
	Compiler: gcc gcc (SUSE Linux) 7.5.0

Red Hat Enterprise Linux 8.10
	Kernel: 5.15
	Compiler: gcc gcc (GCC) 8.5.0 20210514 (Red Hat 8.5.0-22)

Red Hat Enterprise Linux 9.5
	Kernel: 5.15
	Compiler: gcc gcc (GCC) 11.5.0 20240719 (Red Hat 11.5.0-2)

Ubuntu 22.04
	Kernel: 5.15
	Compiler: gcc gcc (Ubuntu 11.4.0-1ubuntu1~22.04) 11.4.0

To view detailed results, visit:
https://lab.dpdk.org/results/dashboard/tarballs/34952/

UNH-IOL DPDK Community Lab

To manage your email subscriptions, visit: 
https://lab.dpdk.org/results/dashboard/preferences/subscriptions/

^ permalink raw reply	[flat|nested] 57+ messages in thread
* |PENDING| [GIT MASTER] 3b43ce3f4a54468e7ef65760c2fd7b4d6ee6d9fc
@ 2025-09-20  5:19 dpdklab
  0 siblings, 0 replies; 57+ messages in thread
From: dpdklab @ 2025-09-20  5:19 UTC (permalink / raw)
  To: Test Report; +Cc: dpdk-test-reports

_Testing pending_

Branch: tags/v22.11

3b43ce3f4a54468e7ef65760c2fd7b4d6ee6d9fc --> testing pending

Upstream job id: Generic-DPDK-Compile-Meson#427223

Test environment and result as below:

+------------------------------+--------------------+
|         Environment          | dpdk_meson_compile |
+==============================+====================+
| Red Hat Enterprise Linux 9.5 | PEND               |
+------------------------------+--------------------+
| Ubuntu 20.04                 | PEND               |
+------------------------------+--------------------+
| Debian GNU/Linux 12          | PEND               |
+------------------------------+--------------------+
| Fedora Linux 42              | PEND               |
+------------------------------+--------------------+
| Ubuntu 22.04                 | PEND               |
+------------------------------+--------------------+
| Ubuntu 24.04                 | PEND               |
+------------------------------+--------------------+
| CentOS Stream 10             | PEND               |
+------------------------------+--------------------+
| CentOS Stream 9              | PEND               |
+------------------------------+--------------------+


Red Hat Enterprise Linux 9.5
	Kernel: 5.4
	Compiler: gcc gcc (GCC) 11.5.0 20240719 (Red Hat 11.5.0-2)

Ubuntu 20.04
	Kernel: 5.4
	Compiler: gcc gcc (Ubuntu 9.4.0-1ubuntu1~20.04.2) 9.4.0

Debian GNU/Linux 12
	Kernel: 5.4
	Compiler: gcc gcc (Debian 12.2.0-14+deb12u1) 12.2.0

Fedora Linux 42
	Kernel: 5.4
	Compiler: gcc gcc (GCC) 15.2.1 20250808 (Red Hat 15.2.1-1)

Ubuntu 22.04
	Kernel: 5.4
	Compiler: gcc gcc (Ubuntu 11.4.0-1ubuntu1~22.04) 11.4.0

Ubuntu 24.04
	Kernel: 5.4
	Compiler: gcc gcc (Ubuntu 13.3.0-6ubuntu2~24.04) 13.3.0

CentOS Stream 10
	Kernel: 5.4
	Compiler: gcc gcc (GCC) 14.2.1 20250110 (Red Hat 14.2.1-8)

CentOS Stream 9
	Kernel: 5.4
	Compiler: gcc gcc (GCC) 11.5.0 20240719 (Red Hat 11.5.0-11)

To view detailed results, visit:
https://lab.dpdk.org/results/dashboard/tarballs/34949/

UNH-IOL DPDK Community Lab

To manage your email subscriptions, visit: 
https://lab.dpdk.org/results/dashboard/preferences/subscriptions/

^ permalink raw reply	[flat|nested] 57+ messages in thread
* |PENDING| [GIT MASTER] 3b43ce3f4a54468e7ef65760c2fd7b4d6ee6d9fc
@ 2025-09-20  5:13 dpdklab
  0 siblings, 0 replies; 57+ messages in thread
From: dpdklab @ 2025-09-20  5:13 UTC (permalink / raw)
  To: Test Report; +Cc: dpdk-test-reports

_Testing pending_

Branch: tags/v22.11

3b43ce3f4a54468e7ef65760c2fd7b4d6ee6d9fc --> testing pending

Upstream job id: Aarch32-Unit-Test#7583

Test environment and result as below:

+-----------------+--------------+------------------------------+---------------------------+----------------+
|   Environment   | lpm_autotest | cryptodev_sw_snow3g_autotest | cryptodev_sw_zuc_autotest | dpdk_unit_test |
+=================+==============+==============================+===========================+================+
| Ubuntu 20.04    | PEND         | SKIPPED                      | SKIPPED                   | SKIPPED        |
+-----------------+--------------+------------------------------+---------------------------+----------------+
| Debian 12 (arm) | SKIPPED      | PEND                         | PEND                      | SKIPPED        |
+-----------------+--------------+------------------------------+---------------------------+----------------+
| Ubuntu 22.04    | SKIPPED      | SKIPPED                      | SKIPPED                   | PASS           |
+-----------------+--------------+------------------------------+---------------------------+----------------+


Ubuntu 20.04
	Kernel: 5.4
	Compiler: gcc gcc (Ubuntu 9.4.0-1ubuntu1~20.04.2) 9.4.0

Debian 12 (arm)
	Kernel: Depends on container host
	Compiler: gcc (Debian 12.2.0-14) 12.2.0

Ubuntu 22.04
	Kernel: 5.15
	Compiler: gcc gcc (Ubuntu 11.4.0-1ubuntu1~22.04.2) 11.4.0

To view detailed results, visit:
https://lab.dpdk.org/results/dashboard/tarballs/34949/

UNH-IOL DPDK Community Lab

To manage your email subscriptions, visit: 
https://lab.dpdk.org/results/dashboard/preferences/subscriptions/

^ permalink raw reply	[flat|nested] 57+ messages in thread
* |PENDING| [GIT MASTER] 3b43ce3f4a54468e7ef65760c2fd7b4d6ee6d9fc
@ 2025-09-20  4:51 dpdklab
  0 siblings, 0 replies; 57+ messages in thread
From: dpdklab @ 2025-09-20  4:51 UTC (permalink / raw)
  To: Test Report; +Cc: dpdk-test-reports

_Testing pending_

Branch: tags/v22.11

3b43ce3f4a54468e7ef65760c2fd7b4d6ee6d9fc --> testing pending

Upstream job id: Generic-VM-Unit-Test-DPDK#31276

Test environment and result as below:

+-------------------------------+----------------+
|          Environment          | dpdk_unit_test |
+===============================+================+
| CentOS Stream 9               | PEND           |
+-------------------------------+----------------+
| Fedora Linux 40               | PEND           |
+-------------------------------+----------------+
| Debian GNU/Linux 12           | PEND           |
+-------------------------------+----------------+
| CentOS Stream 10              | PEND           |
+-------------------------------+----------------+
| Fedora Linux 42               | PEND           |
+-------------------------------+----------------+
| Fedora Linux 41               | PEND           |
+-------------------------------+----------------+
| Red Hat Enterprise Linux 9.5  | PEND           |
+-------------------------------+----------------+
| Red Hat Enterprise Linux 8.10 | PEND           |
+-------------------------------+----------------+
| Ubuntu 22.04                  | PEND           |
+-------------------------------+----------------+
| Ubuntu 20.04                  | PEND           |
+-------------------------------+----------------+
| Ubuntu 24.04                  | PEND           |
+-------------------------------+----------------+
| Windows Server 2022           | PASS           |
+-------------------------------+----------------+


CentOS Stream 9
	Kernel: 5.15
	Compiler: gcc gcc (GCC) 11.5.0 20240719 (Red Hat 11.5.0-11)

Fedora Linux 40
	Kernel: 5.15
	Compiler: gcc gcc (GCC) 14.2.1 20240912 (Red Hat 14.2.1-3)

Debian GNU/Linux 12
	Kernel: 5.15
	Compiler: gcc gcc (Debian 12.2.0-14+deb12u1) 12.2.0

CentOS Stream 10
	Kernel: 5.15
	Compiler: gcc gcc (GCC) 14.2.1 20250110 (Red Hat 14.2.1-8)

Fedora Linux 42
	Kernel: 5.15
	Compiler: gcc gcc (GCC) 15.2.1 20250808 (Red Hat 15.2.1-1)

Fedora Linux 41
	Kernel: 5.15
	Compiler: gcc gcc (GCC) 14.3.1 20250523 (Red Hat 14.3.1-1)

Red Hat Enterprise Linux 9.5
	Kernel: 5.15
	Compiler: gcc gcc (GCC) 11.5.0 20240719 (Red Hat 11.5.0-2)

Red Hat Enterprise Linux 8.10
	Kernel: 5.15
	Compiler: gcc gcc (GCC) 8.5.0 20210514 (Red Hat 8.5.0-22)

Ubuntu 22.04
	Kernel: 5.15
	Compiler: gcc gcc (Ubuntu 11.4.0-1ubuntu1~22.04) 11.4.0

Ubuntu 20.04
	Kernel: 5.15
	Compiler: gcc gcc (Ubuntu 9.4.0-1ubuntu1~20.04.2) 9.4.0

Ubuntu 24.04
	Kernel: 5.15
	Compiler: gcc gcc (Ubuntu 13.3.0-6ubuntu2~24.04) 13.3.0

Windows Server 2022
	Kernel: 10.0.20348.2031
	Compiler: clang 15.0.7, gcc 14.1.0 (MinGW), and MSVC VS 19.39.33521

To view detailed results, visit:
https://lab.dpdk.org/results/dashboard/tarballs/34949/

UNH-IOL DPDK Community Lab

To manage your email subscriptions, visit: 
https://lab.dpdk.org/results/dashboard/preferences/subscriptions/

^ permalink raw reply	[flat|nested] 57+ messages in thread
* |PENDING| [GIT MASTER] 3b43ce3f4a54468e7ef65760c2fd7b4d6ee6d9fc
@ 2025-09-20  4:08 dpdklab
  0 siblings, 0 replies; 57+ messages in thread
From: dpdklab @ 2025-09-20  4:08 UTC (permalink / raw)
  To: Test Report; +Cc: dpdk-test-reports

_Testing pending_

Branch: tags/v22.11

3b43ce3f4a54468e7ef65760c2fd7b4d6ee6d9fc --> testing pending

Upstream job id: Generic-VM-DPDK-Compile-Meson#38470

Test environment and result as below:

+-------------------------------+--------------------+
|          Environment          | dpdk_meson_compile |
+===============================+====================+
| CentOS Stream 9               | PEND               |
+-------------------------------+--------------------+
| CentOS Stream 10              | PEND               |
+-------------------------------+--------------------+
| Debian GNU/Linux 12           | PEND               |
+-------------------------------+--------------------+
| Ubuntu 20.04                  | PEND               |
+-------------------------------+--------------------+
| Fedora Linux 42               | PEND               |
+-------------------------------+--------------------+
| openSUSE Leap 15.6            | PEND               |
+-------------------------------+--------------------+
| Red Hat Enterprise Linux 9.5  | PEND               |
+-------------------------------+--------------------+
| Red Hat Enterprise Linux 8.10 | PEND               |
+-------------------------------+--------------------+
| Ubuntu 22.04                  | PEND               |
+-------------------------------+--------------------+
| Ubuntu 24.04                  | PEND               |
+-------------------------------+--------------------+


CentOS Stream 9
	Kernel: 5.15
	Compiler: gcc gcc (GCC) 11.5.0 20240719 (Red Hat 11.5.0-11)

CentOS Stream 10
	Kernel: 5.15
	Compiler: gcc gcc (GCC) 14.2.1 20250110 (Red Hat 14.2.1-8)

Debian GNU/Linux 12
	Kernel: 5.15
	Compiler: gcc gcc (Debian 12.2.0-14+deb12u1) 12.2.0

Ubuntu 20.04
	Kernel: 4.19
	Compiler: gcc gcc (Ubuntu 9.4.0-1ubuntu1~20.04.2) 9.4.0

Fedora Linux 42
	Kernel: 5.15
	Compiler: clang gcc (GCC) 15.2.1 20250808 (Red Hat 15.2.1-1)

openSUSE Leap 15.6
	Kernel: 5.15
	Compiler: gcc gcc (SUSE Linux) 7.5.0

Red Hat Enterprise Linux 9.5
	Kernel: 5.15
	Compiler: gcc gcc (GCC) 11.5.0 20240719 (Red Hat 11.5.0-2)

Red Hat Enterprise Linux 8.10
	Kernel: 5.15
	Compiler: gcc gcc (GCC) 8.5.0 20210514 (Red Hat 8.5.0-22)

Ubuntu 22.04
	Kernel: 5.15
	Compiler: gcc gcc (Ubuntu 11.4.0-1ubuntu1~22.04) 11.4.0

Ubuntu 24.04
	Kernel: 5.15
	Compiler: gcc gcc (Ubuntu 13.3.0-6ubuntu2~24.04) 13.3.0

To view detailed results, visit:
https://lab.dpdk.org/results/dashboard/tarballs/34949/

UNH-IOL DPDK Community Lab

To manage your email subscriptions, visit: 
https://lab.dpdk.org/results/dashboard/preferences/subscriptions/

^ permalink raw reply	[flat|nested] 57+ messages in thread
* |PENDING| [GIT MASTER] 3b43ce3f4a54468e7ef65760c2fd7b4d6ee6d9fc
@ 2025-09-19  4:51 dpdklab
  0 siblings, 0 replies; 57+ messages in thread
From: dpdklab @ 2025-09-19  4:51 UTC (permalink / raw)
  To: Test Report; +Cc: dpdk-test-reports

_Testing pending_

Branch: tags/v22.11

3b43ce3f4a54468e7ef65760c2fd7b4d6ee6d9fc --> testing pending

Upstream job id: Generic-DPDK-Compile-Meson#426667

Test environment and result as below:

+------------------------------+--------------------+
|         Environment          | dpdk_meson_compile |
+==============================+====================+
| Debian GNU/Linux 12          | PEND               |
+------------------------------+--------------------+
| Fedora Linux 42              | PEND               |
+------------------------------+--------------------+
| Ubuntu 20.04                 | PEND               |
+------------------------------+--------------------+
| CentOS Stream 9              | PEND               |
+------------------------------+--------------------+
| Red Hat Enterprise Linux 9.5 | PEND               |
+------------------------------+--------------------+
| CentOS Stream 10             | PEND               |
+------------------------------+--------------------+
| Ubuntu 24.04                 | PEND               |
+------------------------------+--------------------+
| Ubuntu 22.04                 | PEND               |
+------------------------------+--------------------+


Debian GNU/Linux 12
	Kernel: 5.4
	Compiler: gcc gcc (Debian 12.2.0-14+deb12u1) 12.2.0

Fedora Linux 42
	Kernel: 5.4
	Compiler: clang gcc (GCC) 15.2.1 20250808 (Red Hat 15.2.1-1)

Ubuntu 20.04
	Kernel: 5.15
	Compiler: aarch64-linux-gnu-gcc gcc (Ubuntu 9.4.0-1ubuntu1~20.04.2) 9.4.0

CentOS Stream 9
	Kernel: 5.4
	Compiler: gcc gcc (GCC) 11.5.0 20240719 (Red Hat 11.5.0-11)

Red Hat Enterprise Linux 9.5
	Kernel: 5.4
	Compiler: gcc gcc (GCC) 11.5.0 20240719 (Red Hat 11.5.0-2)

CentOS Stream 10
	Kernel: 5.4
	Compiler: gcc gcc (GCC) 14.2.1 20250110 (Red Hat 14.2.1-8)

Ubuntu 24.04
	Kernel: 5.4
	Compiler: gcc gcc (Ubuntu 13.3.0-6ubuntu2~24.04) 13.3.0

Ubuntu 22.04
	Kernel: 5.4
	Compiler: gcc gcc (Ubuntu 11.4.0-1ubuntu1~22.04) 11.4.0

To view detailed results, visit:
https://lab.dpdk.org/results/dashboard/tarballs/34929/

UNH-IOL DPDK Community Lab

To manage your email subscriptions, visit: 
https://lab.dpdk.org/results/dashboard/preferences/subscriptions/

^ permalink raw reply	[flat|nested] 57+ messages in thread
* |PENDING| [GIT MASTER] 3b43ce3f4a54468e7ef65760c2fd7b4d6ee6d9fc
@ 2025-09-19  4:16 dpdklab
  0 siblings, 0 replies; 57+ messages in thread
From: dpdklab @ 2025-09-19  4:16 UTC (permalink / raw)
  To: Test Report; +Cc: dpdk-test-reports

_Testing pending_

Branch: tags/v22.11

3b43ce3f4a54468e7ef65760c2fd7b4d6ee6d9fc --> testing pending

Upstream job id: Template-DTS-Pipeline#245283

Test environment and result as below:

+--------------+----------------------+----------------------+
| Environment  | dpdk_fips_validation | compressdev_zlib_pmd |
+==============+======================+======================+
| Ubuntu 20.04 | PEND                 | SKIPPED              |
+--------------+----------------------+----------------------+
| Ubuntu 22.04 | SKIPPED              | PASS                 |
+--------------+----------------------+----------------------+


Ubuntu 20.04
	Kernel: 5.15
	Compiler: gcc gcc (Ubuntu 9.4.0-1ubuntu1~20.04.2) 9.4.0

Ubuntu 22.04
	Kernel: 5.15
	Compiler: gcc gcc (Ubuntu 11.4.0-1ubuntu1~22.04.2) 11.4.0

To view detailed results, visit:
https://lab.dpdk.org/results/dashboard/tarballs/34929/

UNH-IOL DPDK Community Lab

To manage your email subscriptions, visit: 
https://lab.dpdk.org/results/dashboard/preferences/subscriptions/

^ permalink raw reply	[flat|nested] 57+ messages in thread
* |PENDING| [GIT MASTER] 3b43ce3f4a54468e7ef65760c2fd7b4d6ee6d9fc
@ 2025-09-19  4:10 dpdklab
  0 siblings, 0 replies; 57+ messages in thread
From: dpdklab @ 2025-09-19  4:10 UTC (permalink / raw)
  To: Test Report; +Cc: dpdk-test-reports

_Testing pending_

Branch: tags/v22.11

3b43ce3f4a54468e7ef65760c2fd7b4d6ee6d9fc --> testing pending

Upstream job id: Generic-Unit-Test-DPDK#372895

Test environment and result as below:

+-----------------+------------------------------+--------------+---------------------------+----------------+
|   Environment   | cryptodev_sw_snow3g_autotest | lpm_autotest | cryptodev_sw_zuc_autotest | dpdk_unit_test |
+=================+==============================+==============+===========================+================+
| Debian 12 (arm) | PASS                         | SKIPPED      | PEND                      | SKIPPED        |
+-----------------+------------------------------+--------------+---------------------------+----------------+
| Ubuntu 20.04    | SKIPPED                      | PEND         | SKIPPED                   | SKIPPED        |
+-----------------+------------------------------+--------------+---------------------------+----------------+
| Ubuntu 22.04    | SKIPPED                      | SKIPPED      | SKIPPED                   | PEND           |
+-----------------+------------------------------+--------------+---------------------------+----------------+


Debian 12 (arm)
	Kernel: Depends on container host
	Compiler: gcc (Debian 12.2.0-14) 12.2.0

Ubuntu 20.04
	Kernel: 5.4
	Compiler: gcc gcc (Ubuntu 9.4.0-1ubuntu1~20.04.2) 9.4.0

Ubuntu 22.04
	Kernel: 5.15
	Compiler: gcc gcc (Ubuntu 11.4.0-1ubuntu1~22.04.2) 11.4.0

To view detailed results, visit:
https://lab.dpdk.org/results/dashboard/tarballs/34929/

UNH-IOL DPDK Community Lab

To manage your email subscriptions, visit: 
https://lab.dpdk.org/results/dashboard/preferences/subscriptions/

^ permalink raw reply	[flat|nested] 57+ messages in thread
* |PENDING| [GIT MASTER] 3b43ce3f4a54468e7ef65760c2fd7b4d6ee6d9fc
@ 2025-09-19  4:07 dpdklab
  0 siblings, 0 replies; 57+ messages in thread
From: dpdklab @ 2025-09-19  4:07 UTC (permalink / raw)
  To: Test Report; +Cc: dpdk-test-reports

_Testing pending_

Branch: tags/v22.11

3b43ce3f4a54468e7ef65760c2fd7b4d6ee6d9fc --> testing pending

Upstream job id: Generic-VM-DPDK-Compile-Meson#38428

Test environment and result as below:

+-------------------------------+--------------------+-------------------------+
|          Environment          | dpdk_meson_compile | dpdk_llvm_clang_compile |
+===============================+====================+=========================+
| Fedora Linux 42               | PEND               | SKIPPED                 |
+-------------------------------+--------------------+-------------------------+
| FreeBSD 14.2                  | PEND               | SKIPPED                 |
+-------------------------------+--------------------+-------------------------+
| Ubuntu 24.04                  | PEND               | SKIPPED                 |
+-------------------------------+--------------------+-------------------------+
| Debian GNU/Linux 12           | PEND               | SKIPPED                 |
+-------------------------------+--------------------+-------------------------+
| Red Hat Enterprise Linux 9.5  | PEND               | SKIPPED                 |
+-------------------------------+--------------------+-------------------------+
| Ubuntu 20.04                  | PEND               | SKIPPED                 |
+-------------------------------+--------------------+-------------------------+
| CentOS Stream 9               | PEND               | SKIPPED                 |
+-------------------------------+--------------------+-------------------------+
| Red Hat Enterprise Linux 8.10 | PEND               | SKIPPED                 |
+-------------------------------+--------------------+-------------------------+
| CentOS Stream 10              | PEND               | SKIPPED                 |
+-------------------------------+--------------------+-------------------------+
| openSUSE Leap 15.6            | PEND               | SKIPPED                 |
+-------------------------------+--------------------+-------------------------+
| Ubuntu 22.04                  | PEND               | SKIPPED                 |
+-------------------------------+--------------------+-------------------------+
| Windows Server 2022           | SKIPPED            | PEND                    |
+-------------------------------+--------------------+-------------------------+


Fedora Linux 42
	Kernel: 5.15
	Compiler: gcc gcc (GCC) 15.2.1 20250808 (Red Hat 15.2.1-1)

FreeBSD 14.2
	Kernel: 14.2-RELEASE
	Compiler: clang 18.1.6

Ubuntu 24.04
	Kernel: 5.15
	Compiler: gcc gcc (Ubuntu 13.3.0-6ubuntu2~24.04) 13.3.0

Debian GNU/Linux 12
	Kernel: 5.15
	Compiler: gcc gcc (Debian 12.2.0-14+deb12u1) 12.2.0

Red Hat Enterprise Linux 9.5
	Kernel: 5.15
	Compiler: gcc gcc (GCC) 11.5.0 20240719 (Red Hat 11.5.0-2)

Ubuntu 20.04
	Kernel: 4.19
	Compiler: gcc gcc (Ubuntu 9.4.0-1ubuntu1~20.04.2) 9.4.0

CentOS Stream 9
	Kernel: 5.15
	Compiler: gcc gcc (GCC) 11.5.0 20240719 (Red Hat 11.5.0-11)

Red Hat Enterprise Linux 8.10
	Kernel: 5.15
	Compiler: gcc gcc (GCC) 8.5.0 20210514 (Red Hat 8.5.0-22)

CentOS Stream 10
	Kernel: 5.15
	Compiler: gcc gcc (GCC) 14.2.1 20250110 (Red Hat 14.2.1-8)

openSUSE Leap 15.6
	Kernel: 5.15
	Compiler: gcc gcc (SUSE Linux) 7.5.0

Ubuntu 22.04
	Kernel: 5.15
	Compiler: gcc gcc (Ubuntu 11.4.0-1ubuntu1~22.04) 11.4.0

Windows Server 2022
	Kernel: 10.0.20348.2031
	Compiler: clang 15.0.7, gcc 14.1.0 (MinGW), and MSVC VS 19.39.33521

To view detailed results, visit:
https://lab.dpdk.org/results/dashboard/tarballs/34929/

UNH-IOL DPDK Community Lab

To manage your email subscriptions, visit: 
https://lab.dpdk.org/results/dashboard/preferences/subscriptions/

^ permalink raw reply	[flat|nested] 57+ messages in thread
* |PENDING| [GIT MASTER] 3b43ce3f4a54468e7ef65760c2fd7b4d6ee6d9fc
@ 2025-09-18  5:11 dpdklab
  0 siblings, 0 replies; 57+ messages in thread
From: dpdklab @ 2025-09-18  5:11 UTC (permalink / raw)
  To: Test Report; +Cc: dpdk-test-reports

_Testing pending_

Branch: tags/v22.11

3b43ce3f4a54468e7ef65760c2fd7b4d6ee6d9fc --> testing pending

Upstream job id: Aarch32-Unit-Test#7549

Test environment and result as below:

+-----------------+--------------+---------------------------+------------------------------+----------------+
|   Environment   | lpm_autotest | cryptodev_sw_zuc_autotest | cryptodev_sw_snow3g_autotest | dpdk_unit_test |
+=================+==============+===========================+==============================+================+
| Ubuntu 20.04    | PEND         | SKIPPED                   | SKIPPED                      | SKIPPED        |
+-----------------+--------------+---------------------------+------------------------------+----------------+
| Debian 12 (arm) | SKIPPED      | PEND                      | PEND                         | SKIPPED        |
+-----------------+--------------+---------------------------+------------------------------+----------------+
| Ubuntu 22.04    | SKIPPED      | SKIPPED                   | SKIPPED                      | PASS           |
+-----------------+--------------+---------------------------+------------------------------+----------------+


Ubuntu 20.04
	Kernel: 5.4
	Compiler: gcc gcc (Ubuntu 9.4.0-1ubuntu1~20.04.2) 9.4.0

Debian 12 (arm)
	Kernel: Depends on container host
	Compiler: gcc (Debian 12.2.0-14) 12.2.0

Ubuntu 22.04
	Kernel: 5.15
	Compiler: gcc gcc (Ubuntu 11.4.0-1ubuntu1~22.04.2) 11.4.0

To view detailed results, visit:
https://lab.dpdk.org/results/dashboard/tarballs/34915/

UNH-IOL DPDK Community Lab

To manage your email subscriptions, visit: 
https://lab.dpdk.org/results/dashboard/preferences/subscriptions/

^ permalink raw reply	[flat|nested] 57+ messages in thread
* |PENDING| [GIT MASTER] 3b43ce3f4a54468e7ef65760c2fd7b4d6ee6d9fc
@ 2025-09-18  4:48 dpdklab
  0 siblings, 0 replies; 57+ messages in thread
From: dpdklab @ 2025-09-18  4:48 UTC (permalink / raw)
  To: Test Report; +Cc: dpdk-test-reports

_Testing pending_

Branch: tags/v22.11

3b43ce3f4a54468e7ef65760c2fd7b4d6ee6d9fc --> testing pending

Upstream job id: Generic-VM-Unit-Test-DPDK#31207

Test environment and result as below:

+-------------------------------+----------------+
|          Environment          | dpdk_unit_test |
+===============================+================+
| CentOS Stream 10              | PEND           |
+-------------------------------+----------------+
| Fedora Linux 41               | PEND           |
+-------------------------------+----------------+
| CentOS Stream 9               | PEND           |
+-------------------------------+----------------+
| Fedora Linux 40               | PEND           |
+-------------------------------+----------------+
| Red Hat Enterprise Linux 8.10 | PEND           |
+-------------------------------+----------------+
| Fedora Linux 42               | PEND           |
+-------------------------------+----------------+
| Debian GNU/Linux 12           | PEND           |
+-------------------------------+----------------+
| Red Hat Enterprise Linux 9.5  | PEND           |
+-------------------------------+----------------+
| Ubuntu 22.04                  | PEND           |
+-------------------------------+----------------+
| Ubuntu 20.04                  | PEND           |
+-------------------------------+----------------+
| Ubuntu 24.04                  | PEND           |
+-------------------------------+----------------+
| Windows Server 2022           | PASS           |
+-------------------------------+----------------+


CentOS Stream 10
	Kernel: 5.15
	Compiler: gcc gcc (GCC) 14.2.1 20250110 (Red Hat 14.2.1-8)

Fedora Linux 41
	Kernel: 5.15
	Compiler: gcc gcc (GCC) 14.3.1 20250523 (Red Hat 14.3.1-1)

CentOS Stream 9
	Kernel: 5.15
	Compiler: gcc gcc (GCC) 11.5.0 20240719 (Red Hat 11.5.0-11)

Fedora Linux 40
	Kernel: 5.15
	Compiler: clang gcc (GCC) 14.2.1 20240912 (Red Hat 14.2.1-3)

Red Hat Enterprise Linux 8.10
	Kernel: 5.15
	Compiler: gcc gcc (GCC) 8.5.0 20210514 (Red Hat 8.5.0-22)

Fedora Linux 42
	Kernel: 5.15
	Compiler: clang gcc (GCC) 15.2.1 20250808 (Red Hat 15.2.1-1)

Debian GNU/Linux 12
	Kernel: 5.15
	Compiler: gcc gcc (Debian 12.2.0-14+deb12u1) 12.2.0

Red Hat Enterprise Linux 9.5
	Kernel: 5.15
	Compiler: gcc gcc (GCC) 11.5.0 20240719 (Red Hat 11.5.0-2)

Ubuntu 22.04
	Kernel: 5.15
	Compiler: gcc gcc (Ubuntu 11.4.0-1ubuntu1~22.04) 11.4.0

Ubuntu 20.04
	Kernel: 5.15
	Compiler: gcc gcc (Ubuntu 9.4.0-1ubuntu1~20.04.2) 9.4.0

Ubuntu 24.04
	Kernel: 5.15
	Compiler: gcc gcc (Ubuntu 13.3.0-6ubuntu2~24.04) 13.3.0

Windows Server 2022
	Kernel: 10.0.20348.2031
	Compiler: clang 15.0.7, gcc 14.1.0 (MinGW), and MSVC VS 19.39.33521

To view detailed results, visit:
https://lab.dpdk.org/results/dashboard/tarballs/34915/

UNH-IOL DPDK Community Lab

To manage your email subscriptions, visit: 
https://lab.dpdk.org/results/dashboard/preferences/subscriptions/

^ permalink raw reply	[flat|nested] 57+ messages in thread
* |PENDING| [GIT MASTER] 3b43ce3f4a54468e7ef65760c2fd7b4d6ee6d9fc
@ 2025-09-18  4:11 dpdklab
  0 siblings, 0 replies; 57+ messages in thread
From: dpdklab @ 2025-09-18  4:11 UTC (permalink / raw)
  To: Test Report; +Cc: dpdk-test-reports

_Testing pending_

Branch: tags/v22.11

3b43ce3f4a54468e7ef65760c2fd7b4d6ee6d9fc --> testing pending

Upstream job id: Generic-VM-DPDK-Compile-Meson#38404

Test environment and result as below:

+-------------------------------+--------------------+
|          Environment          | dpdk_meson_compile |
+===============================+====================+
| CentOS Stream 9               | PEND               |
+-------------------------------+--------------------+
| CentOS Stream 10              | PEND               |
+-------------------------------+--------------------+
| Debian GNU/Linux 12           | PEND               |
+-------------------------------+--------------------+
| Fedora Linux 42               | PEND               |
+-------------------------------+--------------------+
| Red Hat Enterprise Linux 8.10 | PEND               |
+-------------------------------+--------------------+
| Red Hat Enterprise Linux 9.5  | PEND               |
+-------------------------------+--------------------+
| Ubuntu 20.04                  | PASS               |
+-------------------------------+--------------------+
| openSUSE Leap 15.6            | PEND               |
+-------------------------------+--------------------+
| Ubuntu 22.04                  | PEND               |
+-------------------------------+--------------------+
| Ubuntu 24.04                  | PEND               |
+-------------------------------+--------------------+


CentOS Stream 9
	Kernel: 5.15
	Compiler: gcc gcc (GCC) 11.5.0 20240719 (Red Hat 11.5.0-11)

CentOS Stream 10
	Kernel: 5.15
	Compiler: gcc gcc (GCC) 14.2.1 20250110 (Red Hat 14.2.1-8)

Debian GNU/Linux 12
	Kernel: 5.15
	Compiler: gcc gcc (Debian 12.2.0-14+deb12u1) 12.2.0

Fedora Linux 42
	Kernel: 5.15
	Compiler: clang gcc (GCC) 15.2.1 20250808 (Red Hat 15.2.1-1)

Red Hat Enterprise Linux 8.10
	Kernel: 5.15
	Compiler: gcc gcc (GCC) 8.5.0 20210514 (Red Hat 8.5.0-22)

Red Hat Enterprise Linux 9.5
	Kernel: 5.15
	Compiler: gcc gcc (GCC) 11.5.0 20240719 (Red Hat 11.5.0-2)

Ubuntu 20.04
	Kernel: 5.15
	Compiler: gcc gcc (Ubuntu 9.4.0-1ubuntu1~20.04.2) 9.4.0

openSUSE Leap 15.6
	Kernel: 5.15
	Compiler: gcc gcc (SUSE Linux) 7.5.0

Ubuntu 22.04
	Kernel: 5.15
	Compiler: gcc gcc (Ubuntu 11.4.0-1ubuntu1~22.04) 11.4.0

Ubuntu 24.04
	Kernel: 5.15
	Compiler: gcc gcc (Ubuntu 13.3.0-6ubuntu2~24.04) 13.3.0

To view detailed results, visit:
https://lab.dpdk.org/results/dashboard/tarballs/34915/

UNH-IOL DPDK Community Lab

To manage your email subscriptions, visit: 
https://lab.dpdk.org/results/dashboard/preferences/subscriptions/

^ permalink raw reply	[flat|nested] 57+ messages in thread

end of thread, other threads:[~2025-10-03  4:21 UTC | newest]

Thread overview: 57+ messages (download: mbox.gz / follow: Atom feed)
-- links below jump to the message on this page --
2025-09-27  4:09 |PENDING| [GIT MASTER] 3b43ce3f4a54468e7ef65760c2fd7b4d6ee6d9fc dpdklab
  -- strict thread matches above, loose matches on Subject: below --
2025-10-03  4:21 dpdklab
2025-10-03  4:17 dpdklab
2025-10-03  4:08 dpdklab
2025-10-02  4:24 dpdklab
2025-10-02  4:17 dpdklab
2025-10-02  4:15 dpdklab
2025-10-02  4:08 dpdklab
2025-10-01  5:09 dpdklab
2025-10-01  4:32 dpdklab
2025-09-30  6:07 dpdklab
2025-09-30  5:16 dpdklab
2025-09-30  4:15 dpdklab
2025-09-30  4:12 dpdklab
2025-09-30  4:07 dpdklab
2025-09-29  6:26 dpdklab
2025-09-29  5:10 dpdklab
2025-09-29  4:56 dpdklab
2025-09-29  4:09 dpdklab
2025-09-28  5:10 dpdklab
2025-09-28  5:02 dpdklab
2025-09-28  4:25 dpdklab
2025-09-28  4:11 dpdklab
2025-09-27  4:29 dpdklab
2025-09-27  4:15 dpdklab
2025-09-27  4:06 dpdklab
2025-09-26  5:36 dpdklab
2025-09-26  4:50 dpdklab
2025-09-26  4:17 dpdklab
2025-09-26  4:09 dpdklab
2025-09-25  5:26 dpdklab
2025-09-25  5:16 dpdklab
2025-09-25  4:37 dpdklab
2025-09-25  4:09 dpdklab
2025-09-24  4:16 dpdklab
2025-09-24  4:10 dpdklab
2025-09-24  4:08 dpdklab
2025-09-23  4:57 dpdklab
2025-09-23  4:56 dpdklab
2025-09-23  4:23 dpdklab
2025-09-23  4:09 dpdklab
2025-09-22  4:16 dpdklab
2025-09-22  4:10 dpdklab
2025-09-22  4:10 dpdklab
2025-09-21  5:10 dpdklab
2025-09-21  4:09 dpdklab
2025-09-20  5:19 dpdklab
2025-09-20  5:13 dpdklab
2025-09-20  4:51 dpdklab
2025-09-20  4:08 dpdklab
2025-09-19  4:51 dpdklab
2025-09-19  4:16 dpdklab
2025-09-19  4:10 dpdklab
2025-09-19  4:07 dpdklab
2025-09-18  5:11 dpdklab
2025-09-18  4:48 dpdklab
2025-09-18  4:11 dpdklab

This is a public inbox, see mirroring instructions
for how to clone and mirror all data and code used for this inbox;
as well as URLs for NNTP newsgroup(s).