From mboxrd@z Thu Jan 1 00:00:00 1970 Return-Path: Received: from mails.dpdk.org (mails.dpdk.org [217.70.189.124]) by inbox.dpdk.org (Postfix) with ESMTP id 50B4446F90 for ; Sat, 27 Sep 2025 07:19:04 +0200 (CEST) Received: from mails.dpdk.org (localhost [127.0.0.1]) by mails.dpdk.org (Postfix) with ESMTP id 4A16140261; Sat, 27 Sep 2025 07:19:04 +0200 (CEST) Received: from mail-qt1-f228.google.com (mail-qt1-f228.google.com [209.85.160.228]) by mails.dpdk.org (Postfix) with ESMTP id C84E040261 for ; Sat, 27 Sep 2025 07:19:03 +0200 (CEST) Received: by mail-qt1-f228.google.com with SMTP id d75a77b69052e-4de584653cfso19688131cf.0 for ; Fri, 26 Sep 2025 22:19:03 -0700 (PDT) DKIM-Signature: v=1; a=rsa-sha256; c=relaxed/relaxed; d=iol.unh.edu; s=unh-iol; t=1758950343; x=1759555143; darn=dpdk.org; h=cc:to:from:subject:message-id:date:from:to:cc:subject:date :message-id:reply-to; bh=7Qpqe6QjXZ5I5EXJxllGMnHtPPXLlqr9KDkNKVuP7aA=; b=hIhpc4qwRJXYrUCOJ6ckSBFBIx5lvIjncHmp0cCEplbUyuD6qhwt9wWUIQRP3oM+9U eAcyrrWWX0SJZomIC60HL20JVCNpu8IHQH/5UapGrFCVl6IHKFDkfUmb2TO7sMkLwqYK ZQhlVgkvx03nhWjcODLPGIQqYOgkaMXgJMo3Q= X-Google-DKIM-Signature: v=1; a=rsa-sha256; c=relaxed/relaxed; d=1e100.net; s=20230601; t=1758950343; x=1759555143; h=cc:to:from:subject:message-id:date:x-gm-message-state:from:to:cc :subject:date:message-id:reply-to; bh=7Qpqe6QjXZ5I5EXJxllGMnHtPPXLlqr9KDkNKVuP7aA=; b=Oy6F+dZhJEztTVMj1liI/NphKWq68gpfRJtV2eH9zSDplVZzZYmVxb6lNIAAuleiaQ i8/tlHk4p1rtAtzRKOIRTg7wYHkEO825CHrwFs1Dtrgb7ezUo6fjO3yZUYYBfDV+VORT MxyFd2Mk+ZqmlXyrSGQkckv9VkqVVWpgRdDGIxUKxSRko3kWsdDUgilXwikrbaXHKuIr FwZV+TdETdBejfjQkGpNbAhvRxD4i/lWeIbdbjBrXCo2LDJW0feXJN10bTORYTcyCsw/ IqfSaR24uv2EdGex5kuMIEAAnvTES5+b9QmcOuavUFscDfw6mnQUkTBXY7H+Pm/l1SQo z/GA== X-Gm-Message-State: AOJu0YzZjtcFoW86H4ZNalHuhj2b4v6eDhj64J4QwmHtdnzgitRCunJh kOdUn1gLBJjkSke3QWAZ0lNLZlxjjFAryAEC+4FeoiqDheWcLbrjavQfo3OebQIkf208Xb8WgO5 SQqRm/Pgm/Zr3b82TgCT6022wbobqTe7ixLp3g1VqBs1TPzoDGpT6 X-Gm-Gg: ASbGncugay/ZaComEQB7ibvS/NjGeBmOH/DpAIg4mUndy3Jxs0zjiFPEgkCYdiHOlXO B41c+1mbhfANMw7fSasZfGsatouqn/VPW6uX9H1rFT4JP6bK0bHf9nspqfFJCIUDSKY9u5a/GFY rqiXMUiGTWOXDlQtBr3+arcki0aaJD2GXVkMSeM+GqePltoogaaCgK3KI2Y506nIcOjqeK10+t3 BdDKfAW5T7vTXdV1qm6wpH0zngwo9Xq+zcJafyeDjiUvIEvlbHBYigsFwm0aCXajYWFQ3SNlRwv 649Gcutkd79kpakAjJvoFngITR9P1Pqdfszcgh9fDXdr5QAyjw== X-Google-Smtp-Source: AGHT+IFPoEuyqDwsaMGvBJw1cGpYzVZ0dc3mB8L9J8Ln7jDxQluzBDZDr/Q/6De4IFid6K+hK2XwFwacHyKa X-Received: by 2002:ac8:5f0a:0:b0:4d4:d7d5:f579 with SMTP id d75a77b69052e-4da4b808858mr128177671cf.52.1758950343167; Fri, 26 Sep 2025 22:19:03 -0700 (PDT) Received: from postal.iol.unh.edu (postal.iol.unh.edu. [2606:4100:3880:1234::84]) by smtp-relay.gmail.com with ESMTPS id 6a1803df08f44-8016eb40111sm4489026d6.44.2025.09.26.22.19.03 (version=TLS1_2 cipher=ECDHE-ECDSA-AES128-GCM-SHA256 bits=128/128); Fri, 26 Sep 2025 22:19:03 -0700 (PDT) X-Relaying-Domain: iol.unh.edu Date: Fri, 26 Sep 2025 22:19:03 -0700 (PDT) Message-ID: <68d773c7.050a0220.160646.bb7fSMTPIN_ADDED_MISSING@mx.google.com> Received: from [172.21.0.5] (unknown [172.18.0.240]) by postal.iol.unh.edu (Postfix) with ESMTP id E360D6051830; Sat, 27 Sep 2025 01:19:02 -0400 (EDT) Subject: |SUCCESS| [GIT MASTER] 3b43ce3f4a54468e7ef65760c2fd7b4d6ee6d9fc From: dpdklab@iol.unh.edu To: Test Report Cc: dpdk-test-reports@iol.unh.edu, Xueming Li , Christian Ehrhardt , Kevin Traynor , Luca Boccassi Content-Type: text/plain X-BeenThere: test-report@dpdk.org X-Mailman-Version: 2.1.29 Precedence: list List-Id: automatic DPDK test reports List-Unsubscribe: , List-Archive: List-Post: List-Help: List-Subscribe: , Errors-To: test-report-bounces@dpdk.org _Testing PASS_ Branch: tags/v22.11 3b43ce3f4a54468e7ef65760c2fd7b4d6ee6d9fc --> testing pass Upstream job id: Generic-DPDK-Compile-Meson#429215 Test environment and result as below: +-------------------------------+--------------------+-------------------------+----------------------+ | Environment | dpdk_meson_compile | dpdk_llvm_clang_compile | dpdk_mingw64_compile | +===============================+====================+=========================+======================+ | FreeBSD 14.2 | PASS | SKIPPED | SKIPPED | +-------------------------------+--------------------+-------------------------+----------------------+ | Ubuntu 20.04 | PASS | SKIPPED | SKIPPED | +-------------------------------+--------------------+-------------------------+----------------------+ | Debian GNU/Linux 12 | PASS | SKIPPED | SKIPPED | +-------------------------------+--------------------+-------------------------+----------------------+ | CentOS Stream 9 | PASS | SKIPPED | SKIPPED | +-------------------------------+--------------------+-------------------------+----------------------+ | Fedora Linux 42 | PASS | SKIPPED | SKIPPED | +-------------------------------+--------------------+-------------------------+----------------------+ | CentOS Stream 10 | PASS | SKIPPED | SKIPPED | +-------------------------------+--------------------+-------------------------+----------------------+ | openSUSE Leap 15.6 | PASS | SKIPPED | SKIPPED | +-------------------------------+--------------------+-------------------------+----------------------+ | Red Hat Enterprise Linux 9.5 | PASS | SKIPPED | SKIPPED | +-------------------------------+--------------------+-------------------------+----------------------+ | Red Hat Enterprise Linux 8.10 | PASS | SKIPPED | SKIPPED | +-------------------------------+--------------------+-------------------------+----------------------+ | Ubuntu 24.04 | PASS | SKIPPED | SKIPPED | +-------------------------------+--------------------+-------------------------+----------------------+ | Ubuntu 22.04 | PASS | SKIPPED | SKIPPED | +-------------------------------+--------------------+-------------------------+----------------------+ | Windows Server 2022 | SKIPPED | PASS | PASS | +-------------------------------+--------------------+-------------------------+----------------------+ FreeBSD 14.2 Kernel: 14.2-RELEASE Compiler: clang 18.1.6 Ubuntu 20.04 Kernel: 5.15 Compiler: gcc gcc (Ubuntu 9.4.0-1ubuntu1~20.04.2) 9.4.0 Debian GNU/Linux 12 Kernel: 5.15 Compiler: gcc gcc (Debian 12.2.0-14+deb12u1) 12.2.0 CentOS Stream 9 Kernel: 5.15 Compiler: gcc gcc (GCC) 11.5.0 20240719 (Red Hat 11.5.0-11) Fedora Linux 42 Kernel: 5.15 Compiler: clang gcc (GCC) 15.2.1 20250808 (Red Hat 15.2.1-1) CentOS Stream 10 Kernel: 5.15 Compiler: gcc gcc (GCC) 14.2.1 20250110 (Red Hat 14.2.1-8) openSUSE Leap 15.6 Kernel: 5.15 Compiler: gcc gcc (SUSE Linux) 7.5.0 Red Hat Enterprise Linux 9.5 Kernel: 5.15 Compiler: gcc gcc (GCC) 11.5.0 20240719 (Red Hat 11.5.0-2) Red Hat Enterprise Linux 8.10 Kernel: 5.15 Compiler: gcc gcc (GCC) 8.5.0 20210514 (Red Hat 8.5.0-22) Ubuntu 24.04 Kernel: 5.15 Compiler: gcc gcc (Ubuntu 13.3.0-6ubuntu2~24.04) 13.3.0 Ubuntu 22.04 Kernel: 5.15 Compiler: gcc gcc (Ubuntu 11.4.0-1ubuntu1~22.04) 11.4.0 Windows Server 2022 Kernel: 10.0.20348.2031 Compiler: clang 15.0.7, gcc 14.1.0 (MinGW), and MSVC VS 19.39.33521 To view detailed results, visit: https://lab.dpdk.org/results/dashboard/tarballs/35026/ UNH-IOL DPDK Community Lab To manage your email subscriptions, visit: https://lab.dpdk.org/results/dashboard/preferences/subscriptions/