From mboxrd@z Thu Jan 1 00:00:00 1970 Return-Path: Received: from mails.dpdk.org (mails.dpdk.org [217.70.189.124]) by inbox.dpdk.org (Postfix) with ESMTP id 6656446F90 for ; Sat, 27 Sep 2025 07:19:20 +0200 (CEST) Received: from mails.dpdk.org (localhost [127.0.0.1]) by mails.dpdk.org (Postfix) with ESMTP id 5993A40261; Sat, 27 Sep 2025 07:19:20 +0200 (CEST) Received: from mail-pl1-f226.google.com (mail-pl1-f226.google.com [209.85.214.226]) by mails.dpdk.org (Postfix) with ESMTP id 0728B40261 for ; Sat, 27 Sep 2025 07:19:19 +0200 (CEST) Received: by mail-pl1-f226.google.com with SMTP id d9443c01a7336-27eed7bdfeeso21323405ad.0 for ; Fri, 26 Sep 2025 22:19:18 -0700 (PDT) DKIM-Signature: v=1; a=rsa-sha256; c=relaxed/relaxed; d=iol.unh.edu; s=unh-iol; t=1758950358; x=1759555158; darn=dpdk.org; h=cc:to:from:subject:message-id:date:from:to:cc:subject:date :message-id:reply-to; bh=mqXGIworFLUWwntgzamIN6Md236RVcA7TuHLH9UJQSU=; b=chBfFqUZowJtw9xwNu31g1rHr8itlbu08+TOt8xlGtHD+ydmqOqlTQxykBICj7I65e U+zcfKzM4gTFi3v1WoKcAVWDyrJLEXOOX67FQLoJCKyaCzGkC4G02gqLez1oLl7jxBqh Csw04ub7qnKAu6lcFYiPQevJdAgPaeGWYDFwM= X-Google-DKIM-Signature: v=1; a=rsa-sha256; c=relaxed/relaxed; d=1e100.net; s=20230601; t=1758950358; x=1759555158; h=cc:to:from:subject:message-id:date:x-gm-message-state:from:to:cc :subject:date:message-id:reply-to; bh=mqXGIworFLUWwntgzamIN6Md236RVcA7TuHLH9UJQSU=; b=r1x/YeZmhHiv1M4/XENWvnfHhV6BD+Ia1fWDYweyk3rJrQ5Ctb60pdId2ZROZlMZp6 OBKmSYV13gqnVTH1I4t+iP2hgH/5r5/MgxdUe65OdqqwsyM3Smg91oS7h1wNcJXDhWs8 M/KK7NsGrM/ws4SMXPlKRA7xeG2OcPUZIm/t90lbtE9hqm+BBo6T6iXp7SIzfs9T21jU 5jZaCc7pcJXeUsvWzWdlYh1Pd1g9z6FXcTzg4sLwGt82lvaj6juGHFiv7Z1s0OUw5V6C 0L+u73zJYkU7Sye14q7ovbgyyIRnBKJGz69h1YwCIWLyFtAyd7GlFRULAVF1eKM0xoRJ tPkA== X-Gm-Message-State: AOJu0YzDLOQFHD1VMS06bEwDNpmE4AHW24Y2VRk6vVcgdQo9r05PpGUY +Hm7TyWVdm5MqUrNeHQijICbjYqqiPqdrgZ/ZKjkzmcTT9jKf0h909FSGqbUKbQd9hdfQJutZ4n 2b1Hq/+uWbUvgh7pXS/F80f9zYZI56ZnlSUWhQ1WRcdbeQPILcLhT X-Gm-Gg: ASbGncsKhZ+hWHzWlIeUqKhGu9XFtXZ1pSryLYedyeLeoiMZ87XzLaZSj+VKEElbk2B O5YaduKB0PWCaGvBVWvOxSxXhn1UI+4E5W740CeoWuvVbHK+vV847Z80hZSQeYExDI57+LE/C+h qQ2mGw6SssEDrZ/tLcssTjvmZDp8Y6jKrYlNEh+Fp/o5KgkgyKkAf5n1D6a2cv2fjFuBYeHzxMw nTokSVUzfH+jeVgy3NOT2J5O8lRvApco49VJLUrQCoUJqGMkD9fLhC8MZzmxwHhNLSKdfSre2ig vyZln6rHEwe21ejPx2bGyQVMH/rs0rv60qfZ+vKzziAdTfMmvw== X-Google-Smtp-Source: AGHT+IGSnPw1G+z4TlTp04SihUjD0AuacautzUJUiIY7l/R4M6QOdlx25pP79buifdOqDIt6OpRkiW7Q29mG X-Received: by 2002:a17:903:2383:b0:242:5f6c:6b4e with SMTP id d9443c01a7336-27ed6be479emr106015935ad.7.1758950358225; Fri, 26 Sep 2025 22:19:18 -0700 (PDT) Received: from postal.iol.unh.edu (postal.iol.unh.edu. [2606:4100:3880:1234::84]) by smtp-relay.gmail.com with ESMTPS id d9443c01a7336-27ed67e78cdsm5165075ad.37.2025.09.26.22.19.18 (version=TLS1_2 cipher=ECDHE-ECDSA-AES128-GCM-SHA256 bits=128/128); Fri, 26 Sep 2025 22:19:18 -0700 (PDT) X-Relaying-Domain: iol.unh.edu Date: Fri, 26 Sep 2025 22:19:18 -0700 (PDT) Message-ID: <68d773d6.170a0220.e30e5.f24fSMTPIN_ADDED_MISSING@mx.google.com> Received: from [172.21.0.6] (unknown [172.18.0.240]) by postal.iol.unh.edu (Postfix) with ESMTP id 7E8D16051830; Sat, 27 Sep 2025 01:19:17 -0400 (EDT) Subject: |SUCCESS| [GIT MASTER] 3b43ce3f4a54468e7ef65760c2fd7b4d6ee6d9fc From: dpdklab@iol.unh.edu To: Test Report Cc: dpdk-test-reports@iol.unh.edu, Xueming Li , Christian Ehrhardt , Kevin Traynor , Luca Boccassi Content-Type: text/plain X-BeenThere: test-report@dpdk.org X-Mailman-Version: 2.1.29 Precedence: list List-Id: automatic DPDK test reports List-Unsubscribe: , List-Archive: List-Post: List-Help: List-Subscribe: , Errors-To: test-report-bounces@dpdk.org _Testing PASS_ Branch: tags/v22.11 3b43ce3f4a54468e7ef65760c2fd7b4d6ee6d9fc --> testing pass Upstream job id: Generic-DPDK-Compile-Meson#429213 Test environment and result as below: +-------------------------------+--------------------+-------------------------+----------------------+ | Environment | dpdk_meson_compile | dpdk_llvm_clang_compile | dpdk_mingw64_compile | +===============================+====================+=========================+======================+ | FreeBSD 14.2 | PASS | SKIPPED | SKIPPED | +-------------------------------+--------------------+-------------------------+----------------------+ | Ubuntu 20.04 | PASS | SKIPPED | SKIPPED | +-------------------------------+--------------------+-------------------------+----------------------+ | Debian GNU/Linux 12 | PASS | SKIPPED | SKIPPED | +-------------------------------+--------------------+-------------------------+----------------------+ | CentOS Stream 9 | PASS | SKIPPED | SKIPPED | +-------------------------------+--------------------+-------------------------+----------------------+ | Fedora Linux 42 | PASS | SKIPPED | SKIPPED | +-------------------------------+--------------------+-------------------------+----------------------+ | CentOS Stream 10 | PASS | SKIPPED | SKIPPED | +-------------------------------+--------------------+-------------------------+----------------------+ | openSUSE Leap 15.6 | PASS | SKIPPED | SKIPPED | +-------------------------------+--------------------+-------------------------+----------------------+ | Red Hat Enterprise Linux 9.5 | PASS | SKIPPED | SKIPPED | +-------------------------------+--------------------+-------------------------+----------------------+ | Red Hat Enterprise Linux 8.10 | PASS | SKIPPED | SKIPPED | +-------------------------------+--------------------+-------------------------+----------------------+ | Ubuntu 24.04 | PASS | SKIPPED | SKIPPED | +-------------------------------+--------------------+-------------------------+----------------------+ | Ubuntu 22.04 | PASS | SKIPPED | SKIPPED | +-------------------------------+--------------------+-------------------------+----------------------+ | Windows Server 2022 | SKIPPED | PASS | PASS | +-------------------------------+--------------------+-------------------------+----------------------+ FreeBSD 14.2 Kernel: 14.2-RELEASE Compiler: clang 18.1.6 Ubuntu 20.04 Kernel: 5.15 Compiler: gcc gcc (Ubuntu 9.4.0-1ubuntu1~20.04.2) 9.4.0 Debian GNU/Linux 12 Kernel: 5.15 Compiler: gcc gcc (Debian 12.2.0-14+deb12u1) 12.2.0 CentOS Stream 9 Kernel: 5.15 Compiler: gcc gcc (GCC) 11.5.0 20240719 (Red Hat 11.5.0-11) Fedora Linux 42 Kernel: 5.15 Compiler: clang gcc (GCC) 15.2.1 20250808 (Red Hat 15.2.1-1) CentOS Stream 10 Kernel: 5.15 Compiler: gcc gcc (GCC) 14.2.1 20250110 (Red Hat 14.2.1-8) openSUSE Leap 15.6 Kernel: 5.15 Compiler: gcc gcc (SUSE Linux) 7.5.0 Red Hat Enterprise Linux 9.5 Kernel: 5.15 Compiler: gcc gcc (GCC) 11.5.0 20240719 (Red Hat 11.5.0-2) Red Hat Enterprise Linux 8.10 Kernel: 5.15 Compiler: gcc gcc (GCC) 8.5.0 20210514 (Red Hat 8.5.0-22) Ubuntu 24.04 Kernel: 5.15 Compiler: gcc gcc (Ubuntu 13.3.0-6ubuntu2~24.04) 13.3.0 Ubuntu 22.04 Kernel: 5.15 Compiler: gcc gcc (Ubuntu 11.4.0-1ubuntu1~22.04) 11.4.0 Windows Server 2022 Kernel: 10.0.20348.2031 Compiler: clang 15.0.7, gcc 14.1.0 (MinGW), and MSVC VS 19.39.33521 To view detailed results, visit: https://lab.dpdk.org/results/dashboard/tarballs/35026/ UNH-IOL DPDK Community Lab To manage your email subscriptions, visit: https://lab.dpdk.org/results/dashboard/preferences/subscriptions/