From mboxrd@z Thu Jan 1 00:00:00 1970 Return-Path: Received: from mails.dpdk.org (mails.dpdk.org [217.70.189.124]) by inbox.dpdk.org (Postfix) with ESMTP id 77E7B46F90 for ; Sat, 27 Sep 2025 07:19:34 +0200 (CEST) Received: from mails.dpdk.org (localhost [127.0.0.1]) by mails.dpdk.org (Postfix) with ESMTP id 7347840261; Sat, 27 Sep 2025 07:19:34 +0200 (CEST) Received: from mail-pl1-f228.google.com (mail-pl1-f228.google.com [209.85.214.228]) by mails.dpdk.org (Postfix) with ESMTP id 75EDA40261 for ; Sat, 27 Sep 2025 07:19:33 +0200 (CEST) Received: by mail-pl1-f228.google.com with SMTP id d9443c01a7336-269639879c3so27930635ad.2 for ; Fri, 26 Sep 2025 22:19:33 -0700 (PDT) DKIM-Signature: v=1; a=rsa-sha256; c=relaxed/relaxed; d=iol.unh.edu; s=unh-iol; t=1758950373; x=1759555173; darn=dpdk.org; h=cc:to:from:subject:message-id:date:from:to:cc:subject:date :message-id:reply-to; bh=QCYO0fh4xFSoJnKXzy6GzEllw/9A2W4K18oOjkd7pBw=; b=Bqtc+UGOdViASyIeZEQCfQ9Zb948p9owBvtw7xnKtYUHYNNvisUlCtmHaKWFNleNad fBDW0MleDoUGxs7BNKokhzBYHCkjI+4B8so+kEMbLNDu2+sCb3c8qIHqZitj8mtDRPrZ hZZuVMQtULw4HpJb8F02eWQc9bX/PMguBADQA= X-Google-DKIM-Signature: v=1; a=rsa-sha256; c=relaxed/relaxed; d=1e100.net; s=20230601; t=1758950373; x=1759555173; h=cc:to:from:subject:message-id:date:x-gm-message-state:from:to:cc :subject:date:message-id:reply-to; bh=QCYO0fh4xFSoJnKXzy6GzEllw/9A2W4K18oOjkd7pBw=; b=CprtBqQ0Bidj0tKv14Tggpd0WGUo40NULe0XxJphuiIpCIkHatOcI7bb6pcRQg4KaF 3oDiMbi2v9L1byVR8C9mJF76t8mhjV4iJ/6u20uDl4mPOirhP8x5vj4xO5vI94EBzlGI c259vLGjp4NVyzsyc6gKngOOLio5VA02FiE0wAvqhdKYFM+XHXwZiHfugD4nJLq71EP1 eYUCuy7tEVbO/sv7hCMd+lYIq5FNu7TrAvUeL7sp3hnZP346jeZtvBh8BA3adAPtGpf+ wl79Vjd2Uz0CnW8d5nTfTFdDWI5EA0/f39pikzNHdk6bIZZi/0bA4wbYbRpOLJZPlYsG Lxzg== X-Gm-Message-State: AOJu0YyQjV5DeCG1ynhl+EGn+Kim157Phdyc0NUgiK097mkIi6YLeJ8P jnI7J1CVtdigJMbkK87tA7c9jpdNWT7qCHsv00hktQ5Es5OAkKc0oRKRnLSjl3SNz74c6kti8/y pU4lNAzPZjE8lVQKAZKrnCBQaFOqV+N7kkRZbNfdy9LsGkw29RMNi X-Gm-Gg: ASbGncvbTVyS24XngJWXt2Q6JyWQUdDU8PscjXXs5My5iLgGSbCl+F4m7AQGVdRCrHE imwjDRr9kJbRsqXqdsz/oGasB2cH658vbrmVjdjM1Ys0hQTDDDmlwEEc+6iuXjHsVfZtA7twLdh RfvX/LWb1Szg+EtdPCJarShcN5tGQHVhv/exk9fATBpVFN0a+lrBDObiKd/R4zkRFhm84Ko4WWd yB6O1IbwexGMqwSjEQJ51Ygaq4TqoKnhN1Z5EqeeFkfNGjWDdufjwDhw3fF+qfPVM84HBl5X7ju jNcU/a1oRMiDDxSZ5ZmvcnnqBaaGP3bdVDfR5yOsNIGMbdN++Q== X-Google-Smtp-Source: AGHT+IH019UljNsoxiWIlcYG9HRrkbuYcIJBYHYUBLi9DRnTvL0C+tzmxfu+amfGeVCBL9tlWR5RbDMa8n0q X-Received: by 2002:a17:903:1c9:b0:266:120a:29c7 with SMTP id d9443c01a7336-27ed49df403mr106499955ad.6.1758950372733; Fri, 26 Sep 2025 22:19:32 -0700 (PDT) Received: from postal.iol.unh.edu (postal.iol.unh.edu. [2606:4100:3880:1234::84]) by smtp-relay.gmail.com with ESMTPS id d9443c01a7336-27ed683154dsm5309735ad.65.2025.09.26.22.19.32 (version=TLS1_2 cipher=ECDHE-ECDSA-AES128-GCM-SHA256 bits=128/128); Fri, 26 Sep 2025 22:19:32 -0700 (PDT) X-Relaying-Domain: iol.unh.edu Date: Fri, 26 Sep 2025 22:19:32 -0700 (PDT) Message-ID: <68d773e4.170a0220.148182.06deSMTPIN_ADDED_MISSING@mx.google.com> Received: from [172.21.0.11] (unknown [172.18.0.240]) by postal.iol.unh.edu (Postfix) with ESMTP id 373846051830; Sat, 27 Sep 2025 01:19:32 -0400 (EDT) Subject: |SUCCESS| [GIT MASTER] 3b43ce3f4a54468e7ef65760c2fd7b4d6ee6d9fc From: dpdklab@iol.unh.edu To: Test Report Cc: dpdk-test-reports@iol.unh.edu, Xueming Li , Christian Ehrhardt , Kevin Traynor , Luca Boccassi Content-Type: text/plain X-BeenThere: test-report@dpdk.org X-Mailman-Version: 2.1.29 Precedence: list List-Id: automatic DPDK test reports List-Unsubscribe: , List-Archive: List-Post: List-Help: List-Subscribe: , Errors-To: test-report-bounces@dpdk.org _Testing PASS_ Branch: tags/v22.11 3b43ce3f4a54468e7ef65760c2fd7b4d6ee6d9fc --> testing pass Upstream job id: Generic-DPDK-Compile-Meson#429209 Test environment and result as below: +-------------------------------+--------------------+-------------------------+----------------------+ | Environment | dpdk_meson_compile | dpdk_llvm_clang_compile | dpdk_mingw64_compile | +===============================+====================+=========================+======================+ | FreeBSD 14.2 | PASS | SKIPPED | SKIPPED | +-------------------------------+--------------------+-------------------------+----------------------+ | Ubuntu 20.04 | PASS | SKIPPED | SKIPPED | +-------------------------------+--------------------+-------------------------+----------------------+ | Debian GNU/Linux 12 | PASS | SKIPPED | SKIPPED | +-------------------------------+--------------------+-------------------------+----------------------+ | CentOS Stream 9 | PASS | SKIPPED | SKIPPED | +-------------------------------+--------------------+-------------------------+----------------------+ | Fedora Linux 42 | PASS | SKIPPED | SKIPPED | +-------------------------------+--------------------+-------------------------+----------------------+ | CentOS Stream 10 | PASS | SKIPPED | SKIPPED | +-------------------------------+--------------------+-------------------------+----------------------+ | openSUSE Leap 15.6 | PASS | SKIPPED | SKIPPED | +-------------------------------+--------------------+-------------------------+----------------------+ | Red Hat Enterprise Linux 9.5 | PASS | SKIPPED | SKIPPED | +-------------------------------+--------------------+-------------------------+----------------------+ | Red Hat Enterprise Linux 8.10 | PASS | SKIPPED | SKIPPED | +-------------------------------+--------------------+-------------------------+----------------------+ | Ubuntu 24.04 | PASS | SKIPPED | SKIPPED | +-------------------------------+--------------------+-------------------------+----------------------+ | Ubuntu 22.04 | PASS | SKIPPED | SKIPPED | +-------------------------------+--------------------+-------------------------+----------------------+ | Windows Server 2022 | SKIPPED | PASS | PASS | +-------------------------------+--------------------+-------------------------+----------------------+ FreeBSD 14.2 Kernel: 14.2-RELEASE Compiler: clang 18.1.6 Ubuntu 20.04 Kernel: 5.15 Compiler: gcc gcc (Ubuntu 9.4.0-1ubuntu1~20.04.2) 9.4.0 Debian GNU/Linux 12 Kernel: 5.15 Compiler: gcc gcc (Debian 12.2.0-14+deb12u1) 12.2.0 CentOS Stream 9 Kernel: 5.15 Compiler: gcc gcc (GCC) 11.5.0 20240719 (Red Hat 11.5.0-11) Fedora Linux 42 Kernel: 5.15 Compiler: clang gcc (GCC) 15.2.1 20250808 (Red Hat 15.2.1-1) CentOS Stream 10 Kernel: 5.15 Compiler: gcc gcc (GCC) 14.2.1 20250110 (Red Hat 14.2.1-8) openSUSE Leap 15.6 Kernel: 5.15 Compiler: gcc gcc (SUSE Linux) 7.5.0 Red Hat Enterprise Linux 9.5 Kernel: 5.15 Compiler: gcc gcc (GCC) 11.5.0 20240719 (Red Hat 11.5.0-2) Red Hat Enterprise Linux 8.10 Kernel: 5.15 Compiler: gcc gcc (GCC) 8.5.0 20210514 (Red Hat 8.5.0-22) Ubuntu 24.04 Kernel: 5.15 Compiler: gcc gcc (Ubuntu 13.3.0-6ubuntu2~24.04) 13.3.0 Ubuntu 22.04 Kernel: 5.15 Compiler: gcc gcc (Ubuntu 11.4.0-1ubuntu1~22.04) 11.4.0 Windows Server 2022 Kernel: 10.0.20348.2031 Compiler: clang 15.0.7, gcc 14.1.0 (MinGW), and MSVC VS 19.39.33521 To view detailed results, visit: https://lab.dpdk.org/results/dashboard/tarballs/35026/ UNH-IOL DPDK Community Lab To manage your email subscriptions, visit: https://lab.dpdk.org/results/dashboard/preferences/subscriptions/