From mboxrd@z Thu Jan 1 00:00:00 1970 Return-Path: Received: from mails.dpdk.org (mails.dpdk.org [217.70.189.124]) by inbox.dpdk.org (Postfix) with ESMTP id AA0E846F90 for ; Sat, 27 Sep 2025 07:53:53 +0200 (CEST) Received: from mails.dpdk.org (localhost [127.0.0.1]) by mails.dpdk.org (Postfix) with ESMTP id 8199040261; Sat, 27 Sep 2025 07:53:53 +0200 (CEST) Received: from mail-oa1-f98.google.com (mail-oa1-f98.google.com [209.85.160.98]) by mails.dpdk.org (Postfix) with ESMTP id 49D7440261 for ; Sat, 27 Sep 2025 07:53:52 +0200 (CEST) Received: by mail-oa1-f98.google.com with SMTP id 586e51a60fabf-35ba7c71bfdso2041137fac.3 for ; Fri, 26 Sep 2025 22:53:52 -0700 (PDT) DKIM-Signature: v=1; a=rsa-sha256; c=relaxed/relaxed; d=iol.unh.edu; s=unh-iol; t=1758952431; x=1759557231; darn=dpdk.org; h=cc:to:from:subject:message-id:date:from:to:cc:subject:date :message-id:reply-to; bh=Q32+OsvdpyUDsQa2wqLw8YDrXK6u3GrWSsp951ek+34=; b=cW/CtEaNuNfPflpi+oDFwm5yUABGOpjyC5NmhljT2A8p/bZJWnzUdvhNbj0hqqE2g2 1JRym4SQochTYy9YBzy6AZziRrpDe6OCa9zvQp7IsvngLzgnFqmebOwBcZZlc/TITXaa b0jDSOk0bXnGCTYWuLuyYHiEsxV9MGi6d8fdk= X-Google-DKIM-Signature: v=1; a=rsa-sha256; c=relaxed/relaxed; d=1e100.net; s=20230601; t=1758952431; x=1759557231; h=cc:to:from:subject:message-id:date:x-gm-message-state:from:to:cc :subject:date:message-id:reply-to; bh=Q32+OsvdpyUDsQa2wqLw8YDrXK6u3GrWSsp951ek+34=; b=o03UaVKLVlwlw2L47h1Yn1H+SV/nc45QVe24DXh/47F0fd28POlmhWcQ4kySuBpphY +EzMJis0D6dIcGcxVdBYK/ro7DoXbnjqhOSiaapkXQjkCyIcX1eJxv3YKXtLDhvQSX9p 8sPtWqpX9k9Ak6aalzC5aL9KUZr9/qyjuVqo6neZ0KIkE0amv0IoZEeSHmn+u8NDLO/P 66Kzt9KXa56ZGHkrsb1epif8hus0mKDguLmwJ9WHIJ3wItU6OS7aGUdP9LmFFFtEhF3/ Xis39AE8dZB2QDcmuDjeGrkUc9luVywaEFQOgNiAsvTsY+dWWS7gSPISdE5HtTsuQwJ/ AhAw== X-Gm-Message-State: AOJu0Yzk5LZf3tpedLRLp7tL8Y7dUntbPvaeUca1vp0LAuhFRIyJE0lu 5YYmLPzy9pDJGYbiWGbb4kpCf4GvunSOVn6FUnX5GPvTyu4Wk9Hs8ar/OrlYZXItt+mHJJKAkLF FGipM6i8ulTtdLhun9rPvx6NPttc/INNRM1WT5oS7Dk66+cbJA6C3 X-Gm-Gg: ASbGncs/Ji3VvZFY1kvfbhwsOxSofZ9jlrHfJnv96pehEdRSj/nh11u5XzWu8kU8NMA lKIJ5Q5LnOZBKKxuM1wk7qBXQP5jJ5IM8/0sDzJ3dkTwSpQTZUIlmpm2m+kz4aW6+9d9Huw4tGC ENTV/BZ5tTb743ti9yg8vj3IXq6R/LuC0dd6UQvoT1/cC7n5zaGEjYXaee3eHGUHjCNbO/VE9hf ATB1DThQl/QsjSMCFRUeESVNQqUio31JJAAYM0pKOe4Cs30xeYvZew9CtMh6kUtLYny+bOEn8NQ F6elc4nOHbZOAQ5Vse+gKJBKDR0KfWxAYs6mf+ZZTq50gRYAFg== X-Google-Smtp-Source: AGHT+IEMqT1UdSxTVinnTOJD4qmc0TGQ5zywSeX1pyD7qbXrDc8i6OJ8Xs/7JN+cln0xCBl78omTqZJ8+JrX X-Received: by 2002:a05:6870:5b84:b0:349:de3c:bfc5 with SMTP id 586e51a60fabf-35ebee22379mr5314668fac.7.1758952431541; Fri, 26 Sep 2025 22:53:51 -0700 (PDT) Received: from postal.iol.unh.edu (postal.iol.unh.edu. [2606:4100:3880:1234::84]) by smtp-relay.gmail.com with ESMTPS id 586e51a60fabf-363b49ab3basm464876fac.14.2025.09.26.22.53.51 (version=TLS1_2 cipher=ECDHE-ECDSA-AES128-GCM-SHA256 bits=128/128); Fri, 26 Sep 2025 22:53:51 -0700 (PDT) X-Relaying-Domain: iol.unh.edu Date: Fri, 26 Sep 2025 22:53:51 -0700 (PDT) Message-ID: <68d77bef.050a0220.3532bc.bd7eSMTPIN_ADDED_MISSING@mx.google.com> Received: from [172.21.0.2] (unknown [172.18.0.240]) by postal.iol.unh.edu (Postfix) with ESMTP id 2401660003EA; Sat, 27 Sep 2025 01:53:51 -0400 (EDT) Subject: |SUCCESS| [GIT MASTER] b287e404643aeab5bb5db084c142789df187844e From: dpdklab@iol.unh.edu To: Test Report Cc: dpdk-test-reports@iol.unh.edu, Xueming Li , Christian Ehrhardt , Kevin Traynor , Luca Boccassi Content-Type: text/plain X-BeenThere: test-report@dpdk.org X-Mailman-Version: 2.1.29 Precedence: list List-Id: automatic DPDK test reports List-Unsubscribe: , List-Archive: List-Post: List-Help: List-Subscribe: , Errors-To: test-report-bounces@dpdk.org _Testing PASS_ Branch: tags/v24.11 b287e404643aeab5bb5db084c142789df187844e --> testing pass Upstream job id: Generic-DPDK-Compile-Meson#429276 Test environment and result as below: +-------------------------------+--------------------+-------------------+------------------+-------------------+-------------------------+----------------------+ | Environment | dpdk_meson_compile | dpdk_compile_spdk | dpdk_compile_ovs | dpdk_msvc_compile | dpdk_llvm_clang_compile | dpdk_mingw64_compile | +===============================+====================+===================+==================+===================+=========================+======================+ | Debian GNU/Linux 12 | PASS | PASS | SKIPPED | SKIPPED | SKIPPED | SKIPPED | +-------------------------------+--------------------+-------------------+------------------+-------------------+-------------------------+----------------------+ | CentOS Stream 10 | PASS | SKIPPED | SKIPPED | SKIPPED | SKIPPED | SKIPPED | +-------------------------------+--------------------+-------------------+------------------+-------------------+-------------------------+----------------------+ | CentOS Stream 9 | PASS | PASS | SKIPPED | SKIPPED | SKIPPED | SKIPPED | +-------------------------------+--------------------+-------------------+------------------+-------------------+-------------------------+----------------------+ | Fedora Linux 42 | PASS | PASS | PASS | SKIPPED | SKIPPED | SKIPPED | +-------------------------------+--------------------+-------------------+------------------+-------------------+-------------------------+----------------------+ | Red Hat Enterprise Linux 8.10 | PASS | SKIPPED | SKIPPED | SKIPPED | SKIPPED | SKIPPED | +-------------------------------+--------------------+-------------------+------------------+-------------------+-------------------------+----------------------+ | openSUSE Leap 15.6 | PASS | SKIPPED | SKIPPED | SKIPPED | SKIPPED | SKIPPED | +-------------------------------+--------------------+-------------------+------------------+-------------------+-------------------------+----------------------+ | Ubuntu 20.04 | PASS | SKIPPED | SKIPPED | SKIPPED | SKIPPED | SKIPPED | +-------------------------------+--------------------+-------------------+------------------+-------------------+-------------------------+----------------------+ | Red Hat Enterprise Linux 9.5 | PASS | SKIPPED | SKIPPED | SKIPPED | SKIPPED | SKIPPED | +-------------------------------+--------------------+-------------------+------------------+-------------------+-------------------------+----------------------+ | Ubuntu 22.04 | PASS | PASS | SKIPPED | SKIPPED | SKIPPED | SKIPPED | +-------------------------------+--------------------+-------------------+------------------+-------------------+-------------------------+----------------------+ | Ubuntu 24.04 | PASS | PASS | PASS | SKIPPED | SKIPPED | SKIPPED | +-------------------------------+--------------------+-------------------+------------------+-------------------+-------------------------+----------------------+ | Alpine Linux 3.22.0 | PASS | SKIPPED | SKIPPED | SKIPPED | SKIPPED | SKIPPED | +-------------------------------+--------------------+-------------------+------------------+-------------------+-------------------------+----------------------+ | FreeBSD 14.2 | PASS | SKIPPED | SKIPPED | SKIPPED | SKIPPED | SKIPPED | +-------------------------------+--------------------+-------------------+------------------+-------------------+-------------------------+----------------------+ | Windows Server 2022 | SKIPPED | SKIPPED | SKIPPED | PASS | PASS | PASS | +-------------------------------+--------------------+-------------------+------------------+-------------------+-------------------------+----------------------+ Debian GNU/Linux 12 Kernel: 5.15 Compiler: gcc gcc (Debian 12.2.0-14+deb12u1) 12.2.0 CentOS Stream 10 Kernel: 5.15 Compiler: gcc gcc (GCC) 14.2.1 20250110 (Red Hat 14.2.1-8) CentOS Stream 9 Kernel: 5.15 Compiler: gcc gcc (GCC) 11.5.0 20240719 (Red Hat 11.5.0-11) Fedora Linux 42 Kernel: 5.15 Compiler: clang gcc (GCC) 15.2.1 20250808 (Red Hat 15.2.1-1) Red Hat Enterprise Linux 8.10 Kernel: 5.15 Compiler: gcc gcc (GCC) 8.5.0 20210514 (Red Hat 8.5.0-22) openSUSE Leap 15.6 Kernel: 5.15 Compiler: gcc gcc (SUSE Linux) 7.5.0 Ubuntu 20.04 Kernel: 4.19 Compiler: gcc gcc (Ubuntu 9.4.0-1ubuntu1~20.04.2) 9.4.0 Red Hat Enterprise Linux 9.5 Kernel: 5.15 Compiler: gcc gcc (GCC) 11.5.0 20240719 (Red Hat 11.5.0-2) Ubuntu 22.04 Kernel: 5.15 Compiler: gcc gcc (Ubuntu 11.4.0-1ubuntu1~22.04) 11.4.0 Ubuntu 24.04 Kernel: 5.15 Compiler: gcc gcc (Ubuntu 13.3.0-6ubuntu2~24.04) 13.3.0 Alpine Linux 3.22.0 Kernel: 5.15 Compiler: gcc gcc (Alpine 14.2.0) 14.2.0 FreeBSD 14.2 Kernel: 14.2-RELEASE Compiler: clang 18.1.6 Windows Server 2022 Kernel: 10.0.20348.2031 Compiler: clang 15.0.7, gcc 14.1.0 (MinGW), and MSVC VS 19.39.33521 To view detailed results, visit: https://lab.dpdk.org/results/dashboard/tarballs/35028/ UNH-IOL DPDK Community Lab To manage your email subscriptions, visit: https://lab.dpdk.org/results/dashboard/preferences/subscriptions/