From mboxrd@z Thu Jan 1 00:00:00 1970 Return-Path: Received: from mails.dpdk.org (mails.dpdk.org [217.70.189.124]) by inbox.dpdk.org (Postfix) with ESMTP id 8672846F99 for ; Sat, 27 Sep 2025 08:35:50 +0200 (CEST) Received: from mails.dpdk.org (localhost [127.0.0.1]) by mails.dpdk.org (Postfix) with ESMTP id 6623B40261; Sat, 27 Sep 2025 08:35:50 +0200 (CEST) Received: from mail-pl1-f225.google.com (mail-pl1-f225.google.com [209.85.214.225]) by mails.dpdk.org (Postfix) with ESMTP id 57A5D40261 for ; Sat, 27 Sep 2025 08:35:49 +0200 (CEST) Received: by mail-pl1-f225.google.com with SMTP id d9443c01a7336-2680cf68265so25588285ad.2 for ; Fri, 26 Sep 2025 23:35:49 -0700 (PDT) DKIM-Signature: v=1; a=rsa-sha256; c=relaxed/relaxed; d=iol.unh.edu; s=unh-iol; t=1758954948; x=1759559748; darn=dpdk.org; h=cc:to:from:subject:message-id:date:from:to:cc:subject:date :message-id:reply-to; bh=D/69uDJPPoZhvQeQugcFZQlA8QTV61AJG2EP+taBHyg=; b=ZY6tqGzpzzULgLcPW044VMvKbNpfry8vcxxC8kEiG1pk6XK11UPVT4AZZp++7zzUpr N8wpCoZIVioFsHrIqwqggj86mU9L/2a2+hGkkuZ7v4Vg8ULY/TFY6+AEOtpo0K2oE2Is f2C/L5saea/+So/FEdGi3wkjSU+yt3UWAvHrY= X-Google-DKIM-Signature: v=1; a=rsa-sha256; c=relaxed/relaxed; d=1e100.net; s=20230601; t=1758954948; x=1759559748; h=cc:to:from:subject:message-id:date:x-gm-message-state:from:to:cc :subject:date:message-id:reply-to; bh=D/69uDJPPoZhvQeQugcFZQlA8QTV61AJG2EP+taBHyg=; b=Z5avOOgqBOMyVD4Uw31ugbZY9Zb49p/9ldQbCj//BB8LD3wxEjn+pUZNegEdgPTma6 FmrUHyPUiAwPf6wwNcu8SbGkTy0bFot+80o4BzTZGb/eSWu4QmpnXfnZ2RDxHgzWumhP lkdONn+ETWApQ2OPA5FeoCOd+bKzpetOmo7/kP+aIK6SaFWkTXsMgjnb9vkY0oup9Czn ujA7xGqPX+WhLX+rdW3aOksF2JUvBLGqplKEn3xQ1dWDAUQD2Syh6rrtPiUxWVw4CxPp gArqxWLsOs88JxOjHli+n+07y/8OtdrkQEoBB4QeuD0W8B6VZoiBXvIrPdRddf2F6qwu LgLw== X-Gm-Message-State: AOJu0Yy1M5H5ZIiPfuELGZWJCkT1fb4BuZoqT5BRCJhKLid021RHn4yG P0vPNovD2IgoYWHLSpoUpTDa3PbvIYggp8+iBoujorKoup20lE2HFPJJVJMpzfOJ5j0wQ7PAWc0 gCgO+/0WkJyBFSULl32s3Q0n6V8xHp6I5+jt+ X-Gm-Gg: ASbGncs5bQC3NMzGSzGzxCqZmrJjV5WdSXchAd9NJOXiHWt3IgWxqp1ybvj0qTVkIA0 k2M4inQePUhXfxRtrdp97/tQGGyIufnCwK0UqwVqTodHKZFEf09vUTkJ84JjfgurtvaLVUs4T17 cgFMBm/LPoonoOfMVtO5DIObMy2MPRBvq4j9IakqBv4oVeA8QHp/9pVmQdiUnCfYHfD15w2VThL lnuQhgtWBSh8hLNeuRmxehDpcSVUCA3m+9hBMrFFegoxqIeHvWlJY+i2xynjaw+kvLXnR8JX1TI zuzCCgXD+grFZN/6PWpuByi2jFGWZixry0HXI0m8CTXgC287OPDfBiT0IWslo3EMD7q0VbYM X-Google-Smtp-Source: AGHT+IFEyQHCU3RFjCkdxEfX5i8BZd3kTrXTgCK2lrvDMxXVZ4N+yVW2OA7+rXMCVY7UDoJffaQfyqZkRzRB X-Received: by 2002:a17:903:3d07:b0:24c:cc32:788b with SMTP id d9443c01a7336-27ed49df6c4mr106282535ad.3.1758954948463; Fri, 26 Sep 2025 23:35:48 -0700 (PDT) Received: from postal.iol.unh.edu (postal.iol.unh.edu. [132.177.123.84]) by smtp-relay.gmail.com with ESMTPS id d9443c01a7336-27ed66bbc15sm5097005ad.6.2025.09.26.23.35.48 (version=TLS1_2 cipher=ECDHE-ECDSA-AES128-GCM-SHA256 bits=128/128); Fri, 26 Sep 2025 23:35:48 -0700 (PDT) X-Relaying-Domain: iol.unh.edu Date: Fri, 26 Sep 2025 23:35:48 -0700 (PDT) Message-ID: <68d785c4.170a0220.5674d.de8fSMTPIN_ADDED_MISSING@mx.google.com> Received: from [172.21.0.2] (unknown [172.18.0.240]) by postal.iol.unh.edu (Postfix) with ESMTP id 718786051830; Sat, 27 Sep 2025 02:35:47 -0400 (EDT) Subject: |SUCCESS| [GIT MASTER] b287e404643aeab5bb5db084c142789df187844e From: dpdklab@iol.unh.edu To: Test Report Cc: dpdk-test-reports@iol.unh.edu, Xueming Li , Christian Ehrhardt , Kevin Traynor , Luca Boccassi Content-Type: text/plain X-BeenThere: test-report@dpdk.org X-Mailman-Version: 2.1.29 Precedence: list List-Id: automatic DPDK test reports List-Unsubscribe: , List-Archive: List-Post: List-Help: List-Subscribe: , Errors-To: test-report-bounces@dpdk.org _Testing PASS_ Branch: tags/v24.11 b287e404643aeab5bb5db084c142789df187844e --> testing pass Upstream job id: Generic-Unit-Test-DPDK#375741 Test environment and result as below: +-------------------------------+----------------+ | Environment | dpdk_unit_test | +===============================+================+ | Debian GNU/Linux 12 | PASS | +-------------------------------+----------------+ | Fedora Linux 40 | PASS | +-------------------------------+----------------+ | Fedora Linux 42 | PASS | +-------------------------------+----------------+ | Fedora Linux 41 | PASS | +-------------------------------+----------------+ | Ubuntu 24.04 | PASS | +-------------------------------+----------------+ | CentOS Stream 9 | PASS | +-------------------------------+----------------+ | CentOS Stream 10 | PASS | +-------------------------------+----------------+ | Ubuntu 22.04 | PASS | +-------------------------------+----------------+ | Ubuntu 20.04 | PASS | +-------------------------------+----------------+ | Red Hat Enterprise Linux 8.10 | PASS | +-------------------------------+----------------+ | Red Hat Enterprise Linux 9.5 | PASS | +-------------------------------+----------------+ | Windows Server 2022 | PASS | +-------------------------------+----------------+ Debian GNU/Linux 12 Kernel: 5.15 Compiler: gcc gcc (Debian 12.2.0-14+deb12u1) 12.2.0 Fedora Linux 40 Kernel: 5.15 Compiler: gcc gcc (GCC) 14.2.1 20240912 (Red Hat 14.2.1-3) Fedora Linux 42 Kernel: 5.15 Compiler: clang gcc (GCC) 15.2.1 20250808 (Red Hat 15.2.1-1) Fedora Linux 41 Kernel: 5.15 Compiler: clang gcc (GCC) 14.3.1 20250523 (Red Hat 14.3.1-1) Ubuntu 24.04 Kernel: 5.15 Compiler: gcc gcc (Ubuntu 13.3.0-6ubuntu2~24.04) 13.3.0 CentOS Stream 9 Kernel: 5.15 Compiler: gcc gcc (GCC) 11.5.0 20240719 (Red Hat 11.5.0-11) CentOS Stream 10 Kernel: 5.15 Compiler: gcc gcc (GCC) 14.2.1 20250110 (Red Hat 14.2.1-8) Ubuntu 22.04 Kernel: 5.15 Compiler: gcc gcc (Ubuntu 11.4.0-1ubuntu1~22.04) 11.4.0 Ubuntu 20.04 Kernel: 5.15 Compiler: gcc gcc (Ubuntu 9.4.0-1ubuntu1~20.04.2) 9.4.0 Red Hat Enterprise Linux 8.10 Kernel: 5.15 Compiler: gcc gcc (GCC) 8.5.0 20210514 (Red Hat 8.5.0-22) Red Hat Enterprise Linux 9.5 Kernel: 5.15 Compiler: gcc gcc (GCC) 11.5.0 20240719 (Red Hat 11.5.0-2) Windows Server 2022 Kernel: 10.0.20348.2031 Compiler: clang 15.0.7, gcc 14.1.0 (MinGW), and MSVC VS 19.39.33521 To view detailed results, visit: https://lab.dpdk.org/results/dashboard/tarballs/35028/ UNH-IOL DPDK Community Lab To manage your email subscriptions, visit: https://lab.dpdk.org/results/dashboard/preferences/subscriptions/