automatic DPDK test reports
 help / color / mirror / Atom feed
* |PENDING| [GIT MASTER] c04bbd131b2c14b3049bf86d3ef367b34e6fdf1e
@ 2025-09-27  6:51 dpdklab
  0 siblings, 0 replies; 8+ messages in thread
From: dpdklab @ 2025-09-27  6:51 UTC (permalink / raw)
  To: Test Report; +Cc: dpdk-test-reports

_Testing pending_

Branch: dpdk-next-net

c04bbd131b2c14b3049bf86d3ef367b34e6fdf1e --> testing pending

Upstream job id: Aarch32-Unit-Test#7661

Test environment and result as below:

+------------------------------+----------------+------------------------------+---------------------------+--------------+
|         Environment          | dpdk_unit_test | cryptodev_sw_snow3g_autotest | cryptodev_sw_zuc_autotest | lpm_autotest |
+==============================+================+==============================+===========================+==============+
| CentOS Stream 9              | PEND           | SKIPPED                      | SKIPPED                   | SKIPPED      |
+------------------------------+----------------+------------------------------+---------------------------+--------------+
| Fedora Linux 40              | PEND           | SKIPPED                      | SKIPPED                   | SKIPPED      |
+------------------------------+----------------+------------------------------+---------------------------+--------------+
| Fedora Linux 42              | PEND           | SKIPPED                      | SKIPPED                   | SKIPPED      |
+------------------------------+----------------+------------------------------+---------------------------+--------------+
| Fedora Linux 41              | PEND           | SKIPPED                      | SKIPPED                   | SKIPPED      |
+------------------------------+----------------+------------------------------+---------------------------+--------------+
| CentOS Stream 10             | PEND           | SKIPPED                      | SKIPPED                   | SKIPPED      |
+------------------------------+----------------+------------------------------+---------------------------+--------------+
| Ubuntu 22.04                 | PEND           | SKIPPED                      | SKIPPED                   | SKIPPED      |
+------------------------------+----------------+------------------------------+---------------------------+--------------+
| Ubuntu 24.04                 | PEND           | SKIPPED                      | SKIPPED                   | SKIPPED      |
+------------------------------+----------------+------------------------------+---------------------------+--------------+
| Red Hat Enterprise Linux 9.5 | PEND           | SKIPPED                      | SKIPPED                   | SKIPPED      |
+------------------------------+----------------+------------------------------+---------------------------+--------------+
| Debian GNU/Linux 12          | PEND           | SKIPPED                      | SKIPPED                   | SKIPPED      |
+------------------------------+----------------+------------------------------+---------------------------+--------------+
| Ubuntu 20.04                 | PEND           | SKIPPED                      | SKIPPED                   | PEND         |
+------------------------------+----------------+------------------------------+---------------------------+--------------+
| Debian 12 (arm)              | SKIPPED        | PEND                         | PEND                      | SKIPPED      |
+------------------------------+----------------+------------------------------+---------------------------+--------------+


CentOS Stream 9
	Kernel: 5.4
	Compiler: gcc gcc (GCC) 11.5.0 20240719 (Red Hat 11.5.0-11)

Fedora Linux 40
	Kernel: 5.4
	Compiler: gcc gcc (GCC) 14.2.1 20240912 (Red Hat 14.2.1-3)

Fedora Linux 42
	Kernel: 5.4
	Compiler: gcc gcc (GCC) 15.2.1 20250808 (Red Hat 15.2.1-1)

Fedora Linux 41
	Kernel: 5.4
	Compiler: gcc gcc (GCC) 14.3.1 20250523 (Red Hat 14.3.1-1)

CentOS Stream 10
	Kernel: 5.4
	Compiler: gcc gcc (GCC) 14.2.1 20250110 (Red Hat 14.2.1-8)

Ubuntu 22.04
	Kernel: 5.15
	Compiler: gcc gcc (Ubuntu 11.4.0-1ubuntu1~22.04.2) 11.4.0

Ubuntu 24.04
	Kernel: 5.4
	Compiler: gcc gcc (Ubuntu 13.3.0-6ubuntu2~24.04) 13.3.0

Red Hat Enterprise Linux 9.5
	Kernel: 5.4
	Compiler: gcc gcc (GCC) 11.5.0 20240719 (Red Hat 11.5.0-2)

Debian GNU/Linux 12
	Kernel: 5.4
	Compiler: gcc gcc (Debian 12.2.0-14+deb12u1) 12.2.0

Ubuntu 20.04
	Kernel: 5.4
	Compiler: gcc gcc (Ubuntu 9.4.0-1ubuntu1~20.04.2) 9.4.0

Debian 12 (arm)
	Kernel: Depends on container host
	Compiler: gcc (Debian 12.2.0-14) 12.2.0

To view detailed results, visit:
https://lab.dpdk.org/results/dashboard/tarballs/35029/

UNH-IOL DPDK Community Lab

To manage your email subscriptions, visit: 
https://lab.dpdk.org/results/dashboard/preferences/subscriptions/

^ permalink raw reply	[flat|nested] 8+ messages in thread

* |PENDING| [GIT MASTER] c04bbd131b2c14b3049bf86d3ef367b34e6fdf1e
@ 2025-09-29  6:59 dpdklab
  0 siblings, 0 replies; 8+ messages in thread
From: dpdklab @ 2025-09-29  6:59 UTC (permalink / raw)
  To: Test Report; +Cc: dpdk-test-reports

_Testing pending_

Branch: dpdk-next-net

c04bbd131b2c14b3049bf86d3ef367b34e6fdf1e --> testing pending

Upstream job id: Generic-VM-Unit-Test-DPDK#31456

Test environment and result as below:

+-------------------------------+----------------+
|          Environment          | dpdk_unit_test |
+===============================+================+
| CentOS Stream 9               | PEND           |
+-------------------------------+----------------+
| Debian GNU/Linux 12           | PEND           |
+-------------------------------+----------------+
| Fedora Linux 40               | PEND           |
+-------------------------------+----------------+
| Fedora Linux 41               | PEND           |
+-------------------------------+----------------+
| CentOS Stream 10              | PEND           |
+-------------------------------+----------------+
| Fedora Linux 42               | PEND           |
+-------------------------------+----------------+
| Ubuntu 24.04                  | PEND           |
+-------------------------------+----------------+
| Red Hat Enterprise Linux 9.5  | PEND           |
+-------------------------------+----------------+
| Ubuntu 20.04                  | PEND           |
+-------------------------------+----------------+
| Ubuntu 22.04                  | PEND           |
+-------------------------------+----------------+
| Red Hat Enterprise Linux 8.10 | PEND           |
+-------------------------------+----------------+
| Windows Server 2022           | PASS           |
+-------------------------------+----------------+


CentOS Stream 9
	Kernel: 5.15
	Compiler: gcc gcc (GCC) 11.5.0 20240719 (Red Hat 11.5.0-11)

Debian GNU/Linux 12
	Kernel: 5.15
	Compiler: gcc gcc (Debian 12.2.0-14+deb12u1) 12.2.0

Fedora Linux 40
	Kernel: 5.15
	Compiler: clang gcc (GCC) 14.2.1 20240912 (Red Hat 14.2.1-3)

Fedora Linux 41
	Kernel: 5.15
	Compiler: gcc gcc (GCC) 14.3.1 20250523 (Red Hat 14.3.1-1)

CentOS Stream 10
	Kernel: 5.15
	Compiler: gcc gcc (GCC) 14.2.1 20250110 (Red Hat 14.2.1-8)

Fedora Linux 42
	Kernel: 5.15
	Compiler: gcc gcc (GCC) 15.2.1 20250808 (Red Hat 15.2.1-1)

Ubuntu 24.04
	Kernel: 5.15
	Compiler: gcc gcc (Ubuntu 13.3.0-6ubuntu2~24.04) 13.3.0

Red Hat Enterprise Linux 9.5
	Kernel: 5.15
	Compiler: gcc gcc (GCC) 11.5.0 20240719 (Red Hat 11.5.0-2)

Ubuntu 20.04
	Kernel: 5.15
	Compiler: gcc gcc (Ubuntu 9.4.0-1ubuntu1~20.04.2) 9.4.0

Ubuntu 22.04
	Kernel: 5.15
	Compiler: gcc gcc (Ubuntu 11.4.0-1ubuntu1~22.04) 11.4.0

Red Hat Enterprise Linux 8.10
	Kernel: 5.15
	Compiler: gcc gcc (GCC) 8.5.0 20210514 (Red Hat 8.5.0-22)

Windows Server 2022
	Kernel: 10.0.20348.2031
	Compiler: clang 15.0.7, gcc 14.1.0 (MinGW), and MSVC VS 19.39.33521

To view detailed results, visit:
https://lab.dpdk.org/results/dashboard/tarballs/35041/

UNH-IOL DPDK Community Lab

To manage your email subscriptions, visit: 
https://lab.dpdk.org/results/dashboard/preferences/subscriptions/

^ permalink raw reply	[flat|nested] 8+ messages in thread

* |PENDING| [GIT MASTER] c04bbd131b2c14b3049bf86d3ef367b34e6fdf1e
@ 2025-09-29  6:49 dpdklab
  0 siblings, 0 replies; 8+ messages in thread
From: dpdklab @ 2025-09-29  6:49 UTC (permalink / raw)
  To: Test Report; +Cc: dpdk-test-reports

_Testing pending_

Branch: dpdk-next-net

c04bbd131b2c14b3049bf86d3ef367b34e6fdf1e --> testing pending

Upstream job id: Aarch32-Unit-Test#7673

Test environment and result as below:

+------------------------------+----------------+---------------------------+--------------+------------------------------+
|         Environment          | dpdk_unit_test | cryptodev_sw_zuc_autotest | lpm_autotest | cryptodev_sw_snow3g_autotest |
+==============================+================+===========================+==============+==============================+
| Fedora Linux 40              | PEND           | SKIPPED                   | SKIPPED      | SKIPPED                      |
+------------------------------+----------------+---------------------------+--------------+------------------------------+
| Fedora Linux 42              | PEND           | SKIPPED                   | SKIPPED      | SKIPPED                      |
+------------------------------+----------------+---------------------------+--------------+------------------------------+
| CentOS Stream 9              | PEND           | SKIPPED                   | SKIPPED      | SKIPPED                      |
+------------------------------+----------------+---------------------------+--------------+------------------------------+
| CentOS Stream 10             | PEND           | SKIPPED                   | SKIPPED      | SKIPPED                      |
+------------------------------+----------------+---------------------------+--------------+------------------------------+
| Debian GNU/Linux 12          | PEND           | SKIPPED                   | SKIPPED      | SKIPPED                      |
+------------------------------+----------------+---------------------------+--------------+------------------------------+
| Fedora Linux 41              | PEND           | SKIPPED                   | SKIPPED      | SKIPPED                      |
+------------------------------+----------------+---------------------------+--------------+------------------------------+
| Ubuntu 24.04                 | PEND           | SKIPPED                   | SKIPPED      | SKIPPED                      |
+------------------------------+----------------+---------------------------+--------------+------------------------------+
| Ubuntu 20.04                 | PEND           | SKIPPED                   | PEND         | SKIPPED                      |
+------------------------------+----------------+---------------------------+--------------+------------------------------+
| Red Hat Enterprise Linux 9.5 | PEND           | SKIPPED                   | SKIPPED      | SKIPPED                      |
+------------------------------+----------------+---------------------------+--------------+------------------------------+
| Ubuntu 22.04                 | PASS           | SKIPPED                   | SKIPPED      | SKIPPED                      |
+------------------------------+----------------+---------------------------+--------------+------------------------------+
| Debian 12 (arm)              | SKIPPED        | PEND                      | SKIPPED      | PEND                         |
+------------------------------+----------------+---------------------------+--------------+------------------------------+


Fedora Linux 40
	Kernel: 5.4
	Compiler: gcc gcc (GCC) 14.2.1 20240912 (Red Hat 14.2.1-3)

Fedora Linux 42
	Kernel: 5.4
	Compiler: clang gcc (GCC) 15.2.1 20250808 (Red Hat 15.2.1-1)

CentOS Stream 9
	Kernel: 5.4
	Compiler: gcc gcc (GCC) 11.5.0 20240719 (Red Hat 11.5.0-11)

CentOS Stream 10
	Kernel: 5.4
	Compiler: gcc gcc (GCC) 14.2.1 20250110 (Red Hat 14.2.1-8)

Debian GNU/Linux 12
	Kernel: 5.4
	Compiler: gcc gcc (Debian 12.2.0-14+deb12u1) 12.2.0

Fedora Linux 41
	Kernel: 5.4
	Compiler: clang gcc (GCC) 14.3.1 20250523 (Red Hat 14.3.1-1)

Ubuntu 24.04
	Kernel: 5.4
	Compiler: gcc gcc (Ubuntu 13.3.0-6ubuntu2~24.04) 13.3.0

Ubuntu 20.04
	Kernel: 5.4
	Compiler: gcc gcc (Ubuntu 9.4.0-1ubuntu1~20.04.2) 9.4.0

Red Hat Enterprise Linux 9.5
	Kernel: 5.4
	Compiler: gcc gcc (GCC) 11.5.0 20240719 (Red Hat 11.5.0-2)

Ubuntu 22.04
	Kernel: 5.4
	Compiler: gcc gcc (Ubuntu 11.4.0-1ubuntu1~22.04) 11.4.0

Debian 12 (arm)
	Kernel: Depends on container host
	Compiler: gcc (Debian 12.2.0-14) 12.2.0

To view detailed results, visit:
https://lab.dpdk.org/results/dashboard/tarballs/35041/

UNH-IOL DPDK Community Lab

To manage your email subscriptions, visit: 
https://lab.dpdk.org/results/dashboard/preferences/subscriptions/

^ permalink raw reply	[flat|nested] 8+ messages in thread

* |PENDING| [GIT MASTER] c04bbd131b2c14b3049bf86d3ef367b34e6fdf1e
@ 2025-09-29  6:29 dpdklab
  0 siblings, 0 replies; 8+ messages in thread
From: dpdklab @ 2025-09-29  6:29 UTC (permalink / raw)
  To: Test Report; +Cc: dpdk-test-reports

_Testing pending_

Branch: dpdk-next-net

c04bbd131b2c14b3049bf86d3ef367b34e6fdf1e --> testing pending

Upstream job id: Generic-DPDK-Compile-Meson#429587

Test environment and result as below:

+------------------------------+--------------------+
|         Environment          | dpdk_meson_compile |
+==============================+====================+
| Ubuntu 20.04                 | PEND               |
+------------------------------+--------------------+
| Red Hat Enterprise Linux 9.5 | PEND               |
+------------------------------+--------------------+
| Debian GNU/Linux 12          | PEND               |
+------------------------------+--------------------+
| Fedora Linux 42              | PEND               |
+------------------------------+--------------------+
| Ubuntu 22.04                 | PEND               |
+------------------------------+--------------------+
| Ubuntu 24.04                 | PEND               |
+------------------------------+--------------------+
| CentOS Stream 9              | PEND               |
+------------------------------+--------------------+
| CentOS Stream 10             | PEND               |
+------------------------------+--------------------+


Ubuntu 20.04
	Kernel: 5.15
	Compiler: aarch64-linux-gnu-gcc gcc (Ubuntu 9.4.0-1ubuntu1~20.04.2) 9.4.0

Red Hat Enterprise Linux 9.5
	Kernel: 5.4
	Compiler: gcc gcc (GCC) 11.5.0 20240719 (Red Hat 11.5.0-2)

Debian GNU/Linux 12
	Kernel: 5.4
	Compiler: gcc gcc (Debian 12.2.0-14+deb12u1) 12.2.0

Fedora Linux 42
	Kernel: 5.4
	Compiler: gcc gcc (GCC) 15.2.1 20250808 (Red Hat 15.2.1-1)

Ubuntu 22.04
	Kernel: 5.4
	Compiler: gcc gcc (Ubuntu 11.4.0-1ubuntu1~22.04) 11.4.0

Ubuntu 24.04
	Kernel: 5.4
	Compiler: gcc gcc (Ubuntu 13.3.0-6ubuntu2~24.04) 13.3.0

CentOS Stream 9
	Kernel: 5.4
	Compiler: gcc gcc (GCC) 11.5.0 20240719 (Red Hat 11.5.0-11)

CentOS Stream 10
	Kernel: 5.4
	Compiler: gcc gcc (GCC) 14.2.1 20250110 (Red Hat 14.2.1-8)

To view detailed results, visit:
https://lab.dpdk.org/results/dashboard/tarballs/35041/

UNH-IOL DPDK Community Lab

To manage your email subscriptions, visit: 
https://lab.dpdk.org/results/dashboard/preferences/subscriptions/

^ permalink raw reply	[flat|nested] 8+ messages in thread

* |PENDING| [GIT MASTER] c04bbd131b2c14b3049bf86d3ef367b34e6fdf1e
@ 2025-09-29  6:29 dpdklab
  0 siblings, 0 replies; 8+ messages in thread
From: dpdklab @ 2025-09-29  6:29 UTC (permalink / raw)
  To: Test Report; +Cc: dpdk-test-reports

_Testing pending_

Branch: dpdk-next-net

c04bbd131b2c14b3049bf86d3ef367b34e6fdf1e --> testing pending

Upstream job id: Generic-VM-DPDK-Compile-Meson#38652

Test environment and result as below:

+-------------------------------+--------------------+-------------------+------------------+-------------------------+-------------------+
|          Environment          | dpdk_meson_compile | dpdk_compile_spdk | dpdk_compile_ovs | dpdk_llvm_clang_compile | dpdk_msvc_compile |
+===============================+====================+===================+==================+=========================+===================+
| CentOS Stream 9               | PEND               | PEND              | SKIPPED          | SKIPPED                 | SKIPPED           |
+-------------------------------+--------------------+-------------------+------------------+-------------------------+-------------------+
| CentOS Stream 10              | PEND               | SKIPPED           | SKIPPED          | SKIPPED                 | SKIPPED           |
+-------------------------------+--------------------+-------------------+------------------+-------------------------+-------------------+
| Debian GNU/Linux 12           | PEND               | PEND              | SKIPPED          | SKIPPED                 | SKIPPED           |
+-------------------------------+--------------------+-------------------+------------------+-------------------------+-------------------+
| Fedora Linux 42               | PEND               | PEND              | PEND             | SKIPPED                 | SKIPPED           |
+-------------------------------+--------------------+-------------------+------------------+-------------------------+-------------------+
| openSUSE Leap 15.6            | PEND               | SKIPPED           | SKIPPED          | SKIPPED                 | SKIPPED           |
+-------------------------------+--------------------+-------------------+------------------+-------------------------+-------------------+
| Red Hat Enterprise Linux 8.10 | PEND               | SKIPPED           | SKIPPED          | SKIPPED                 | SKIPPED           |
+-------------------------------+--------------------+-------------------+------------------+-------------------------+-------------------+
| Red Hat Enterprise Linux 9.5  | PEND               | SKIPPED           | SKIPPED          | SKIPPED                 | SKIPPED           |
+-------------------------------+--------------------+-------------------+------------------+-------------------------+-------------------+
| Ubuntu 20.04                  | PASS               | SKIPPED           | SKIPPED          | SKIPPED                 | SKIPPED           |
+-------------------------------+--------------------+-------------------+------------------+-------------------------+-------------------+
| Ubuntu 22.04                  | PEND               | PEND              | SKIPPED          | SKIPPED                 | SKIPPED           |
+-------------------------------+--------------------+-------------------+------------------+-------------------------+-------------------+
| Ubuntu 24.04                  | PEND               | PEND              | PEND             | SKIPPED                 | SKIPPED           |
+-------------------------------+--------------------+-------------------+------------------+-------------------------+-------------------+
| FreeBSD 14.2                  | PEND               | SKIPPED           | SKIPPED          | SKIPPED                 | SKIPPED           |
+-------------------------------+--------------------+-------------------+------------------+-------------------------+-------------------+
| Alpine Linux 3.22.0           | PEND               | SKIPPED           | SKIPPED          | SKIPPED                 | SKIPPED           |
+-------------------------------+--------------------+-------------------+------------------+-------------------------+-------------------+
| Windows Server 2022           | SKIPPED            | SKIPPED           | SKIPPED          | PEND                    | PEND              |
+-------------------------------+--------------------+-------------------+------------------+-------------------------+-------------------+


CentOS Stream 9
	Kernel: 5.15
	Compiler: gcc gcc (GCC) 11.5.0 20240719 (Red Hat 11.5.0-11)

CentOS Stream 10
	Kernel: 5.15
	Compiler: gcc gcc (GCC) 14.2.1 20250110 (Red Hat 14.2.1-8)

Debian GNU/Linux 12
	Kernel: 5.15
	Compiler: gcc gcc (Debian 12.2.0-14+deb12u1) 12.2.0

Fedora Linux 42
	Kernel: 5.15
	Compiler: clang gcc (GCC) 15.2.1 20250808 (Red Hat 15.2.1-1)

openSUSE Leap 15.6
	Kernel: 5.15
	Compiler: gcc gcc (SUSE Linux) 7.5.0

Red Hat Enterprise Linux 8.10
	Kernel: 5.15
	Compiler: gcc gcc (GCC) 8.5.0 20210514 (Red Hat 8.5.0-22)

Red Hat Enterprise Linux 9.5
	Kernel: 5.15
	Compiler: gcc gcc (GCC) 11.5.0 20240719 (Red Hat 11.5.0-2)

Ubuntu 20.04
	Kernel: 5.15
	Compiler: gcc gcc (Ubuntu 9.4.0-1ubuntu1~20.04.2) 9.4.0

Ubuntu 22.04
	Kernel: 5.15
	Compiler: gcc gcc (Ubuntu 11.4.0-1ubuntu1~22.04) 11.4.0

Ubuntu 24.04
	Kernel: 5.15
	Compiler: gcc gcc (Ubuntu 13.3.0-6ubuntu2~24.04) 13.3.0

FreeBSD 14.2
	Kernel: 14.2-RELEASE
	Compiler: clang 18.1.6

Alpine Linux 3.22.0
	Kernel: 5.15
	Compiler: gcc gcc (Alpine 14.2.0) 14.2.0

Windows Server 2022
	Kernel: 10.0.20348.2031
	Compiler: clang 15.0.7, gcc 14.1.0 (MinGW), and MSVC VS 19.39.33521

To view detailed results, visit:
https://lab.dpdk.org/results/dashboard/tarballs/35041/

UNH-IOL DPDK Community Lab

To manage your email subscriptions, visit: 
https://lab.dpdk.org/results/dashboard/preferences/subscriptions/

^ permalink raw reply	[flat|nested] 8+ messages in thread

* |PENDING| [GIT MASTER] c04bbd131b2c14b3049bf86d3ef367b34e6fdf1e
@ 2025-09-27  6:39 dpdklab
  0 siblings, 0 replies; 8+ messages in thread
From: dpdklab @ 2025-09-27  6:39 UTC (permalink / raw)
  To: Test Report; +Cc: dpdk-test-reports

_Testing pending_

Branch: dpdk-next-net

c04bbd131b2c14b3049bf86d3ef367b34e6fdf1e --> testing pending

Upstream job id: Template-DTS-Pipeline#246752

Test environment and result as below:

+--------------+----------------------+----------------------+
| Environment  | dpdk_fips_validation | compressdev_zlib_pmd |
+==============+======================+======================+
| Ubuntu 20.04 | PEND                 | SKIPPED              |
+--------------+----------------------+----------------------+
| Ubuntu 22.04 | SKIPPED              | PASS                 |
+--------------+----------------------+----------------------+


Ubuntu 20.04
	Kernel: 5.15
	Compiler: gcc gcc (Ubuntu 9.4.0-1ubuntu1~20.04.2) 9.4.0

Ubuntu 22.04
	Kernel: 5.15
	Compiler: gcc gcc (Ubuntu 11.4.0-1ubuntu1~22.04.2) 11.4.0

To view detailed results, visit:
https://lab.dpdk.org/results/dashboard/tarballs/35029/

UNH-IOL DPDK Community Lab

To manage your email subscriptions, visit: 
https://lab.dpdk.org/results/dashboard/preferences/subscriptions/

^ permalink raw reply	[flat|nested] 8+ messages in thread

* |PENDING| [GIT MASTER] c04bbd131b2c14b3049bf86d3ef367b34e6fdf1e
@ 2025-09-27  6:33 dpdklab
  0 siblings, 0 replies; 8+ messages in thread
From: dpdklab @ 2025-09-27  6:33 UTC (permalink / raw)
  To: Test Report; +Cc: dpdk-test-reports

_Testing pending_

Branch: dpdk-next-net

c04bbd131b2c14b3049bf86d3ef367b34e6fdf1e --> testing pending

Upstream job id: Generic-Unit-Test-DPDK#375780

Test environment and result as below:

+-------------------------------+----------------+
|          Environment          | dpdk_unit_test |
+===============================+================+
| Fedora Linux 42               | PEND           |
+-------------------------------+----------------+
| Fedora Linux 41               | PEND           |
+-------------------------------+----------------+
| Fedora Linux 40               | PEND           |
+-------------------------------+----------------+
| Debian GNU/Linux 12           | PEND           |
+-------------------------------+----------------+
| Red Hat Enterprise Linux 8.10 | PEND           |
+-------------------------------+----------------+
| Red Hat Enterprise Linux 9.5  | PEND           |
+-------------------------------+----------------+
| Windows Server 2022           | PEND           |
+-------------------------------+----------------+
| Ubuntu 24.04                  | PEND           |
+-------------------------------+----------------+
| Ubuntu 20.04                  | PEND           |
+-------------------------------+----------------+
| CentOS Stream 9               | PEND           |
+-------------------------------+----------------+
| Ubuntu 22.04                  | PEND           |
+-------------------------------+----------------+
| CentOS Stream 10              | PEND           |
+-------------------------------+----------------+


Fedora Linux 42
	Kernel: 5.15
	Compiler: gcc gcc (GCC) 15.2.1 20250808 (Red Hat 15.2.1-1)

Fedora Linux 41
	Kernel: 5.15
	Compiler: clang gcc (GCC) 14.3.1 20250523 (Red Hat 14.3.1-1)

Fedora Linux 40
	Kernel: 5.15
	Compiler: clang gcc (GCC) 14.2.1 20240912 (Red Hat 14.2.1-3)

Debian GNU/Linux 12
	Kernel: 5.15
	Compiler: gcc gcc (Debian 12.2.0-14+deb12u1) 12.2.0

Red Hat Enterprise Linux 8.10
	Kernel: 5.15
	Compiler: gcc gcc (GCC) 8.5.0 20210514 (Red Hat 8.5.0-22)

Red Hat Enterprise Linux 9.5
	Kernel: 5.15
	Compiler: gcc gcc (GCC) 11.5.0 20240719 (Red Hat 11.5.0-2)

Windows Server 2022
	Kernel: 10.0.20348.2031
	Compiler: clang 15.0.7, gcc 14.1.0 (MinGW), and MSVC VS 19.39.33521

Ubuntu 24.04
	Kernel: 5.15
	Compiler: gcc gcc (Ubuntu 13.3.0-6ubuntu2~24.04) 13.3.0

Ubuntu 20.04
	Kernel: 5.15
	Compiler: gcc gcc (Ubuntu 9.4.0-1ubuntu1~20.04.2) 9.4.0

CentOS Stream 9
	Kernel: 5.15
	Compiler: gcc gcc (GCC) 11.5.0 20240719 (Red Hat 11.5.0-11)

Ubuntu 22.04
	Kernel: 5.15
	Compiler: gcc gcc (Ubuntu 11.4.0-1ubuntu1~22.04) 11.4.0

CentOS Stream 10
	Kernel: 5.15
	Compiler: gcc gcc (GCC) 14.2.1 20250110 (Red Hat 14.2.1-8)

To view detailed results, visit:
https://lab.dpdk.org/results/dashboard/tarballs/35029/

UNH-IOL DPDK Community Lab

To manage your email subscriptions, visit: 
https://lab.dpdk.org/results/dashboard/preferences/subscriptions/

^ permalink raw reply	[flat|nested] 8+ messages in thread

* |PENDING| [GIT MASTER] c04bbd131b2c14b3049bf86d3ef367b34e6fdf1e
@ 2025-09-27  6:28 dpdklab
  0 siblings, 0 replies; 8+ messages in thread
From: dpdklab @ 2025-09-27  6:28 UTC (permalink / raw)
  To: Test Report; +Cc: dpdk-test-reports

_Testing pending_

Branch: dpdk-next-net

c04bbd131b2c14b3049bf86d3ef367b34e6fdf1e --> testing pending

Upstream job id: Generic-VM-DPDK-Compile-Meson#38628

Test environment and result as below:

+-------------------------------+--------------------+-------------------+------------------+-------------------------+-------------------+
|          Environment          | dpdk_meson_compile | dpdk_compile_spdk | dpdk_compile_ovs | dpdk_llvm_clang_compile | dpdk_msvc_compile |
+===============================+====================+===================+==================+=========================+===================+
| CentOS Stream 9               | PEND               | PEND              | SKIPPED          | SKIPPED                 | SKIPPED           |
+-------------------------------+--------------------+-------------------+------------------+-------------------------+-------------------+
| Fedora Linux 42               | PEND               | PEND              | PEND             | SKIPPED                 | SKIPPED           |
+-------------------------------+--------------------+-------------------+------------------+-------------------------+-------------------+
| Debian GNU/Linux 12           | PEND               | PEND              | SKIPPED          | SKIPPED                 | SKIPPED           |
+-------------------------------+--------------------+-------------------+------------------+-------------------------+-------------------+
| FreeBSD 14.2                  | PEND               | SKIPPED           | SKIPPED          | SKIPPED                 | SKIPPED           |
+-------------------------------+--------------------+-------------------+------------------+-------------------------+-------------------+
| Red Hat Enterprise Linux 8.10 | PEND               | SKIPPED           | SKIPPED          | SKIPPED                 | SKIPPED           |
+-------------------------------+--------------------+-------------------+------------------+-------------------------+-------------------+
| CentOS Stream 10              | PEND               | SKIPPED           | SKIPPED          | SKIPPED                 | SKIPPED           |
+-------------------------------+--------------------+-------------------+------------------+-------------------------+-------------------+
| Ubuntu 22.04                  | PEND               | PEND              | SKIPPED          | SKIPPED                 | SKIPPED           |
+-------------------------------+--------------------+-------------------+------------------+-------------------------+-------------------+
| Red Hat Enterprise Linux 9.5  | PEND               | SKIPPED           | SKIPPED          | SKIPPED                 | SKIPPED           |
+-------------------------------+--------------------+-------------------+------------------+-------------------------+-------------------+
| openSUSE Leap 15.6            | PEND               | SKIPPED           | SKIPPED          | SKIPPED                 | SKIPPED           |
+-------------------------------+--------------------+-------------------+------------------+-------------------------+-------------------+
| Ubuntu 20.04                  | PASS               | SKIPPED           | SKIPPED          | SKIPPED                 | SKIPPED           |
+-------------------------------+--------------------+-------------------+------------------+-------------------------+-------------------+
| Ubuntu 24.04                  | PEND               | PEND              | PEND             | SKIPPED                 | SKIPPED           |
+-------------------------------+--------------------+-------------------+------------------+-------------------------+-------------------+
| Alpine Linux 3.22.0           | PEND               | SKIPPED           | SKIPPED          | SKIPPED                 | SKIPPED           |
+-------------------------------+--------------------+-------------------+------------------+-------------------------+-------------------+
| Windows Server 2022           | SKIPPED            | SKIPPED           | SKIPPED          | PEND                    | PEND              |
+-------------------------------+--------------------+-------------------+------------------+-------------------------+-------------------+


CentOS Stream 9
	Kernel: 5.15
	Compiler: gcc gcc (GCC) 11.5.0 20240719 (Red Hat 11.5.0-11)

Fedora Linux 42
	Kernel: 5.15
	Compiler: gcc gcc (GCC) 15.2.1 20250808 (Red Hat 15.2.1-1)

Debian GNU/Linux 12
	Kernel: 5.15
	Compiler: gcc gcc (Debian 12.2.0-14+deb12u1) 12.2.0

FreeBSD 14.2
	Kernel: 14.2-RELEASE
	Compiler: clang 18.1.6

Red Hat Enterprise Linux 8.10
	Kernel: 5.15
	Compiler: gcc gcc (GCC) 8.5.0 20210514 (Red Hat 8.5.0-22)

CentOS Stream 10
	Kernel: 5.15
	Compiler: gcc gcc (GCC) 14.2.1 20250110 (Red Hat 14.2.1-8)

Ubuntu 22.04
	Kernel: 5.15
	Compiler: gcc gcc (Ubuntu 11.4.0-1ubuntu1~22.04) 11.4.0

Red Hat Enterprise Linux 9.5
	Kernel: 5.15
	Compiler: gcc gcc (GCC) 11.5.0 20240719 (Red Hat 11.5.0-2)

openSUSE Leap 15.6
	Kernel: 5.15
	Compiler: gcc gcc (SUSE Linux) 7.5.0

Ubuntu 20.04
	Kernel: 5.15
	Compiler: gcc gcc (Ubuntu 9.4.0-1ubuntu1~20.04.2) 9.4.0

Ubuntu 24.04
	Kernel: 5.15
	Compiler: gcc gcc (Ubuntu 13.3.0-6ubuntu2~24.04) 13.3.0

Alpine Linux 3.22.0
	Kernel: 5.15
	Compiler: gcc gcc (Alpine 14.2.0) 14.2.0

Windows Server 2022
	Kernel: 10.0.20348.2031
	Compiler: clang 15.0.7, gcc 14.1.0 (MinGW), and MSVC VS 19.39.33521

To view detailed results, visit:
https://lab.dpdk.org/results/dashboard/tarballs/35029/

UNH-IOL DPDK Community Lab

To manage your email subscriptions, visit: 
https://lab.dpdk.org/results/dashboard/preferences/subscriptions/

^ permalink raw reply	[flat|nested] 8+ messages in thread

end of thread, other threads:[~2025-09-29  6:59 UTC | newest]

Thread overview: 8+ messages (download: mbox.gz / follow: Atom feed)
-- links below jump to the message on this page --
2025-09-27  6:51 |PENDING| [GIT MASTER] c04bbd131b2c14b3049bf86d3ef367b34e6fdf1e dpdklab
  -- strict thread matches above, loose matches on Subject: below --
2025-09-29  6:59 dpdklab
2025-09-29  6:49 dpdklab
2025-09-29  6:29 dpdklab
2025-09-29  6:29 dpdklab
2025-09-27  6:39 dpdklab
2025-09-27  6:33 dpdklab
2025-09-27  6:28 dpdklab

This is a public inbox, see mirroring instructions
for how to clone and mirror all data and code used for this inbox;
as well as URLs for NNTP newsgroup(s).