From mboxrd@z Thu Jan 1 00:00:00 1970 Return-Path: Received: from mails.dpdk.org (mails.dpdk.org [217.70.189.124]) by inbox.dpdk.org (Postfix) with ESMTP id 99E4A46F99 for ; Sat, 27 Sep 2025 09:05:04 +0200 (CEST) Received: from mails.dpdk.org (localhost [127.0.0.1]) by mails.dpdk.org (Postfix) with ESMTP id 7D89B400D6; Sat, 27 Sep 2025 09:05:04 +0200 (CEST) Received: from mail-yw1-f228.google.com (mail-yw1-f228.google.com [209.85.128.228]) by mails.dpdk.org (Postfix) with ESMTP id 102A4400D6 for ; Sat, 27 Sep 2025 09:05:03 +0200 (CEST) Received: by mail-yw1-f228.google.com with SMTP id 00721157ae682-71d60157747so30517007b3.0 for ; Sat, 27 Sep 2025 00:05:02 -0700 (PDT) DKIM-Signature: v=1; a=rsa-sha256; c=relaxed/relaxed; d=iol.unh.edu; s=unh-iol; t=1758956702; x=1759561502; darn=dpdk.org; h=cc:to:from:subject:message-id:date:from:to:cc:subject:date :message-id:reply-to; bh=2GkF2FQ30z3Laz2CNoVEBbMOOLty6O5f8gheyk31GNw=; b=cdPzTp6W8+F3Il3QPWy7BkA0iYi3dlw3DNC/tB6uIEoO9W7Tz0TLuZDlKUhaHFbG3M ZhyN5Nv/HmQkCA24LcX+pYh/IUhWE1p4rRd59N/aTbJdt6KRk6GZehq09kASLvA5Irc7 h209ZWJb7PXgTu8G7L9Lrizog8YAkpR5LG3Bg= X-Google-DKIM-Signature: v=1; a=rsa-sha256; c=relaxed/relaxed; d=1e100.net; s=20230601; t=1758956702; x=1759561502; h=cc:to:from:subject:message-id:date:x-gm-message-state:from:to:cc :subject:date:message-id:reply-to; bh=2GkF2FQ30z3Laz2CNoVEBbMOOLty6O5f8gheyk31GNw=; b=Sl4fBoiw7YLb2Oezy2vfKthQNrBrk/KfSF8lK2l1+ZuzKJQR0aAb1PFANTGXG0Tx1A 7AqIz01CuMyIP9SwPF2GPe8zTCl0qbMbw6SzMHbn0Edjyj/UCbqkzbO+2AV4apiaN4XK H7bTHgdIAqGxbYoNDuKPMMFVlb84/sUfmCpk18JoQjaQQqLi0xNJFcZi2Eny/Pzp3OuO rZeDy5bjtqi9SB+/btfHDAezPyqjGKc+BaabCkcRdyh7cmoc4PAiU2k/zq8U5w7VTa+W Lb8k7zZFHmn7tGOE+spGe/1SL4VRmBM+u0inChEDCzllCwdqrFgJmxVUF+9QIn0oZNtW 5/Lg== X-Gm-Message-State: AOJu0Yx9+34Koz4158K3YZOzrZCGYH3in3SG7Cp3n7W4BW54CKbLeqvI npcTJPCanoQFm4lTSUk6KCyNHTeFYoEugNcD2GCV2hhgNOv3o9njycQ6G0VL8fgSgEZQ22YbUd+ HWv8mH9NX8IlS1JlZOkr4n+r+YNvMYxmVgjeZfZILxFzkZ0dOoVpQo63xBeA/ X-Gm-Gg: ASbGncvgDynB6TBqCYX5kRCxOld7NATskUnjaJ6AqOx40CMqQChmDnuiW4lz1rMVqHn RHuxyFEeg8clFzC9mQ9puotRTXgKva+vkWffRNqSUhOucsAzxKX5VoeLH2VU/WMDsN0IHKYMdoh kybivLlpNfYydib/5WK0LzSLTJeJHur0f6MPvsiw0UitT9gTB+JyhTMXA2EaBVmUDYJ31S00cqi aMGqOSpwbJqFsTfGSHQeUNzO2wul9RgqreVo6B2zj8UDLexlv/UKw+INq+C3ECqlQmrs9XWrDLR Ve6nAmhc2ywjmVn6JyXS4ik6pJpcoe+XgQ6cp7UVEcwU2R87XA== X-Google-Smtp-Source: AGHT+IEqNZms2W6ABwiVM8T32tWpd7lzKgKRIpacEqlvirWmApLIdEjIzaZyBJm7AoQ4yhS7WDgRbf5H/A2s X-Received: by 2002:a05:690c:b95:b0:76d:ab08:76ed with SMTP id 00721157ae682-76dab08fa93mr56025617b3.28.1758956702252; Sat, 27 Sep 2025 00:05:02 -0700 (PDT) Received: from postal.iol.unh.edu (postal.iol.unh.edu. [2606:4100:3880:1234::84]) by smtp-relay.gmail.com with ESMTPS id 00721157ae682-765cf0f7308sm3289557b3.16.2025.09.27.00.05.02 (version=TLS1_2 cipher=ECDHE-ECDSA-AES128-GCM-SHA256 bits=128/128); Sat, 27 Sep 2025 00:05:02 -0700 (PDT) X-Relaying-Domain: iol.unh.edu Date: Sat, 27 Sep 2025 00:05:02 -0700 (PDT) Message-ID: <68d78c9e.810a0220.caa81.3978SMTPIN_ADDED_MISSING@mx.google.com> Received: from [172.21.0.2] (unknown [172.18.0.240]) by postal.iol.unh.edu (Postfix) with ESMTP id DAFD46050A61; Sat, 27 Sep 2025 03:05:01 -0400 (EDT) Subject: |SUCCESS| [GIT MASTER] c04bbd131b2c14b3049bf86d3ef367b34e6fdf1e From: dpdklab@iol.unh.edu To: Test Report Cc: dpdk-test-reports@iol.unh.edu, Stephen Hemminger Content-Type: text/plain X-BeenThere: test-report@dpdk.org X-Mailman-Version: 2.1.29 Precedence: list List-Id: automatic DPDK test reports List-Unsubscribe: , List-Archive: List-Post: List-Help: List-Subscribe: , Errors-To: test-report-bounces@dpdk.org _Testing PASS_ Branch: dpdk-next-net c04bbd131b2c14b3049bf86d3ef367b34e6fdf1e --> testing pass Upstream job id: Generic-VM-Unit-Test-DPDK#31433 Test environment and result as below: +-------------------------------+----------------+ | Environment | dpdk_unit_test | +===============================+================+ | Fedora Linux 42 | PASS | +-------------------------------+----------------+ | Fedora Linux 41 | PASS | +-------------------------------+----------------+ | Fedora Linux 40 | PASS | +-------------------------------+----------------+ | Debian GNU/Linux 12 | PASS | +-------------------------------+----------------+ | Red Hat Enterprise Linux 8.10 | PASS | +-------------------------------+----------------+ | Red Hat Enterprise Linux 9.5 | PASS | +-------------------------------+----------------+ | Windows Server 2022 | PASS | +-------------------------------+----------------+ | Ubuntu 24.04 | PASS | +-------------------------------+----------------+ | Ubuntu 20.04 | PASS | +-------------------------------+----------------+ | CentOS Stream 9 | PASS | +-------------------------------+----------------+ | Ubuntu 22.04 | PASS | +-------------------------------+----------------+ | CentOS Stream 10 | PASS | +-------------------------------+----------------+ Fedora Linux 42 Kernel: 5.15 Compiler: gcc gcc (GCC) 15.2.1 20250808 (Red Hat 15.2.1-1) Fedora Linux 41 Kernel: 5.15 Compiler: clang gcc (GCC) 14.3.1 20250523 (Red Hat 14.3.1-1) Fedora Linux 40 Kernel: 5.15 Compiler: clang gcc (GCC) 14.2.1 20240912 (Red Hat 14.2.1-3) Debian GNU/Linux 12 Kernel: 5.15 Compiler: gcc gcc (Debian 12.2.0-14+deb12u1) 12.2.0 Red Hat Enterprise Linux 8.10 Kernel: 5.15 Compiler: gcc gcc (GCC) 8.5.0 20210514 (Red Hat 8.5.0-22) Red Hat Enterprise Linux 9.5 Kernel: 5.15 Compiler: gcc gcc (GCC) 11.5.0 20240719 (Red Hat 11.5.0-2) Windows Server 2022 Kernel: 10.0.20348.2031 Compiler: clang 15.0.7, gcc 14.1.0 (MinGW), and MSVC VS 19.39.33521 Ubuntu 24.04 Kernel: 5.15 Compiler: gcc gcc (Ubuntu 13.3.0-6ubuntu2~24.04) 13.3.0 Ubuntu 20.04 Kernel: 5.15 Compiler: gcc gcc (Ubuntu 9.4.0-1ubuntu1~20.04.2) 9.4.0 CentOS Stream 9 Kernel: 5.15 Compiler: gcc gcc (GCC) 11.5.0 20240719 (Red Hat 11.5.0-11) Ubuntu 22.04 Kernel: 5.15 Compiler: gcc gcc (Ubuntu 11.4.0-1ubuntu1~22.04) 11.4.0 CentOS Stream 10 Kernel: 5.15 Compiler: gcc gcc (GCC) 14.2.1 20250110 (Red Hat 14.2.1-8) To view detailed results, visit: https://lab.dpdk.org/results/dashboard/tarballs/35029/ UNH-IOL DPDK Community Lab To manage your email subscriptions, visit: https://lab.dpdk.org/results/dashboard/preferences/subscriptions/