From mboxrd@z Thu Jan 1 00:00:00 1970 Return-Path: Received: from mails.dpdk.org (mails.dpdk.org [217.70.189.124]) by inbox.dpdk.org (Postfix) with ESMTP id 17BAE46F99 for ; Sat, 27 Sep 2025 09:10:10 +0200 (CEST) Received: from mails.dpdk.org (localhost [127.0.0.1]) by mails.dpdk.org (Postfix) with ESMTP id EBE1C400D6; Sat, 27 Sep 2025 09:10:09 +0200 (CEST) Received: from mail-il1-f228.google.com (mail-il1-f228.google.com [209.85.166.228]) by mails.dpdk.org (Postfix) with ESMTP id 7FD56400D6 for ; Sat, 27 Sep 2025 09:10:09 +0200 (CEST) Received: by mail-il1-f228.google.com with SMTP id e9e14a558f8ab-42594fb2fe9so7487355ab.3 for ; Sat, 27 Sep 2025 00:10:09 -0700 (PDT) DKIM-Signature: v=1; a=rsa-sha256; c=relaxed/relaxed; d=iol.unh.edu; s=unh-iol; t=1758957009; x=1759561809; darn=dpdk.org; h=cc:to:from:subject:message-id:date:from:to:cc:subject:date :message-id:reply-to; bh=Qtzm3FfGIc5e+IsN8HDVymtuvjbxfRwIkJPL/3n1Y2g=; b=gPHqg3LX0aFiIiRzedWR2rDTztpyYqJt7ARrjz+6ccxARmD5z4PZcvhG+eb4QpeSzt WMfEn8jkecNzY6iY/mKiSBE4Ls4bhAe+8/N+b8sJgQunD4QBPSy023F0lRsQ3JYzpqs+ IMSTGCBO9CkEOObZdNJG2nhSxvSbP/fzTskgQ= X-Google-DKIM-Signature: v=1; a=rsa-sha256; c=relaxed/relaxed; d=1e100.net; s=20230601; t=1758957009; x=1759561809; h=cc:to:from:subject:message-id:date:x-gm-message-state:from:to:cc :subject:date:message-id:reply-to; bh=Qtzm3FfGIc5e+IsN8HDVymtuvjbxfRwIkJPL/3n1Y2g=; b=R5lUZy+AxFecaP4I6ypVNSlbZawyp5/27O/2lrkgzC6DbuQ/xwIXeVu3GXOxjx8MvJ FQVSjEbF+PFVezupyTAtjHQSIJXMBqwoUnkT9hNZsrtdFXDdjKsBUX1rXpsZ6dvjMLmA 4t3ISxe/Zz5am/lw3lC+CmBBTFaGrKdwM+q9xEuNWFCwTNNx50aJRKwFfgnmk/wkhOyt QhqRIIHELSjB2DzKEaTVjxsJ5UMNczip5RYJONVZ4nSDiY3tGzszmHNaC2ozZoqUS2qX RwvHTLWZRHp0h7X4g42Va3Qq5xxUOuSWYjFmz0NTCS74WYA6G+7/lRgSU5foVnn5T9HZ bZ5g== X-Gm-Message-State: AOJu0YxnMHN3e0FrUPQcR2sAtepE82wpb10dfaSHzjl0Wgl+3KOX02bd pLhdsnBNqDgqcURTHn5JcHYVjW7zl5VKxl2vyqkgYPeUKg/O/PSC19KUvgO5P2pe3KaiWMtkNMn lZ91Vdrzu+dPRklCnfRu0zw0fXV2AgNTHharmqknPeXC7i554nsNnt4meBv4a X-Gm-Gg: ASbGncsAZLFJ5KMwoCpzWtzfOhireFWZQyc33MsdTHKwX0/wLw5zu4KMXiR+NDtmLxT cO3iCZGXsxtxlznKiF8UD1kwd9zUbwYRoK4NISf3dxO6Ajwi0bfJQa8d3fIYtGMt9pMBFbeqc/p hqvtHf9zMvRNBCbqYbU+FzarWwhR902QpWAIYtitxBq2kB5brAKaq/6OiHr0CleIiezRYyjut5p 4jBzvpu/gWm8BfXUcoE0Y591zIohj6l35oXVfOmtlldwtOi6lmhSRqa2aHxa4OqF4vfbwbKNBcp v0ZX+nNuSMgPLbSEsDm3iyIs29XLMxndcHEhb20YVlfCCniZNQ== X-Google-Smtp-Source: AGHT+IF0YDdYrD1wrayH9G4qluCbtN36vdeAC4k7oOoy/y/nbxj2Y6EquinX7cNP66U02OXX65H7Ze15E5gC X-Received: by 2002:a05:6e02:18ce:b0:426:9b42:24c6 with SMTP id e9e14a558f8ab-4269b422717mr122596565ab.10.1758957007302; Sat, 27 Sep 2025 00:10:07 -0700 (PDT) Received: from postal.iol.unh.edu (postal.iol.unh.edu. [2606:4100:3880:1234::84]) by smtp-relay.gmail.com with ESMTPS id e9e14a558f8ab-425bf6d54b9sm4459175ab.25.2025.09.27.00.10.07 (version=TLS1_2 cipher=ECDHE-ECDSA-AES128-GCM-SHA256 bits=128/128); Sat, 27 Sep 2025 00:10:07 -0700 (PDT) X-Relaying-Domain: iol.unh.edu Date: Sat, 27 Sep 2025 00:10:07 -0700 (PDT) Message-ID: <68d78dcf.920a0220.265fe3.a2c1SMTPIN_ADDED_MISSING@mx.google.com> Received: from [172.21.0.2] (unknown [172.18.0.240]) by postal.iol.unh.edu (Postfix) with ESMTP id E1DB36050A61; Sat, 27 Sep 2025 03:10:06 -0400 (EDT) Subject: |SUCCESS| [GIT MASTER] c04bbd131b2c14b3049bf86d3ef367b34e6fdf1e From: dpdklab@iol.unh.edu To: Test Report Cc: dpdk-test-reports@iol.unh.edu, Stephen Hemminger Content-Type: text/plain X-BeenThere: test-report@dpdk.org X-Mailman-Version: 2.1.29 Precedence: list List-Id: automatic DPDK test reports List-Unsubscribe: , List-Archive: List-Post: List-Help: List-Subscribe: , Errors-To: test-report-bounces@dpdk.org _Testing PASS_ Branch: dpdk-next-net c04bbd131b2c14b3049bf86d3ef367b34e6fdf1e --> testing pass Upstream job id: Generic-DPDK-Compile-Meson#429295 Test environment and result as below: +-------------------------------+--------------------+-------------------+------------------+-------------------------+-------------------+----------------------+ | Environment | dpdk_meson_compile | dpdk_compile_spdk | dpdk_compile_ovs | dpdk_llvm_clang_compile | dpdk_msvc_compile | dpdk_mingw64_compile | +===============================+====================+===================+==================+=========================+===================+======================+ | CentOS Stream 9 | PASS | PASS | SKIPPED | SKIPPED | SKIPPED | SKIPPED | +-------------------------------+--------------------+-------------------+------------------+-------------------------+-------------------+----------------------+ | Fedora Linux 42 | PASS | PASS | PASS | SKIPPED | SKIPPED | SKIPPED | +-------------------------------+--------------------+-------------------+------------------+-------------------------+-------------------+----------------------+ | Debian GNU/Linux 12 | PASS | PASS | SKIPPED | SKIPPED | SKIPPED | SKIPPED | +-------------------------------+--------------------+-------------------+------------------+-------------------------+-------------------+----------------------+ | FreeBSD 14.2 | PASS | SKIPPED | SKIPPED | SKIPPED | SKIPPED | SKIPPED | +-------------------------------+--------------------+-------------------+------------------+-------------------------+-------------------+----------------------+ | Red Hat Enterprise Linux 8.10 | PASS | SKIPPED | SKIPPED | SKIPPED | SKIPPED | SKIPPED | +-------------------------------+--------------------+-------------------+------------------+-------------------------+-------------------+----------------------+ | CentOS Stream 10 | PASS | SKIPPED | SKIPPED | SKIPPED | SKIPPED | SKIPPED | +-------------------------------+--------------------+-------------------+------------------+-------------------------+-------------------+----------------------+ | Ubuntu 22.04 | PASS | PASS | SKIPPED | SKIPPED | SKIPPED | SKIPPED | +-------------------------------+--------------------+-------------------+------------------+-------------------------+-------------------+----------------------+ | Red Hat Enterprise Linux 9.5 | PASS | SKIPPED | SKIPPED | SKIPPED | SKIPPED | SKIPPED | +-------------------------------+--------------------+-------------------+------------------+-------------------------+-------------------+----------------------+ | openSUSE Leap 15.6 | PASS | SKIPPED | SKIPPED | SKIPPED | SKIPPED | SKIPPED | +-------------------------------+--------------------+-------------------+------------------+-------------------------+-------------------+----------------------+ | Ubuntu 20.04 | PASS | SKIPPED | SKIPPED | SKIPPED | SKIPPED | SKIPPED | +-------------------------------+--------------------+-------------------+------------------+-------------------------+-------------------+----------------------+ | Ubuntu 24.04 | PASS | PASS | PASS | SKIPPED | SKIPPED | SKIPPED | +-------------------------------+--------------------+-------------------+------------------+-------------------------+-------------------+----------------------+ | Alpine Linux 3.22.0 | PASS | SKIPPED | SKIPPED | SKIPPED | SKIPPED | SKIPPED | +-------------------------------+--------------------+-------------------+------------------+-------------------------+-------------------+----------------------+ | Windows Server 2022 | SKIPPED | SKIPPED | SKIPPED | PASS | PASS | PASS | +-------------------------------+--------------------+-------------------+------------------+-------------------------+-------------------+----------------------+ CentOS Stream 9 Kernel: 5.15 Compiler: gcc gcc (GCC) 11.5.0 20240719 (Red Hat 11.5.0-11) Fedora Linux 42 Kernel: 5.15 Compiler: gcc gcc (GCC) 15.2.1 20250808 (Red Hat 15.2.1-1) Debian GNU/Linux 12 Kernel: 5.15 Compiler: gcc gcc (Debian 12.2.0-14+deb12u1) 12.2.0 FreeBSD 14.2 Kernel: 14.2-RELEASE Compiler: clang 18.1.6 Red Hat Enterprise Linux 8.10 Kernel: 5.15 Compiler: gcc gcc (GCC) 8.5.0 20210514 (Red Hat 8.5.0-22) CentOS Stream 10 Kernel: 5.15 Compiler: gcc gcc (GCC) 14.2.1 20250110 (Red Hat 14.2.1-8) Ubuntu 22.04 Kernel: 5.15 Compiler: gcc gcc (Ubuntu 11.4.0-1ubuntu1~22.04) 11.4.0 Red Hat Enterprise Linux 9.5 Kernel: 5.15 Compiler: gcc gcc (GCC) 11.5.0 20240719 (Red Hat 11.5.0-2) openSUSE Leap 15.6 Kernel: 5.15 Compiler: gcc gcc (SUSE Linux) 7.5.0 Ubuntu 20.04 Kernel: 5.15 Compiler: gcc gcc (Ubuntu 9.4.0-1ubuntu1~20.04.2) 9.4.0 Ubuntu 24.04 Kernel: 5.15 Compiler: gcc gcc (Ubuntu 13.3.0-6ubuntu2~24.04) 13.3.0 Alpine Linux 3.22.0 Kernel: 5.15 Compiler: gcc gcc (Alpine 14.2.0) 14.2.0 Windows Server 2022 Kernel: 10.0.20348.2031 Compiler: clang 15.0.7, gcc 14.1.0 (MinGW), and MSVC VS 19.39.33521 To view detailed results, visit: https://lab.dpdk.org/results/dashboard/tarballs/35029/ UNH-IOL DPDK Community Lab To manage your email subscriptions, visit: https://lab.dpdk.org/results/dashboard/preferences/subscriptions/