From mboxrd@z Thu Jan 1 00:00:00 1970 Return-Path: Received: from mails.dpdk.org (mails.dpdk.org [217.70.189.124]) by inbox.dpdk.org (Postfix) with ESMTP id 6BF15463EF for ; Sun, 28 Sep 2025 03:05:33 +0200 (CEST) Received: from mails.dpdk.org (localhost [127.0.0.1]) by mails.dpdk.org (Postfix) with ESMTP id 47346402B1; Sun, 28 Sep 2025 03:05:33 +0200 (CEST) Received: from mail-pg1-f227.google.com (mail-pg1-f227.google.com [209.85.215.227]) by mails.dpdk.org (Postfix) with ESMTP id AC8A5402B1 for ; Sun, 28 Sep 2025 03:05:31 +0200 (CEST) Received: by mail-pg1-f227.google.com with SMTP id 41be03b00d2f7-b57bffc0248so2635182a12.0 for ; Sat, 27 Sep 2025 18:05:31 -0700 (PDT) DKIM-Signature: v=1; a=rsa-sha256; c=relaxed/relaxed; d=iol.unh.edu; s=unh-iol; t=1759021531; x=1759626331; darn=dpdk.org; h=cc:to:from:subject:message-id:date:from:to:cc:subject:date :message-id:reply-to; bh=W7ZhLhvBUxB2qbSCVjHUKazrPM1v6nQMycxsZo8S2cc=; b=K7ATSM+oW1HKmx5qWIfZCja5baN9sO8/50hOaZ0H76LjxilC6kF4BvjpX7sEkKm3v4 fvOYu8rfLejVV7emW2rFwqSRisJygx1LfKvXnIIX+LM+VPT9pAD9D6oJTjiJgpc3cIsp ezZLAX33nN1WGyG2Tcppoy7zbAlR1ClJGHnn0= X-Google-DKIM-Signature: v=1; a=rsa-sha256; c=relaxed/relaxed; d=1e100.net; s=20230601; t=1759021531; x=1759626331; h=cc:to:from:subject:message-id:date:x-gm-message-state:from:to:cc :subject:date:message-id:reply-to; bh=W7ZhLhvBUxB2qbSCVjHUKazrPM1v6nQMycxsZo8S2cc=; b=m2YB9X9AHyR0FhRBysso+xPkIqTPt47FWtcD4jRYD1e56sDQ5Rsrll/dV5t21VowMR FaTBuIBCCJzVOoQDnXFzZTz/ozp4lKnZB+Vj0jM2VQqOE9gBtk7eyF3t4Q4Fz8H16QHH WfE0JaGnCGNTc05QK+OpijFQaE9kk5M6vI01H2qSgZd79gMSga/fTfUKeXbnbhwhZyoq o1gvImw/6huwhMwAFxUaS89rk2+yFQ5dbTKHGeHLpBdwW9sCl127AXg/C7sWqCaR3t8B ttawDbq5VWRFQEWcVGX6udQrvJ7eeaQw+ZtDHLGRpOWwJbUjJ90mFirzkmUp+bT301qT 4xZA== X-Gm-Message-State: AOJu0Yw98EsMymsLW9a1xRtMXV+3yHWi6fKLUFT6yJSad5cJr6q85NlG qQ/45yd5DmKCjdBT8SJs2Ufk5mfbEXKI16HRCadGZLeLLGShGgxACiPmHvMreskAsLN4tQT5xm7 nxgRA/5AeeiWl+NstMYxkQjgVwES6ta4nJsnbKxOtZFslYfx0ZASpjlKyWWfS X-Gm-Gg: ASbGnctXzGdfnnRwh4aAnL4E7u76V8zEkXp3u3vCM9EdjZNd6W2Emnwf+mqiabK0Cp7 HaCc3MIuvMpX/Zk6C93p2k+ZGrBPyFPYhikv4LShatiZ5vna9OA2Jrj5yqfcvzm9r7I6sWvwKI6 WGlLvNmSV1O/dgJ/8wLNQaH4TLxB/aE7ArTlEzOiTGMSlyDS7SvhUzXv4XOkg6QqP6JdKRJJgQU oKx4o5PUM5DZbYOQUVjShvuO0s4ckOrTszYyhtQEkprfBBiA+YMQ99WVhtr0O6EAqPT7AulZnjQ sHGdMHOfqi5UTpjCCW3Xab6CkSRXPSs2vZnqBPQHCBPELlWqtA== X-Google-Smtp-Source: AGHT+IF0LNUaduhepUJSAtXEG+monjH5F45+Xgrtdf94bgYyj6iQ1OgIV+IaACicJzaltoGIonAUCoa+8sut X-Received: by 2002:a17:902:f683:b0:281:fd60:807d with SMTP id d9443c01a7336-281fd6082bcmr36820225ad.2.1759021530668; Sat, 27 Sep 2025 18:05:30 -0700 (PDT) Received: from postal.iol.unh.edu (postal.iol.unh.edu. [2606:4100:3880:1234::84]) by smtp-relay.gmail.com with ESMTPS id d9443c01a7336-27ed67e6a34sm6527435ad.38.2025.09.27.18.05.30 (version=TLS1_2 cipher=ECDHE-ECDSA-AES128-GCM-SHA256 bits=128/128); Sat, 27 Sep 2025 18:05:30 -0700 (PDT) X-Relaying-Domain: iol.unh.edu Date: Sat, 27 Sep 2025 18:05:30 -0700 (PDT) Message-ID: <68d889da.170a0220.2c6e06.6f2dSMTPIN_ADDED_MISSING@mx.google.com> Received: from [172.21.0.2] (unknown [172.18.0.240]) by postal.iol.unh.edu (Postfix) with ESMTP id DF8A56051830; Sat, 27 Sep 2025 21:05:29 -0400 (EDT) Subject: |SUCCESS| [GIT MASTER] 1d627ea13aeec2bcccf27246e6be2508370d171e From: dpdklab@iol.unh.edu To: Test Report Cc: dpdk-test-reports@iol.unh.edu Content-Type: text/plain X-BeenThere: test-report@dpdk.org X-Mailman-Version: 2.1.29 Precedence: list List-Id: automatic DPDK test reports List-Unsubscribe: , List-Archive: List-Post: List-Help: List-Subscribe: , Errors-To: test-report-bounces@dpdk.org _Testing PASS_ Branch: dpdk 1d627ea13aeec2bcccf27246e6be2508370d171e --> testing pass Upstream job id: Generic-Unit-Test-DPDK#375823 Test environment and result as below: +-------------------------------+----------------+ | Environment | dpdk_unit_test | +===============================+================+ | Debian GNU/Linux 12 | PASS | +-------------------------------+----------------+ | Arch Linux 20250613.0.365270 | PASS | +-------------------------------+----------------+ | CentOS Stream 10 | PASS | +-------------------------------+----------------+ | Fedora Linux 41 | PASS | +-------------------------------+----------------+ | CentOS Stream 9 | PASS | +-------------------------------+----------------+ | Fedora Linux 42 | PASS | +-------------------------------+----------------+ | Ubuntu 24.04 | PASS | +-------------------------------+----------------+ | Ubuntu 20.04 | PASS | +-------------------------------+----------------+ | Fedora Linux 40 | PASS | +-------------------------------+----------------+ | Red Hat Enterprise Linux 9.5 | PASS | +-------------------------------+----------------+ | Red Hat Enterprise Linux 8.10 | PASS | +-------------------------------+----------------+ | Ubuntu 22.04 | PASS | +-------------------------------+----------------+ | Windows Server 2022 | PASS | +-------------------------------+----------------+ Debian GNU/Linux 12 Kernel: 5.15 Compiler: gcc gcc (Debian 12.2.0-14+deb12u1) 12.2.0 Arch Linux 20250613.0.365270 Kernel: 5.15 Compiler: gcc gcc (GCC) 15.1.1 20250425 CentOS Stream 10 Kernel: 5.15 Compiler: gcc gcc (GCC) 14.2.1 20250110 (Red Hat 14.2.1-8) Fedora Linux 41 Kernel: 5.15 Compiler: gcc gcc (GCC) 14.3.1 20250523 (Red Hat 14.3.1-1) CentOS Stream 9 Kernel: 5.15 Compiler: gcc gcc (GCC) 11.5.0 20240719 (Red Hat 11.5.0-11) Fedora Linux 42 Kernel: 5.15 Compiler: gcc gcc (GCC) 15.2.1 20250808 (Red Hat 15.2.1-1) Ubuntu 24.04 Kernel: 5.15 Compiler: gcc gcc (Ubuntu 13.3.0-6ubuntu2~24.04) 13.3.0 Ubuntu 20.04 Kernel: 5.15 Compiler: gcc gcc (Ubuntu 9.4.0-1ubuntu1~20.04.2) 9.4.0 Fedora Linux 40 Kernel: 5.15 Compiler: clang gcc (GCC) 14.2.1 20240912 (Red Hat 14.2.1-3) Red Hat Enterprise Linux 9.5 Kernel: 5.15 Compiler: gcc gcc (GCC) 11.5.0 20240719 (Red Hat 11.5.0-2) Red Hat Enterprise Linux 8.10 Kernel: 5.15 Compiler: gcc gcc (GCC) 8.5.0 20210514 (Red Hat 8.5.0-22) Ubuntu 22.04 Kernel: 5.15 Compiler: gcc gcc (Ubuntu 11.4.0-1ubuntu1~22.04) 11.4.0 Windows Server 2022 Kernel: 10.0.20348.2031 Compiler: clang 15.0.7, gcc 14.1.0 (MinGW), and MSVC VS 19.39.33521 To view detailed results, visit: https://lab.dpdk.org/results/dashboard/tarballs/35030/ UNH-IOL DPDK Community Lab To manage your email subscriptions, visit: https://lab.dpdk.org/results/dashboard/preferences/subscriptions/