From mboxrd@z Thu Jan 1 00:00:00 1970 Return-Path: Received: from mails.dpdk.org (mails.dpdk.org [217.70.189.124]) by inbox.dpdk.org (Postfix) with ESMTP id 4FA60463EF for ; Sun, 28 Sep 2025 03:15:59 +0200 (CEST) Received: from mails.dpdk.org (localhost [127.0.0.1]) by mails.dpdk.org (Postfix) with ESMTP id 32456402B1; Sun, 28 Sep 2025 03:15:59 +0200 (CEST) Received: from mail-pl1-f225.google.com (mail-pl1-f225.google.com [209.85.214.225]) by mails.dpdk.org (Postfix) with ESMTP id 7911D402B1 for ; Sun, 28 Sep 2025 03:15:57 +0200 (CEST) Received: by mail-pl1-f225.google.com with SMTP id d9443c01a7336-27c369f898fso37648245ad.3 for ; Sat, 27 Sep 2025 18:15:57 -0700 (PDT) DKIM-Signature: v=1; a=rsa-sha256; c=relaxed/relaxed; d=iol.unh.edu; s=unh-iol; t=1759022156; x=1759626956; darn=dpdk.org; h=cc:to:from:subject:message-id:date:from:to:cc:subject:date :message-id:reply-to; bh=08GG/FrbJ0mjAHl03lZ0g1EsU7JrbO7mlO1ePe/iIqo=; b=B+J9g+Kqo5iMg+p6Iv/G9vcO3rakiF52iWT8WsnB+CDjW+IlGPkedB0QuOmtyf9zzL PCO5cdWYP3pcNPvk2muf76rfcSJUNhLLYuyodCBO7tnhbkWGUEdPwGwhzY/lagTYCsy/ iy+M2LOM8ojW6hB5lhy1gk4PBQ/8HcgbLfzt4= X-Google-DKIM-Signature: v=1; a=rsa-sha256; c=relaxed/relaxed; d=1e100.net; s=20230601; t=1759022156; x=1759626956; h=cc:to:from:subject:message-id:date:x-gm-message-state:from:to:cc :subject:date:message-id:reply-to; bh=08GG/FrbJ0mjAHl03lZ0g1EsU7JrbO7mlO1ePe/iIqo=; b=Ie5PIDaoSl3zhVDn2vE+xiJAWG3bFxy4owZkhqN4miy4VRvFkPx63GgCw2ZK43YUkM xIBmqNLpo8PNDgSlTcw6ImfwarPJ2j7uoEgwHE0lryy7zQpHUYGg7d8xJrLxmlYVQg8t d6vYC24VvbYZsowMF+y7ON33llRgHslGyhjwq3u99gT6DwQkuivC51CqJfubwvPUnCB6 9Nszc9fwSxWd8chS2+IxWVma1yHJ4LQ9en1cIo0RwXba9MRs6fiYwLziTET41KTeznRO daSL3eFfjoNSE9huWd/4RBUCNnLt4escbgFOGGvKdRT/cPR+lkJ1JCufRZgprbUjGI97 faOw== X-Gm-Message-State: AOJu0YwR3deo+b853qU4xEFJu++Vn+t+f3J52ubaZ0iqaqO09SqKn9jX Caw2BghhH4dLUKnbK5dKkJXR9ueG0y45ohvus9xObUWkaIH6ECLpQ82EiYQ0XFQXrqDRhLKmOr/ Vnf5CfEHO1R1Y8h3gQeYbqhNGwZVLW4b5rQ+w2P58autvpQHAcTeGIPBOEMaC X-Gm-Gg: ASbGncugSmzJS+btOxG+0SFzmPhH/reaCF4O9a8XCI2+6asdnfQe5rrBCR8OswWAgs6 Pxq/+H18LmoDRw8zotFAgD+ab3wE2w6L+xn2aODO4hi6vHVVT5Gqv5ybKZRLuKDy/oyRCDswLCg mI6NcAq7eJCM0rF+fVjS/U3RYyhAi/mufvLzEyy6wl3bJV6rvzwCg+TR9h0QG2UvQq3b0etupgP RWhD5yrC+3RjcL6UF1Zyn6N2vlwnp1C+TjgUex/vNOEXMFFyUA1sWFjbLh6FVhSMrlKWorjYtjT xnxPkb5xYTS5ftddmWhCgx2cJsV19pAJ/kxhFJo0UKGPeHCLMA== X-Google-Smtp-Source: AGHT+IF+uCxfAZlb3uwzU0HURiVj1ENGfnEUPlhCT6DFoBiMfLzTQ9lzf2GBzzqS3H7Ah11RdTtfi9dl6qmU X-Received: by 2002:a17:903:38cd:b0:27e:d4a8:56ad with SMTP id d9443c01a7336-27ed4a85a82mr130437555ad.61.1759022156513; Sat, 27 Sep 2025 18:15:56 -0700 (PDT) Received: from postal.iol.unh.edu (postal.iol.unh.edu. [2606:4100:3880:1234::84]) by smtp-relay.gmail.com with ESMTPS id d9443c01a7336-27ed66dd2d0sm6286955ad.17.2025.09.27.18.15.56 (version=TLS1_2 cipher=ECDHE-ECDSA-AES128-GCM-SHA256 bits=128/128); Sat, 27 Sep 2025 18:15:56 -0700 (PDT) X-Relaying-Domain: iol.unh.edu Date: Sat, 27 Sep 2025 18:15:56 -0700 (PDT) Message-ID: <68d88c4c.170a0220.abbe9.58baSMTPIN_ADDED_MISSING@mx.google.com> Received: from [172.21.0.2] (unknown [172.18.0.240]) by postal.iol.unh.edu (Postfix) with ESMTP id E8AA36051830; Sat, 27 Sep 2025 21:15:55 -0400 (EDT) Subject: |SUCCESS| [GIT MASTER] 1d627ea13aeec2bcccf27246e6be2508370d171e From: dpdklab@iol.unh.edu To: Test Report Cc: dpdk-test-reports@iol.unh.edu Content-Type: text/plain X-BeenThere: test-report@dpdk.org X-Mailman-Version: 2.1.29 Precedence: list List-Id: automatic DPDK test reports List-Unsubscribe: , List-Archive: List-Post: List-Help: List-Subscribe: , Errors-To: test-report-bounces@dpdk.org _Testing PASS_ Branch: dpdk 1d627ea13aeec2bcccf27246e6be2508370d171e --> testing pass Upstream job id: Generic-DPDK-Compile-Meson#429322 Test environment and result as below: +-------------------------------+--------------------+-------------------+------------------+-------------------------+-------------------+----------------------+ | Environment | dpdk_meson_compile | dpdk_compile_spdk | dpdk_compile_ovs | dpdk_llvm_clang_compile | dpdk_msvc_compile | dpdk_mingw64_compile | +===============================+====================+===================+==================+=========================+===================+======================+ | Red Hat Enterprise Linux 8.10 | PASS | SKIPPED | SKIPPED | SKIPPED | SKIPPED | SKIPPED | +-------------------------------+--------------------+-------------------+------------------+-------------------------+-------------------+----------------------+ | CentOS Stream 9 | PASS | PASS | SKIPPED | SKIPPED | SKIPPED | SKIPPED | +-------------------------------+--------------------+-------------------+------------------+-------------------------+-------------------+----------------------+ | Fedora Linux 42 | PASS | PASS | PASS | SKIPPED | SKIPPED | SKIPPED | +-------------------------------+--------------------+-------------------+------------------+-------------------------+-------------------+----------------------+ | FreeBSD 14.2 | PASS | SKIPPED | SKIPPED | SKIPPED | SKIPPED | SKIPPED | +-------------------------------+--------------------+-------------------+------------------+-------------------------+-------------------+----------------------+ | CentOS Stream 10 | PASS | SKIPPED | SKIPPED | SKIPPED | SKIPPED | SKIPPED | +-------------------------------+--------------------+-------------------+------------------+-------------------------+-------------------+----------------------+ | Debian GNU/Linux 12 | PASS | PASS | SKIPPED | SKIPPED | SKIPPED | SKIPPED | +-------------------------------+--------------------+-------------------+------------------+-------------------------+-------------------+----------------------+ | Ubuntu 22.04 | PASS | PASS | SKIPPED | SKIPPED | SKIPPED | SKIPPED | +-------------------------------+--------------------+-------------------+------------------+-------------------------+-------------------+----------------------+ | Alpine Linux 3.22.0 | PASS | SKIPPED | SKIPPED | SKIPPED | SKIPPED | SKIPPED | +-------------------------------+--------------------+-------------------+------------------+-------------------------+-------------------+----------------------+ | openSUSE Leap 15.6 | PASS | SKIPPED | SKIPPED | SKIPPED | SKIPPED | SKIPPED | +-------------------------------+--------------------+-------------------+------------------+-------------------------+-------------------+----------------------+ | Ubuntu 20.04 | PASS | SKIPPED | SKIPPED | SKIPPED | SKIPPED | SKIPPED | +-------------------------------+--------------------+-------------------+------------------+-------------------------+-------------------+----------------------+ | Ubuntu 24.04 | PASS | PASS | PASS | SKIPPED | SKIPPED | SKIPPED | +-------------------------------+--------------------+-------------------+------------------+-------------------------+-------------------+----------------------+ | Arch Linux 20250613.0.365270 | PASS | SKIPPED | SKIPPED | SKIPPED | SKIPPED | SKIPPED | +-------------------------------+--------------------+-------------------+------------------+-------------------------+-------------------+----------------------+ | Red Hat Enterprise Linux 9.5 | PASS | SKIPPED | SKIPPED | SKIPPED | SKIPPED | SKIPPED | +-------------------------------+--------------------+-------------------+------------------+-------------------------+-------------------+----------------------+ | Windows Server 2022 | SKIPPED | SKIPPED | SKIPPED | PASS | PASS | PASS | +-------------------------------+--------------------+-------------------+------------------+-------------------------+-------------------+----------------------+ Red Hat Enterprise Linux 8.10 Kernel: 5.15 Compiler: gcc gcc (GCC) 8.5.0 20210514 (Red Hat 8.5.0-22) CentOS Stream 9 Kernel: 5.15 Compiler: gcc gcc (GCC) 11.5.0 20240719 (Red Hat 11.5.0-11) Fedora Linux 42 Kernel: 5.15 Compiler: gcc gcc (GCC) 15.2.1 20250808 (Red Hat 15.2.1-1) FreeBSD 14.2 Kernel: 14.2-RELEASE Compiler: clang 18.1.6 CentOS Stream 10 Kernel: 5.15 Compiler: gcc gcc (GCC) 14.2.1 20250110 (Red Hat 14.2.1-8) Debian GNU/Linux 12 Kernel: 5.15 Compiler: gcc gcc (Debian 12.2.0-14+deb12u1) 12.2.0 Ubuntu 22.04 Kernel: 5.15 Compiler: gcc gcc (Ubuntu 11.4.0-1ubuntu1~22.04) 11.4.0 Alpine Linux 3.22.0 Kernel: 5.15 Compiler: gcc gcc (Alpine 14.2.0) 14.2.0 openSUSE Leap 15.6 Kernel: 5.15 Compiler: gcc gcc (SUSE Linux) 7.5.0 Ubuntu 20.04 Kernel: 5.15 Compiler: gcc gcc (Ubuntu 9.4.0-1ubuntu1~20.04.2) 9.4.0 Ubuntu 24.04 Kernel: 5.15 Compiler: gcc gcc (Ubuntu 13.3.0-6ubuntu2~24.04) 13.3.0 Arch Linux 20250613.0.365270 Kernel: 5.15 Compiler: gcc gcc (GCC) 15.1.1 20250425 Red Hat Enterprise Linux 9.5 Kernel: 5.15 Compiler: gcc gcc (GCC) 11.5.0 20240719 (Red Hat 11.5.0-2) Windows Server 2022 Kernel: 10.0.20348.2031 Compiler: clang 15.0.7, gcc 14.1.0 (MinGW), and MSVC VS 19.39.33521 To view detailed results, visit: https://lab.dpdk.org/results/dashboard/tarballs/35030/ UNH-IOL DPDK Community Lab To manage your email subscriptions, visit: https://lab.dpdk.org/results/dashboard/preferences/subscriptions/