From mboxrd@z Thu Jan 1 00:00:00 1970 Return-Path: Received: from mails.dpdk.org (mails.dpdk.org [217.70.189.124]) by inbox.dpdk.org (Postfix) with ESMTP id 8E8DC463F2 for ; Sun, 28 Sep 2025 07:14:55 +0200 (CEST) Received: from mails.dpdk.org (localhost [127.0.0.1]) by mails.dpdk.org (Postfix) with ESMTP id 6D85B402EA; Sun, 28 Sep 2025 07:14:55 +0200 (CEST) Received: from mail-qt1-f228.google.com (mail-qt1-f228.google.com [209.85.160.228]) by mails.dpdk.org (Postfix) with ESMTP id 76BE8402EA for ; Sun, 28 Sep 2025 07:14:53 +0200 (CEST) Received: by mail-qt1-f228.google.com with SMTP id d75a77b69052e-4de584653cfso31014541cf.0 for ; Sat, 27 Sep 2025 22:14:53 -0700 (PDT) DKIM-Signature: v=1; a=rsa-sha256; c=relaxed/relaxed; d=iol.unh.edu; s=unh-iol; t=1759036493; x=1759641293; darn=dpdk.org; h=cc:to:from:subject:message-id:date:from:to:cc:subject:date :message-id:reply-to; bh=dVAs4Kobl4YOlcd/mYvMe77GK0Eh9ToD163voEE3THs=; b=TXnWvM/61kvrQeph0fTpCMA7yzR+m1diFm4u3PjJeSn7iEs/XlNORN38o+cwG+xx6g FIbBd71niPkeaen49QzecgvRy91w8fDyqfLhFJzpSmp41tQs+iitlxIA8Giuac9QLfFj cexGfTy75jx2bdG1ro5QCmHcZzbbgLnRRMgLM= X-Google-DKIM-Signature: v=1; a=rsa-sha256; c=relaxed/relaxed; d=1e100.net; s=20230601; t=1759036493; x=1759641293; h=cc:to:from:subject:message-id:date:x-gm-message-state:from:to:cc :subject:date:message-id:reply-to; bh=dVAs4Kobl4YOlcd/mYvMe77GK0Eh9ToD163voEE3THs=; b=FObpCULIE1+8pNBgHd8YIXxrNJax4mNBSKPlk3nAL+viHdZMnBxFxBzphFG/NseGI2 OMGgiJD0ABc+jfD5PIfIFFBoXicwAp8LwSW6GRbEnjCG9HlJvkcGsw0OhDXbI5e/cOcy 7/uWIHCUdRFpm8JaUzesOVHbUlbh9HmAzRjogdHbJllNO4hdQj6tItQevHD2IpMlFTHB MDbJfkFLiPAPWwyFe7DXQYAQh+aum/RW2UwWCn6UJW220ER2NLD0L2YLN+6Xtob+U1n8 Ic6noNftaVaeuESNnTg6s7PY3EI/bgsOTs4IeznFK8yhTFrfblVu4cYlsRjEt4FXbagT G6+A== X-Gm-Message-State: AOJu0YwmXmefam/sgsdl60BNw8L/oBOou4re/CgDoVbMHy0bF02DKE1T k4KAzcyXj0m68V2hxoifT6bkSiZcqY1Z2wevws7dmsqD/dvuTkncvVxvLY2OpUMPfuVA6bbAraO 3AEV/ROp18pyr/ENqvfzRrm4M3XzToNJJjnj9qhTs8DtHNrctz3yV X-Gm-Gg: ASbGncsrVY91HX0BMzNaIRhuMb+E0p+apzn9d5276BSjV4YW7swi7f8FcY1LmWPjayE laDwUpT9jnxq3+D/HNH0/wsbsIMd8wULtx7RgdS2pWnzfrgLIuDnyIFpL9tT3GvWJeCxA1eAai8 Ji50ecoTAhgK7jV2T8AACXphmFp8jkmdW4CX6xcEQbUGFJDI1RHzDduiSp+OlaL9ufbZJY1Km+I gm1BFeem2dEfctB8A62bzf6Ohph+2ZIkQ5GecUQkgOsAxcA6GVjpdn9uhTgZKx3C4cxorngJvY3 ArtSJHmAudpE0c6Xsa4By3NHIP7JLRYwOPb4H+VmTvktWqtLlA== X-Google-Smtp-Source: AGHT+IHRlbHEkkNUntJ5u+ZyTZi4uNoivt7JKM844V78eBkVKmZVuzAFEfZdpxHU8dBjIg6RwA32Y7d9d/0T X-Received: by 2002:a05:622a:48f:b0:4de:c77e:838d with SMTP id d75a77b69052e-4dec77e8a2bmr68719061cf.76.1759036492745; Sat, 27 Sep 2025 22:14:52 -0700 (PDT) Received: from postal.iol.unh.edu (postal.iol.unh.edu. [2606:4100:3880:1234::84]) by smtp-relay.gmail.com with ESMTPS id 6a1803df08f44-801325caf17sm5849166d6.3.2025.09.27.22.14.52 (version=TLS1_2 cipher=ECDHE-ECDSA-AES128-GCM-SHA256 bits=128/128); Sat, 27 Sep 2025 22:14:52 -0700 (PDT) X-Relaying-Domain: iol.unh.edu Date: Sat, 27 Sep 2025 22:14:52 -0700 (PDT) Message-ID: <68d8c44c.050a0220.24ed34.36e8SMTPIN_ADDED_MISSING@mx.google.com> Received: from [172.21.0.2] (unknown [172.18.0.240]) by postal.iol.unh.edu (Postfix) with ESMTP id 7193E6051830; Sun, 28 Sep 2025 01:14:52 -0400 (EDT) Subject: |SUCCESS| [GIT MASTER] 3b43ce3f4a54468e7ef65760c2fd7b4d6ee6d9fc From: dpdklab@iol.unh.edu To: Test Report Cc: dpdk-test-reports@iol.unh.edu, Xueming Li , Christian Ehrhardt , Kevin Traynor , Luca Boccassi Content-Type: text/plain X-BeenThere: test-report@dpdk.org X-Mailman-Version: 2.1.29 Precedence: list List-Id: automatic DPDK test reports List-Unsubscribe: , List-Archive: List-Post: List-Help: List-Subscribe: , Errors-To: test-report-bounces@dpdk.org _Testing PASS_ Branch: tags/v22.11 3b43ce3f4a54468e7ef65760c2fd7b4d6ee6d9fc --> testing pass Upstream job id: Generic-DPDK-Compile-Meson#429378 Test environment and result as below: +-------------------------------+--------------------+-------------------------+----------------------+ | Environment | dpdk_meson_compile | dpdk_llvm_clang_compile | dpdk_mingw64_compile | +===============================+====================+=========================+======================+ | CentOS Stream 9 | PASS | SKIPPED | SKIPPED | +-------------------------------+--------------------+-------------------------+----------------------+ | CentOS Stream 10 | PASS | SKIPPED | SKIPPED | +-------------------------------+--------------------+-------------------------+----------------------+ | Debian GNU/Linux 12 | PASS | SKIPPED | SKIPPED | +-------------------------------+--------------------+-------------------------+----------------------+ | Fedora Linux 42 | PASS | SKIPPED | SKIPPED | +-------------------------------+--------------------+-------------------------+----------------------+ | openSUSE Leap 15.6 | PASS | SKIPPED | SKIPPED | +-------------------------------+--------------------+-------------------------+----------------------+ | Red Hat Enterprise Linux 8.10 | PASS | SKIPPED | SKIPPED | +-------------------------------+--------------------+-------------------------+----------------------+ | Red Hat Enterprise Linux 9.5 | PASS | SKIPPED | SKIPPED | +-------------------------------+--------------------+-------------------------+----------------------+ | Ubuntu 22.04 | PASS | SKIPPED | SKIPPED | +-------------------------------+--------------------+-------------------------+----------------------+ | Ubuntu 24.04 | PASS | SKIPPED | SKIPPED | +-------------------------------+--------------------+-------------------------+----------------------+ | Ubuntu 20.04 | PASS | SKIPPED | SKIPPED | +-------------------------------+--------------------+-------------------------+----------------------+ | FreeBSD 14.2 | PASS | SKIPPED | SKIPPED | +-------------------------------+--------------------+-------------------------+----------------------+ | Windows Server 2022 | SKIPPED | PASS | PASS | +-------------------------------+--------------------+-------------------------+----------------------+ CentOS Stream 9 Kernel: 5.15 Compiler: gcc gcc (GCC) 11.5.0 20240719 (Red Hat 11.5.0-11) CentOS Stream 10 Kernel: 5.15 Compiler: gcc gcc (GCC) 14.2.1 20250110 (Red Hat 14.2.1-8) Debian GNU/Linux 12 Kernel: 5.15 Compiler: gcc gcc (Debian 12.2.0-14+deb12u1) 12.2.0 Fedora Linux 42 Kernel: 5.15 Compiler: clang gcc (GCC) 15.2.1 20250808 (Red Hat 15.2.1-1) openSUSE Leap 15.6 Kernel: 5.15 Compiler: gcc gcc (SUSE Linux) 7.5.0 Red Hat Enterprise Linux 8.10 Kernel: 5.15 Compiler: gcc gcc (GCC) 8.5.0 20210514 (Red Hat 8.5.0-22) Red Hat Enterprise Linux 9.5 Kernel: 5.15 Compiler: gcc gcc (GCC) 11.5.0 20240719 (Red Hat 11.5.0-2) Ubuntu 22.04 Kernel: 5.15 Compiler: gcc gcc (Ubuntu 11.4.0-1ubuntu1~22.04) 11.4.0 Ubuntu 24.04 Kernel: 5.15 Compiler: gcc gcc (Ubuntu 13.3.0-6ubuntu2~24.04) 13.3.0 Ubuntu 20.04 Kernel: 5.15 Compiler: gcc gcc (Ubuntu 9.4.0-1ubuntu1~20.04.2) 9.4.0 FreeBSD 14.2 Kernel: 14.2-RELEASE Compiler: clang 18.1.6 Windows Server 2022 Kernel: 10.0.20348.2031 Compiler: clang 15.0.7, gcc 14.1.0 (MinGW), and MSVC VS 19.39.33521 To view detailed results, visit: https://lab.dpdk.org/results/dashboard/tarballs/35031/ UNH-IOL DPDK Community Lab To manage your email subscriptions, visit: https://lab.dpdk.org/results/dashboard/preferences/subscriptions/