From mboxrd@z Thu Jan 1 00:00:00 1970 Return-Path: Received: from mails.dpdk.org (mails.dpdk.org [217.70.189.124]) by inbox.dpdk.org (Postfix) with ESMTP id 8AEBF463F2 for ; Sun, 28 Sep 2025 07:32:19 +0200 (CEST) Received: from mails.dpdk.org (localhost [127.0.0.1]) by mails.dpdk.org (Postfix) with ESMTP id 75707402EA; Sun, 28 Sep 2025 07:32:19 +0200 (CEST) Received: from mail-pl1-f228.google.com (mail-pl1-f228.google.com [209.85.214.228]) by mails.dpdk.org (Postfix) with ESMTP id 6431D402EA for ; Sun, 28 Sep 2025 07:32:18 +0200 (CEST) Received: by mail-pl1-f228.google.com with SMTP id d9443c01a7336-26a0a694ea8so30312925ad.3 for ; Sat, 27 Sep 2025 22:32:18 -0700 (PDT) DKIM-Signature: v=1; a=rsa-sha256; c=relaxed/relaxed; d=iol.unh.edu; s=unh-iol; t=1759037537; x=1759642337; darn=dpdk.org; h=cc:to:from:subject:message-id:date:from:to:cc:subject:date :message-id:reply-to; bh=fvtrXNBKqdcgHM9E6VccLGMam8KkLz6iboDW4zlWCnQ=; b=W7xRNeA7Pm87rmYoPFeT2inW2uV6/buPFyYdfruFbx5FDNtSk1wU3n218AVHbAsQCf NdCTxB+zb7XCE0RS/7/RhL2M5Cr61MWPNTaRjPG9KdT5OQKUFc1egTpQne+NrbwzmtRC OZENTX9TeTXgMSRoyvOjmpioOKi/gMXtzg4TE= X-Google-DKIM-Signature: v=1; a=rsa-sha256; c=relaxed/relaxed; d=1e100.net; s=20230601; t=1759037537; x=1759642337; h=cc:to:from:subject:message-id:date:x-gm-message-state:from:to:cc :subject:date:message-id:reply-to; bh=fvtrXNBKqdcgHM9E6VccLGMam8KkLz6iboDW4zlWCnQ=; b=BHgP+ETsHZn8M3lhnZut5HnxG7uSMrwOm1QP2WkHEIH6r23TDgUGi/leo0g8XRPyam iJFgM6QgUObq5vBwqEPOTDyvHvA1ttfrwqAA4j8cNJpgTKX+QbYiMap/2nxwIy9wPAgo GHw+riDvgN5Ay7aJKKds6cozG7efk1VQEGqzI1annUGh2IMh/uEX/gxaz4uV0rqb7yg/ 6JejNBuuTAWcH3c6mEmRFrK+P7LV4IJ6UsVqrDCVJ1iIHBLkMHAD/ix9/grfK5hcIdIc ul0qqazcHh5oWX2s7vpjtBlJ3dJQZVZWbHv2+z8G+u2avgEnNORp/eVu9RsZVnnccVJ0 ev/g== X-Gm-Message-State: AOJu0YwoXGiefTTMd7OgvEsuWhlTXgPo3Eh0Dwm9qaVwTNMrNSG7Iv/s ZvpcXfxkRvnEUVJl/N00sd6GuZo2X/KlqfEvUYMwnbi+yYdOqNZFLC8uCVtmPkkvfZ942rH/KNr 6iN0/19jwu50Q2PZWfFpc0Tp3sQOp4FuWUYC+XBH6wNaQbJy4Bh+H X-Gm-Gg: ASbGncu9GoqXQHBMh012SjWV6BMstJSQOBU/Vm33dZpSyxNRAzHR8NXJ92qjtIzK8ci l69wvDLDbP9118O3ec+fHiiwXvtYKBhSrb5W/Ffqephn87b4u7BXQqzzYHGTmFOfPAuxKJKDb14 juCg8n5XpS1UI9CWzQfX2dfldgEqqn6Gr/V9MvUr/PNRUvEUgqEDr9V3czO7U2WMwamY/5hBR8d HO3jaMBthbWA7JsFZpAAz/lumhsch8z/65eSqn9szvSh+yiiPaLCp2zW3pGE9gjkl0CQ+jkrEea OktgxNNMU7Ah1QVafI/KbJqmGkYHFt7wXpKJqoGYSopBs0dfng== X-Google-Smtp-Source: AGHT+IGWM075aKwt7XR8WamP4DE1Xd2LE5l8UKDVDtwn+/RWW/DnoJuLl9Uk/+zZ9zH8dugtFo143498ppNA X-Received: by 2002:a17:903:19ee:b0:24f:8286:9e5d with SMTP id d9443c01a7336-27ed49e1bcamr152056115ad.26.1759037537457; Sat, 27 Sep 2025 22:32:17 -0700 (PDT) Received: from postal.iol.unh.edu (postal.iol.unh.edu. [2606:4100:3880:1234::84]) by smtp-relay.gmail.com with ESMTPS id d9443c01a7336-27ed67e9d13sm7145415ad.39.2025.09.27.22.32.17 (version=TLS1_2 cipher=ECDHE-ECDSA-AES128-GCM-SHA256 bits=128/128); Sat, 27 Sep 2025 22:32:17 -0700 (PDT) X-Relaying-Domain: iol.unh.edu Date: Sat, 27 Sep 2025 22:32:17 -0700 (PDT) Message-ID: <68d8c861.170a0220.dddc2.ba86SMTPIN_ADDED_MISSING@mx.google.com> Received: from [172.21.0.2] (unknown [172.18.0.240]) by postal.iol.unh.edu (Postfix) with ESMTP id E1A386051830; Sun, 28 Sep 2025 01:32:16 -0400 (EDT) Subject: |SUCCESS| [GIT MASTER] b287e404643aeab5bb5db084c142789df187844e From: dpdklab@iol.unh.edu To: Test Report Cc: dpdk-test-reports@iol.unh.edu, Xueming Li , Christian Ehrhardt , Kevin Traynor , Luca Boccassi Content-Type: text/plain X-BeenThere: test-report@dpdk.org X-Mailman-Version: 2.1.29 Precedence: list List-Id: automatic DPDK test reports List-Unsubscribe: , List-Archive: List-Post: List-Help: List-Subscribe: , Errors-To: test-report-bounces@dpdk.org _Testing PASS_ Branch: tags/v24.11 b287e404643aeab5bb5db084c142789df187844e --> testing pass Upstream job id: Generic-DPDK-Compile-Meson#429391 Test environment and result as below: +-------------------------------+--------------------+-------------------+------------------+-------------------+-------------------------+----------------------+ | Environment | dpdk_meson_compile | dpdk_compile_spdk | dpdk_compile_ovs | dpdk_msvc_compile | dpdk_llvm_clang_compile | dpdk_mingw64_compile | +===============================+====================+===================+==================+===================+=========================+======================+ | CentOS Stream 9 | PASS | PASS | SKIPPED | SKIPPED | SKIPPED | SKIPPED | +-------------------------------+--------------------+-------------------+------------------+-------------------+-------------------------+----------------------+ | Debian GNU/Linux 12 | PASS | PASS | SKIPPED | SKIPPED | SKIPPED | SKIPPED | +-------------------------------+--------------------+-------------------+------------------+-------------------+-------------------------+----------------------+ | CentOS Stream 10 | PASS | SKIPPED | SKIPPED | SKIPPED | SKIPPED | SKIPPED | +-------------------------------+--------------------+-------------------+------------------+-------------------+-------------------------+----------------------+ | Fedora Linux 42 | PASS | PASS | PASS | SKIPPED | SKIPPED | SKIPPED | +-------------------------------+--------------------+-------------------+------------------+-------------------+-------------------------+----------------------+ | openSUSE Leap 15.6 | PASS | SKIPPED | SKIPPED | SKIPPED | SKIPPED | SKIPPED | +-------------------------------+--------------------+-------------------+------------------+-------------------+-------------------------+----------------------+ | Red Hat Enterprise Linux 8.10 | PASS | SKIPPED | SKIPPED | SKIPPED | SKIPPED | SKIPPED | +-------------------------------+--------------------+-------------------+------------------+-------------------+-------------------------+----------------------+ | Red Hat Enterprise Linux 9.5 | PASS | SKIPPED | SKIPPED | SKIPPED | SKIPPED | SKIPPED | +-------------------------------+--------------------+-------------------+------------------+-------------------+-------------------------+----------------------+ | Ubuntu 20.04 | PASS | SKIPPED | SKIPPED | SKIPPED | SKIPPED | SKIPPED | +-------------------------------+--------------------+-------------------+------------------+-------------------+-------------------------+----------------------+ | Alpine Linux 3.22.0 | PASS | SKIPPED | SKIPPED | SKIPPED | SKIPPED | SKIPPED | +-------------------------------+--------------------+-------------------+------------------+-------------------+-------------------------+----------------------+ | Ubuntu 24.04 | PASS | PASS | PASS | SKIPPED | SKIPPED | SKIPPED | +-------------------------------+--------------------+-------------------+------------------+-------------------+-------------------------+----------------------+ | Ubuntu 22.04 | PASS | PASS | SKIPPED | SKIPPED | SKIPPED | SKIPPED | +-------------------------------+--------------------+-------------------+------------------+-------------------+-------------------------+----------------------+ | FreeBSD 14.2 | PASS | SKIPPED | SKIPPED | SKIPPED | SKIPPED | SKIPPED | +-------------------------------+--------------------+-------------------+------------------+-------------------+-------------------------+----------------------+ | Windows Server 2022 | SKIPPED | SKIPPED | SKIPPED | PASS | PASS | PASS | +-------------------------------+--------------------+-------------------+------------------+-------------------+-------------------------+----------------------+ CentOS Stream 9 Kernel: 5.15 Compiler: gcc gcc (GCC) 11.5.0 20240719 (Red Hat 11.5.0-11) Debian GNU/Linux 12 Kernel: 5.15 Compiler: gcc gcc (Debian 12.2.0-14+deb12u1) 12.2.0 CentOS Stream 10 Kernel: 5.15 Compiler: gcc gcc (GCC) 14.2.1 20250110 (Red Hat 14.2.1-8) Fedora Linux 42 Kernel: 5.15 Compiler: clang gcc (GCC) 15.2.1 20250808 (Red Hat 15.2.1-1) openSUSE Leap 15.6 Kernel: 5.15 Compiler: gcc gcc (SUSE Linux) 7.5.0 Red Hat Enterprise Linux 8.10 Kernel: 5.15 Compiler: gcc gcc (GCC) 8.5.0 20210514 (Red Hat 8.5.0-22) Red Hat Enterprise Linux 9.5 Kernel: 5.15 Compiler: gcc gcc (GCC) 11.5.0 20240719 (Red Hat 11.5.0-2) Ubuntu 20.04 Kernel: 5.15 Compiler: gcc gcc (Ubuntu 9.4.0-1ubuntu1~20.04.2) 9.4.0 Alpine Linux 3.22.0 Kernel: 5.15 Compiler: gcc gcc (Alpine 14.2.0) 14.2.0 Ubuntu 24.04 Kernel: 5.15 Compiler: gcc gcc (Ubuntu 13.3.0-6ubuntu2~24.04) 13.3.0 Ubuntu 22.04 Kernel: 5.15 Compiler: gcc gcc (Ubuntu 11.4.0-1ubuntu1~22.04) 11.4.0 FreeBSD 14.2 Kernel: 14.2-RELEASE Compiler: clang 18.1.6 Windows Server 2022 Kernel: 10.0.20348.2031 Compiler: clang 15.0.7, gcc 14.1.0 (MinGW), and MSVC VS 19.39.33521 To view detailed results, visit: https://lab.dpdk.org/results/dashboard/tarballs/35033/ UNH-IOL DPDK Community Lab To manage your email subscriptions, visit: https://lab.dpdk.org/results/dashboard/preferences/subscriptions/