From mboxrd@z Thu Jan 1 00:00:00 1970 Return-Path: Received: from mails.dpdk.org (mails.dpdk.org [217.70.189.124]) by inbox.dpdk.org (Postfix) with ESMTP id 2A493463F2 for ; Sun, 28 Sep 2025 07:51:01 +0200 (CEST) Received: from mails.dpdk.org (localhost [127.0.0.1]) by mails.dpdk.org (Postfix) with ESMTP id 0C2E3402EA; Sun, 28 Sep 2025 07:51:01 +0200 (CEST) Received: from mail-pl1-f227.google.com (mail-pl1-f227.google.com [209.85.214.227]) by mails.dpdk.org (Postfix) with ESMTP id 968A6402EA for ; Sun, 28 Sep 2025 07:50:59 +0200 (CEST) Received: by mail-pl1-f227.google.com with SMTP id d9443c01a7336-2698e4795ebso36386745ad.0 for ; Sat, 27 Sep 2025 22:50:59 -0700 (PDT) DKIM-Signature: v=1; a=rsa-sha256; c=relaxed/relaxed; d=iol.unh.edu; s=unh-iol; t=1759038658; x=1759643458; darn=dpdk.org; h=cc:to:from:subject:message-id:date:from:to:cc:subject:date :message-id:reply-to; bh=zyMCIGoOAsmvbomHNvB9DnhP6jEwvxPgwYpvE2OxGi4=; b=MF0LwVK/mhCapemMEDlqwzhcg8TC0gx1Ie7N4aw3Bo/m4tub8M7NboFb7z0kbIhsI3 V9/ciy7OR5BZfGsg0Iz5Rz8JxDd5C5cYoIi7T30tD9j34haHyepKhSDu8mcqUzZsKTX0 b0VunyX6TWoMegFbp166cKmVdnY5CJVKrpn8w= X-Google-DKIM-Signature: v=1; a=rsa-sha256; c=relaxed/relaxed; d=1e100.net; s=20230601; t=1759038658; x=1759643458; h=cc:to:from:subject:message-id:date:x-gm-message-state:from:to:cc :subject:date:message-id:reply-to; bh=zyMCIGoOAsmvbomHNvB9DnhP6jEwvxPgwYpvE2OxGi4=; b=cSxrzqhirl5HcRSUDc/8M+EpTWoXFKHl6+U3yPLTIp4Ccil/8cL7bKG0cVRv0YWtjh dy1ULQh0oGw11zdMOvAHloRtod4l1VdR1Hd1kGR6Vt/zc5R1NHEvwdT62TrRphHLOFNI hSmSJacZlNCN+Dy1Q9GfnZtMgBRjH06Pz/OwbGb7i4SERJaZM7M0wyPMNO8smNkOWLgf F4MWQZzl3RsYiFcwMBqzIlPMGeCnEG+eFZV4J8yppRufgj9Xbv18KIetwLUqzVBbabV6 20g+ZfoWGaKSgL3Ia/jM1QJEkJJaU1xo5MmHGx3hgsLiEte2U3bL9oPgoFavZ/Amvh6E YtzQ== X-Gm-Message-State: AOJu0Ywg3z3ZbxX9JUtbxkb/tphKSGNoB3ggqOMFD/4VWcx8fpP7b25j CHCN59qPVyPdtkH6Lamt48I8T6b0m7gForLRDRQs+e6ssQV8CNr2tBjDo+iFMho0JV8BkrG2Elc a7SpAgzMeYabKBB/+E6KZh3YfSQkMIifz/Adw9VJ+ErPksX35hK/Y X-Gm-Gg: ASbGnctNAf4tn2OZJ+wadG9q0efkmLRAjw++5vgagfzcH2jIT4PHKiM4r02PBMeIISu 3D+DvdIVRS8UUqd9UFP9k6pQBfzGnaYLhS68QFt0bRZQwLQY+WMCGZKG0cSwfFuAkHng00Lqb7e vDFCd9VWvRIJ5MGmNTyHzdF9ndvjRYtRUXNQOSIoLnYEVz5fxhjuzElublrZ2GXl80n8f7nKLjB AOaZiDYQv5+lOfavZWjasNkaDA9jpGAcc7VPSnhHy+yxdsGL/36M19l2eDastMYI9r5dx6Cy/RC dmMK6plC+mgZYamcAbd0WTMwc1RCO1d5Webhl3mabqOoZy6stg== X-Google-Smtp-Source: AGHT+IF+iweU7GSC21YqkpnU4eyPNUsi5Sw0HXVVeOaU3niCDpm/eK128P/E5dLxs9GLWN9HU3e+xMS9xjPv X-Received: by 2002:a17:902:f647:b0:269:a8a8:4029 with SMTP id d9443c01a7336-27ed49df2c1mr164950285ad.5.1759038658556; Sat, 27 Sep 2025 22:50:58 -0700 (PDT) Received: from postal.iol.unh.edu (postal.iol.unh.edu. [2606:4100:3880:1234::84]) by smtp-relay.gmail.com with ESMTPS id d9443c01a7336-27ed66f871bsm7042045ad.29.2025.09.27.22.50.58 (version=TLS1_2 cipher=ECDHE-ECDSA-AES128-GCM-SHA256 bits=128/128); Sat, 27 Sep 2025 22:50:58 -0700 (PDT) X-Relaying-Domain: iol.unh.edu Date: Sat, 27 Sep 2025 22:50:58 -0700 (PDT) Message-ID: <68d8ccc2.170a0220.10d836.9f28SMTPIN_ADDED_MISSING@mx.google.com> Received: from [172.21.0.2] (unknown [172.18.0.240]) by postal.iol.unh.edu (Postfix) with ESMTP id C54C660003E8; Sun, 28 Sep 2025 01:50:57 -0400 (EDT) Subject: |SUCCESS| [GIT MASTER] b287e404643aeab5bb5db084c142789df187844e From: dpdklab@iol.unh.edu To: Test Report Cc: dpdk-test-reports@iol.unh.edu, Xueming Li , Christian Ehrhardt , Kevin Traynor , Luca Boccassi Content-Type: text/plain X-BeenThere: test-report@dpdk.org X-Mailman-Version: 2.1.29 Precedence: list List-Id: automatic DPDK test reports List-Unsubscribe: , List-Archive: List-Post: List-Help: List-Subscribe: , Errors-To: test-report-bounces@dpdk.org _Testing PASS_ Branch: tags/v24.11 b287e404643aeab5bb5db084c142789df187844e --> testing pass Upstream job id: Generic-Unit-Test-DPDK#375890 Test environment and result as below: +-------------------------------+----------------+ | Environment | dpdk_unit_test | +===============================+================+ | CentOS Stream 10 | PASS | +-------------------------------+----------------+ | CentOS Stream 9 | PASS | +-------------------------------+----------------+ | Fedora Linux 41 | PASS | +-------------------------------+----------------+ | Fedora Linux 40 | PASS | +-------------------------------+----------------+ | Debian GNU/Linux 12 | PASS | +-------------------------------+----------------+ | Ubuntu 24.04 | PASS | +-------------------------------+----------------+ | Ubuntu 20.04 | PASS | +-------------------------------+----------------+ | Ubuntu 22.04 | PASS | +-------------------------------+----------------+ | Fedora Linux 42 | PASS | +-------------------------------+----------------+ | Red Hat Enterprise Linux 9.5 | PASS | +-------------------------------+----------------+ | Red Hat Enterprise Linux 8.10 | PASS | +-------------------------------+----------------+ | Windows Server 2022 | PASS | +-------------------------------+----------------+ CentOS Stream 10 Kernel: 5.15 Compiler: gcc gcc (GCC) 14.2.1 20250110 (Red Hat 14.2.1-8) CentOS Stream 9 Kernel: 5.15 Compiler: gcc gcc (GCC) 11.5.0 20240719 (Red Hat 11.5.0-11) Fedora Linux 41 Kernel: 5.15 Compiler: gcc gcc (GCC) 14.3.1 20250523 (Red Hat 14.3.1-1) Fedora Linux 40 Kernel: 5.15 Compiler: clang gcc (GCC) 14.2.1 20240912 (Red Hat 14.2.1-3) Debian GNU/Linux 12 Kernel: 5.15 Compiler: gcc gcc (Debian 12.2.0-14+deb12u1) 12.2.0 Ubuntu 24.04 Kernel: 5.15 Compiler: gcc gcc (Ubuntu 13.3.0-6ubuntu2~24.04) 13.3.0 Ubuntu 20.04 Kernel: 5.15 Compiler: gcc gcc (Ubuntu 9.4.0-1ubuntu1~20.04.2) 9.4.0 Ubuntu 22.04 Kernel: 5.15 Compiler: gcc gcc (Ubuntu 11.4.0-1ubuntu1~22.04) 11.4.0 Fedora Linux 42 Kernel: 5.15 Compiler: clang gcc (GCC) 15.2.1 20250808 (Red Hat 15.2.1-1) Red Hat Enterprise Linux 9.5 Kernel: 5.15 Compiler: gcc gcc (GCC) 11.5.0 20240719 (Red Hat 11.5.0-2) Red Hat Enterprise Linux 8.10 Kernel: 5.15 Compiler: gcc gcc (GCC) 8.5.0 20210514 (Red Hat 8.5.0-22) Windows Server 2022 Kernel: 10.0.20348.2031 Compiler: clang 15.0.7, gcc 14.1.0 (MinGW), and MSVC VS 19.39.33521 To view detailed results, visit: https://lab.dpdk.org/results/dashboard/tarballs/35033/ UNH-IOL DPDK Community Lab To manage your email subscriptions, visit: https://lab.dpdk.org/results/dashboard/preferences/subscriptions/