From mboxrd@z Thu Jan 1 00:00:00 1970 Return-Path: Received: from mails.dpdk.org (mails.dpdk.org [217.70.189.124]) by inbox.dpdk.org (Postfix) with ESMTP id 4989748853 for ; Sun, 28 Sep 2025 13:59:08 +0200 (CEST) Received: from mails.dpdk.org (localhost [127.0.0.1]) by mails.dpdk.org (Postfix) with ESMTP id 2164B40144; Sun, 28 Sep 2025 13:59:08 +0200 (CEST) Received: from mail-qt1-f225.google.com (mail-qt1-f225.google.com [209.85.160.225]) by mails.dpdk.org (Postfix) with ESMTP id 6311140144 for ; Sun, 28 Sep 2025 13:59:06 +0200 (CEST) Received: by mail-qt1-f225.google.com with SMTP id d75a77b69052e-4dce9229787so29425371cf.0 for ; Sun, 28 Sep 2025 04:59:06 -0700 (PDT) DKIM-Signature: v=1; a=rsa-sha256; c=relaxed/relaxed; d=iol.unh.edu; s=unh-iol; t=1759060746; x=1759665546; darn=dpdk.org; h=cc:to:from:subject:message-id:date:from:to:cc:subject:date :message-id:reply-to; bh=sChV5odqIWXOjEME5vYl0NYWBKbk2q8eOGQfzZUjNVU=; b=Dm6Jxim/UP4ZEs0W3w4SkcE5N9aiwI6uSmYzCgnkOdDF5T9W7qF6o+jsVzxeDZBF74 o6TXNm9yCvbUBZlzGxrJzibm+ms348vO+kxNpduL0gfYLQnb36upqeIPkZLPD36zrRaC MLozOx+/VswLVaOyxO8P8VoLXAS9MqgsIF3MI= X-Google-DKIM-Signature: v=1; a=rsa-sha256; c=relaxed/relaxed; d=1e100.net; s=20230601; t=1759060746; x=1759665546; h=cc:to:from:subject:message-id:date:x-gm-message-state:from:to:cc :subject:date:message-id:reply-to; bh=sChV5odqIWXOjEME5vYl0NYWBKbk2q8eOGQfzZUjNVU=; b=H31rBNIlFQBNpKsRp0tjp5SByQ7HxcZ4g7hxKVpVMIpqDueXhtjoSyuoY4Btus5Tn+ E28Mzqy52alKXW5+q50IBrI/TDjPzHT/Rh0QzpmJyufphr4fd8VqAhzK2JWNzrMJ5yEn h5h8IQEaWCkI2WcOmRxT3Cddx32Hao2Bk8pYgDhxvvLCF5SAgRgtzujFBSbyMSmCYH2j aSxxNPhfiFBSTQnpOqNmQt72Ww3u3dHJkJMbD5/eYVo1TFgy28j9521FGcVXdaW2g4/7 ie/JFU7t8uM28m9u6lgo4b3VAdn3xiqUq0SA+GZU/AHJz74c/fVrDEt3FOGy8zKlohJt yD/A== X-Gm-Message-State: AOJu0YxA5pJOW/dLS3AXzHWuxopWuYJ8/L2Io3vIKUkAvkYjSaLzTI4P tPgLFgooeoEDuMJV1YL8LotHJoRRSvQfVH6cAcCDAi4yhAPSN3obVzoWzRqBR7Xzn4bSdBsiAP3 aUy0yXqkvT0jjy8d1haRtVsPeSqgF9PuAchwu2EEzuTYC X-Gm-Gg: ASbGncsiJuzN79thlTfJSXQcMAY9jQtl6FJ0XXHEc4SI3iGV1chA/t09LrwVaFaz6zY o3mD3BgcvLlkjY0nwgeD/IGEyeX9py5SJ8z1HJfunPt70IMfNdEoMvNn9fPud79tZuzGxBMmRNv bi3Rb3cpYZcbk/7jlkwrQ3G3EJz0Xl/5JvoG+Gk1iElEJtXyJxJOW9Y4T6TmjyHsEzSIxIxIAji wm+z7r34LgetP3WTmXqQ3n8FwcNMC9JH4cvXA/tbkfAQcwwuzfwGl70P46Z9a5gb9v/MRIhHXLf NvdIO7qgqs3AuNQAr9b/wyyjxCezd4vt3zw/WuJGCi3mnMi4MtNxqKJQq+Af8by1OfSSbAYO X-Google-Smtp-Source: AGHT+IH6q8VC4hUatrTgEaAWpUPVioXqYU6K2Qt4TFwdljss+9cFAAFVvXixwAKc3yVLGqMtnrxD4I6u3U3/ X-Received: by 2002:ac8:7f96:0:b0:4d8:492e:1fb4 with SMTP id d75a77b69052e-4da486b2638mr201764421cf.24.1759060745715; Sun, 28 Sep 2025 04:59:05 -0700 (PDT) Received: from postal.iol.unh.edu (postal.iol.unh.edu. [132.177.123.84]) by smtp-relay.gmail.com with ESMTPS id 6a1803df08f44-801685182d3sm6336666d6.35.2025.09.28.04.59.05 (version=TLS1_2 cipher=ECDHE-ECDSA-AES128-GCM-SHA256 bits=128/128); Sun, 28 Sep 2025 04:59:05 -0700 (PDT) X-Relaying-Domain: iol.unh.edu Date: Sun, 28 Sep 2025 04:59:05 -0700 (PDT) Message-ID: <68d92309.d40a0220.2b853a.7518SMTPIN_ADDED_MISSING@mx.google.com> Received: from [172.21.0.2] (unknown [172.18.0.240]) by postal.iol.unh.edu (Postfix) with ESMTP id 6A8F06051830; Sun, 28 Sep 2025 07:59:05 -0400 (EDT) Subject: |SUCCESS| [GIT MASTER] ab1325719d538b7f3527bb603f5e7d3f46a5eb53 From: dpdklab@iol.unh.edu To: Test Report Cc: dpdk-test-reports@iol.unh.edu, Bruce Richardson Content-Type: text/plain X-BeenThere: test-report@dpdk.org X-Mailman-Version: 2.1.29 Precedence: list List-Id: automatic DPDK test reports List-Unsubscribe: , List-Archive: List-Post: List-Help: List-Subscribe: , Errors-To: test-report-bounces@dpdk.org _Testing PASS_ Branch: dpdk-next-net-intel ab1325719d538b7f3527bb603f5e7d3f46a5eb53 --> testing pass Upstream job id: Generic-DPDK-Compile-Meson#429408 Test environment and result as below: +-------------------------------+--------------------+-------------------+-------------------------+------------------+-------------------+----------------------+ | Environment | dpdk_meson_compile | dpdk_compile_spdk | dpdk_llvm_clang_compile | dpdk_compile_ovs | dpdk_msvc_compile | dpdk_mingw64_compile | +===============================+====================+===================+=========================+==================+===================+======================+ | CentOS Stream 9 | PASS | PASS | SKIPPED | SKIPPED | SKIPPED | SKIPPED | +-------------------------------+--------------------+-------------------+-------------------------+------------------+-------------------+----------------------+ | Ubuntu 24.04 | PASS | PASS | SKIPPED | PASS | SKIPPED | SKIPPED | +-------------------------------+--------------------+-------------------+-------------------------+------------------+-------------------+----------------------+ | CentOS Stream 10 | PASS | SKIPPED | SKIPPED | SKIPPED | SKIPPED | SKIPPED | +-------------------------------+--------------------+-------------------+-------------------------+------------------+-------------------+----------------------+ | openSUSE Leap 15.6 | PASS | SKIPPED | SKIPPED | SKIPPED | SKIPPED | SKIPPED | +-------------------------------+--------------------+-------------------+-------------------------+------------------+-------------------+----------------------+ | Red Hat Enterprise Linux 9.5 | PASS | SKIPPED | SKIPPED | SKIPPED | SKIPPED | SKIPPED | +-------------------------------+--------------------+-------------------+-------------------------+------------------+-------------------+----------------------+ | Ubuntu 20.04 | PASS | SKIPPED | SKIPPED | SKIPPED | SKIPPED | SKIPPED | +-------------------------------+--------------------+-------------------+-------------------------+------------------+-------------------+----------------------+ | Red Hat Enterprise Linux 8.10 | PASS | SKIPPED | SKIPPED | SKIPPED | SKIPPED | SKIPPED | +-------------------------------+--------------------+-------------------+-------------------------+------------------+-------------------+----------------------+ | Fedora Linux 42 | PASS | PASS | SKIPPED | PASS | SKIPPED | SKIPPED | +-------------------------------+--------------------+-------------------+-------------------------+------------------+-------------------+----------------------+ | Alpine Linux 3.22.0 | PASS | SKIPPED | SKIPPED | SKIPPED | SKIPPED | SKIPPED | +-------------------------------+--------------------+-------------------+-------------------------+------------------+-------------------+----------------------+ | Debian GNU/Linux 12 | PASS | PASS | SKIPPED | SKIPPED | SKIPPED | SKIPPED | +-------------------------------+--------------------+-------------------+-------------------------+------------------+-------------------+----------------------+ | Ubuntu 22.04 | PASS | PASS | SKIPPED | SKIPPED | SKIPPED | SKIPPED | +-------------------------------+--------------------+-------------------+-------------------------+------------------+-------------------+----------------------+ | FreeBSD 14.2 | PASS | SKIPPED | SKIPPED | SKIPPED | SKIPPED | SKIPPED | +-------------------------------+--------------------+-------------------+-------------------------+------------------+-------------------+----------------------+ | Windows Server 2022 | SKIPPED | SKIPPED | PASS | SKIPPED | PASS | PASS | +-------------------------------+--------------------+-------------------+-------------------------+------------------+-------------------+----------------------+ CentOS Stream 9 Kernel: 5.15 Compiler: gcc gcc (GCC) 11.5.0 20240719 (Red Hat 11.5.0-11) Ubuntu 24.04 Kernel: 5.15 Compiler: gcc gcc (Ubuntu 13.3.0-6ubuntu2~24.04) 13.3.0 CentOS Stream 10 Kernel: 5.15 Compiler: gcc gcc (GCC) 14.2.1 20250110 (Red Hat 14.2.1-8) openSUSE Leap 15.6 Kernel: 5.15 Compiler: gcc gcc (SUSE Linux) 7.5.0 Red Hat Enterprise Linux 9.5 Kernel: 5.15 Compiler: gcc gcc (GCC) 11.5.0 20240719 (Red Hat 11.5.0-2) Ubuntu 20.04 Kernel: 5.15 Compiler: gcc gcc (Ubuntu 9.4.0-1ubuntu1~20.04.2) 9.4.0 Red Hat Enterprise Linux 8.10 Kernel: 5.15 Compiler: gcc gcc (GCC) 8.5.0 20210514 (Red Hat 8.5.0-22) Fedora Linux 42 Kernel: 5.15 Compiler: gcc gcc (GCC) 15.2.1 20250808 (Red Hat 15.2.1-1) Alpine Linux 3.22.0 Kernel: 5.15 Compiler: gcc gcc (Alpine 14.2.0) 14.2.0 Debian GNU/Linux 12 Kernel: 5.15 Compiler: gcc gcc (Debian 12.2.0-14+deb12u1) 12.2.0 Ubuntu 22.04 Kernel: 5.15 Compiler: gcc gcc (Ubuntu 11.4.0-1ubuntu1~22.04) 11.4.0 FreeBSD 14.2 Kernel: 14.2-RELEASE Compiler: clang 18.1.6 Windows Server 2022 Kernel: 10.0.20348.2031 Compiler: clang 15.0.7, gcc 14.1.0 (MinGW), and MSVC VS 19.39.33521 To view detailed results, visit: https://lab.dpdk.org/results/dashboard/tarballs/35034/ UNH-IOL DPDK Community Lab To manage your email subscriptions, visit: https://lab.dpdk.org/results/dashboard/preferences/subscriptions/