From mboxrd@z Thu Jan 1 00:00:00 1970 Return-Path: Received: from mails.dpdk.org (mails.dpdk.org [217.70.189.124]) by inbox.dpdk.org (Postfix) with ESMTP id 12D8148857 for ; Sun, 28 Sep 2025 20:10:32 +0200 (CEST) Received: from mails.dpdk.org (localhost [127.0.0.1]) by mails.dpdk.org (Postfix) with ESMTP id E96EB40144; Sun, 28 Sep 2025 20:10:31 +0200 (CEST) Received: from mail-qv1-f97.google.com (mail-qv1-f97.google.com [209.85.219.97]) by mails.dpdk.org (Postfix) with ESMTP id B9F8740144 for ; Sun, 28 Sep 2025 20:10:30 +0200 (CEST) Received: by mail-qv1-f97.google.com with SMTP id 6a1803df08f44-7957e2f6ba8so37502646d6.3 for ; Sun, 28 Sep 2025 11:10:30 -0700 (PDT) DKIM-Signature: v=1; a=rsa-sha256; c=relaxed/relaxed; d=iol.unh.edu; s=unh-iol; t=1759083030; x=1759687830; darn=dpdk.org; h=cc:to:from:subject:message-id:date:from:to:cc:subject:date :message-id:reply-to; bh=z7GpxqrTWE/Os9lzuODc7jlcfErqh/kBLGVIjQXHeAs=; b=NfSw7rhSShKoqjzEBD4QWPxK+kyE9wRA1V1jBDzz9q9ljVaE4CGgK3Wewadr9+KVws cNKplj6BbOREm4MEMssGSnkaf3j6Xn1VaP03vZirKPBwH832HVz/yY9XT0dPZhVEiX7l rH/ht2sihD6wRY1uPE/LDi2sIYjgjAy9N11mU= X-Google-DKIM-Signature: v=1; a=rsa-sha256; c=relaxed/relaxed; d=1e100.net; s=20230601; t=1759083030; x=1759687830; h=cc:to:from:subject:message-id:date:x-gm-message-state:from:to:cc :subject:date:message-id:reply-to; bh=z7GpxqrTWE/Os9lzuODc7jlcfErqh/kBLGVIjQXHeAs=; b=ffgbzuRqBG2dgSddxUFjtRLDtLtvYyGVSYOQ0IdirtkNKlHpx2LzxHPIE2Z9KMStMa GCil7RWnE+hZJZ7O4SYdeR2gb7GfU4x72ckOXwgjedIrLJg1/QYf8kkpU6oz/SuUwZ3H RxNIaev0aOG+gNan0fLp9Rfhpk0UUpqeVS/2znFIqHS8SIZ/jU4gMyuJwVXcMUcqVvd8 AtcsP3HC34FJpruBqnHq8gvkNNxJQ1EKxOI9aoyJqxjzNnrESR+YldgghsBh1+vBOpAq Qmjj29uX2q7lNhHe6nQRDCmG9qf90grtgLlrLh1hV1RhQwctQllcFxYz723oWTtgqU5J 7WiQ== X-Gm-Message-State: AOJu0YyBgGhfxMhRvrfYSpD+Em2mHCwKxoBuFdTtzG81vNliz+muznLX heQ2PacWgWr42pTxZ78T9FqGEPlqji2rss3up0JZYvxnbMFq2gMud3h9D1Lm1yJSmBY/BSzHkcq Z8/VlsjzWSEeF2hej2OOyKT05DdKaIjkrDNxeQE5k//BFvgt9mKxh3C9liQGe X-Gm-Gg: ASbGnctdYHMmeNezapOW2tDppFGi2TJDyczeCfNiu3MWve5277IkB4kX4tM4IUPvBvM nCTNNECz8RAVsNmpMg3Tl87cWgmYHpM4jPU6TDXAlhWRO5P8jQoiVGwGaZ8X56rsXe4wZ5puZrE 14EfcFIqVFCjagBEEF7xGm0K3yRhI+mdty9OOJJ5EHeM39VJydSMtLAyfFrXkJGJg44vX7XmiI3 MzTVp6E55u3MKDUDgCpObVtwFptKpK0BE/lxWohayzShmXgwHIYN92vlBe1BmgiKC7UoX9tsLEQ t2vzZDdZj36aeWPEQl6I1vtWM6XiJH9Onqk/45B/o6wLySC/tg== X-Google-Smtp-Source: AGHT+IFpl2O0EiGm257ZCo5sEtBR6tfI9q8Tysuk28wcrw9kwOFL781Aj2KHGQUAU0fjBsXXsqDNiA3X2xcQ X-Received: by 2002:ad4:5c41:0:b0:7fa:3202:5261 with SMTP id 6a1803df08f44-7fc3380b2c5mr202257506d6.12.1759083029986; Sun, 28 Sep 2025 11:10:29 -0700 (PDT) Received: from postal.iol.unh.edu (postal.iol.unh.edu. [2606:4100:3880:1234::84]) by smtp-relay.gmail.com with ESMTPS id 6a1803df08f44-801325cad0dsm6900816d6.9.2025.09.28.11.10.29 (version=TLS1_2 cipher=ECDHE-ECDSA-AES128-GCM-SHA256 bits=128/128); Sun, 28 Sep 2025 11:10:29 -0700 (PDT) X-Relaying-Domain: iol.unh.edu Date: Sun, 28 Sep 2025 11:10:29 -0700 (PDT) Message-ID: <68d97a15.050a0220.153112.955fSMTPIN_ADDED_MISSING@mx.google.com> Received: from [172.21.0.3] (unknown [172.18.0.240]) by postal.iol.unh.edu (Postfix) with ESMTP id 77DF46051830; Sun, 28 Sep 2025 14:10:29 -0400 (EDT) Subject: |SUCCESS| [GIT MASTER] 9e36adf88c49b437c4c5ffa46158e53d96bef82c From: dpdklab@iol.unh.edu To: Test Report Cc: dpdk-test-reports@iol.unh.edu, Jerin Jacob Content-Type: text/plain X-BeenThere: test-report@dpdk.org X-Mailman-Version: 2.1.29 Precedence: list List-Id: automatic DPDK test reports List-Unsubscribe: , List-Archive: List-Post: List-Help: List-Subscribe: , Errors-To: test-report-bounces@dpdk.org _Testing PASS_ Branch: dpdk-next-eventdev 9e36adf88c49b437c4c5ffa46158e53d96bef82c --> testing pass Upstream job id: Generic-DPDK-Compile-Meson#429442 Test environment and result as below: +-------------------------------+--------------------+------------------+-------------------+-------------------+-------------------------+----------------------+ | Environment | dpdk_meson_compile | dpdk_compile_ovs | dpdk_compile_spdk | dpdk_msvc_compile | dpdk_llvm_clang_compile | dpdk_mingw64_compile | +===============================+====================+==================+===================+===================+=========================+======================+ | Fedora Linux 42 | PASS | PASS | PASS | SKIPPED | SKIPPED | SKIPPED | +-------------------------------+--------------------+------------------+-------------------+-------------------+-------------------------+----------------------+ | CentOS Stream 10 | PASS | SKIPPED | SKIPPED | SKIPPED | SKIPPED | SKIPPED | +-------------------------------+--------------------+------------------+-------------------+-------------------+-------------------------+----------------------+ | Red Hat Enterprise Linux 9.5 | PASS | SKIPPED | SKIPPED | SKIPPED | SKIPPED | SKIPPED | +-------------------------------+--------------------+------------------+-------------------+-------------------+-------------------------+----------------------+ | FreeBSD 14.2 | PASS | SKIPPED | SKIPPED | SKIPPED | SKIPPED | SKIPPED | +-------------------------------+--------------------+------------------+-------------------+-------------------+-------------------------+----------------------+ | openSUSE Leap 15.6 | PASS | SKIPPED | SKIPPED | SKIPPED | SKIPPED | SKIPPED | +-------------------------------+--------------------+------------------+-------------------+-------------------+-------------------------+----------------------+ | Debian GNU/Linux 12 | PASS | SKIPPED | PASS | SKIPPED | SKIPPED | SKIPPED | +-------------------------------+--------------------+------------------+-------------------+-------------------+-------------------------+----------------------+ | Red Hat Enterprise Linux 8.10 | PASS | SKIPPED | SKIPPED | SKIPPED | SKIPPED | SKIPPED | +-------------------------------+--------------------+------------------+-------------------+-------------------+-------------------------+----------------------+ | Ubuntu 24.04 | PASS | PASS | PASS | SKIPPED | SKIPPED | SKIPPED | +-------------------------------+--------------------+------------------+-------------------+-------------------+-------------------------+----------------------+ | CentOS Stream 9 | PASS | SKIPPED | PASS | SKIPPED | SKIPPED | SKIPPED | +-------------------------------+--------------------+------------------+-------------------+-------------------+-------------------------+----------------------+ | Ubuntu 20.04 | PASS | SKIPPED | SKIPPED | SKIPPED | SKIPPED | SKIPPED | +-------------------------------+--------------------+------------------+-------------------+-------------------+-------------------------+----------------------+ | Alpine Linux 3.22.0 | PASS | SKIPPED | SKIPPED | SKIPPED | SKIPPED | SKIPPED | +-------------------------------+--------------------+------------------+-------------------+-------------------+-------------------------+----------------------+ | Ubuntu 22.04 | PASS | SKIPPED | PASS | SKIPPED | SKIPPED | SKIPPED | +-------------------------------+--------------------+------------------+-------------------+-------------------+-------------------------+----------------------+ | Windows Server 2022 | SKIPPED | SKIPPED | SKIPPED | PASS | PASS | PASS | +-------------------------------+--------------------+------------------+-------------------+-------------------+-------------------------+----------------------+ Fedora Linux 42 Kernel: 5.15 Compiler: gcc gcc (GCC) 15.2.1 20250808 (Red Hat 15.2.1-1) CentOS Stream 10 Kernel: 5.15 Compiler: gcc gcc (GCC) 14.2.1 20250110 (Red Hat 14.2.1-8) Red Hat Enterprise Linux 9.5 Kernel: 5.15 Compiler: gcc gcc (GCC) 11.5.0 20240719 (Red Hat 11.5.0-2) FreeBSD 14.2 Kernel: 14.2-RELEASE Compiler: clang 18.1.6 openSUSE Leap 15.6 Kernel: 5.15 Compiler: gcc gcc (SUSE Linux) 7.5.0 Debian GNU/Linux 12 Kernel: 5.15 Compiler: gcc gcc (Debian 12.2.0-14+deb12u1) 12.2.0 Red Hat Enterprise Linux 8.10 Kernel: 5.15 Compiler: gcc gcc (GCC) 8.5.0 20210514 (Red Hat 8.5.0-22) Ubuntu 24.04 Kernel: 5.15 Compiler: gcc gcc (Ubuntu 13.3.0-6ubuntu2~24.04) 13.3.0 CentOS Stream 9 Kernel: 5.15 Compiler: gcc gcc (GCC) 11.5.0 20240719 (Red Hat 11.5.0-11) Ubuntu 20.04 Kernel: 5.15 Compiler: gcc gcc (Ubuntu 9.4.0-1ubuntu1~20.04.2) 9.4.0 Alpine Linux 3.22.0 Kernel: 5.15 Compiler: gcc gcc (Alpine 14.2.0) 14.2.0 Ubuntu 22.04 Kernel: 5.15 Compiler: gcc gcc (Ubuntu 11.4.0-1ubuntu1~22.04) 11.4.0 Windows Server 2022 Kernel: 10.0.20348.2031 Compiler: clang 15.0.7, gcc 14.1.0 (MinGW), and MSVC VS 19.39.33521 To view detailed results, visit: https://lab.dpdk.org/results/dashboard/tarballs/35035/ UNH-IOL DPDK Community Lab To manage your email subscriptions, visit: https://lab.dpdk.org/results/dashboard/preferences/subscriptions/