From mboxrd@z Thu Jan 1 00:00:00 1970 Return-Path: Received: from mails.dpdk.org (mails.dpdk.org [217.70.189.124]) by inbox.dpdk.org (Postfix) with ESMTP id 0C12E48857 for ; Sun, 28 Sep 2025 20:10:46 +0200 (CEST) Received: from mails.dpdk.org (localhost [127.0.0.1]) by mails.dpdk.org (Postfix) with ESMTP id 0769F40144; Sun, 28 Sep 2025 20:10:46 +0200 (CEST) Received: from mail-pg1-f226.google.com (mail-pg1-f226.google.com [209.85.215.226]) by mails.dpdk.org (Postfix) with ESMTP id 1C30740144 for ; Sun, 28 Sep 2025 20:10:44 +0200 (CEST) Received: by mail-pg1-f226.google.com with SMTP id 41be03b00d2f7-b593def09e3so1068487a12.2 for ; Sun, 28 Sep 2025 11:10:44 -0700 (PDT) DKIM-Signature: v=1; a=rsa-sha256; c=relaxed/relaxed; d=iol.unh.edu; s=unh-iol; t=1759083043; x=1759687843; darn=dpdk.org; h=cc:to:from:subject:message-id:date:from:to:cc:subject:date :message-id:reply-to; bh=4UzUxIKXyOjjhp9nsgnHh1htv7IkI4jvwhGwt8GlqE8=; b=OweoOz2PbWU98XFI20dr4KB3u7YqoJLdNmVRSahh4rcNBorIb5f+MpGxAWtYbF1V+K AC5g7hVgd1JzeucWeH08GCCcR4stq21uoyB9h56UnQTSrXm9UPdfXjkmnbfSzzZuGkxR L72Uv8FbMQo8x5laWwNe7OolNbaJYeGyDnN7U= X-Google-DKIM-Signature: v=1; a=rsa-sha256; c=relaxed/relaxed; d=1e100.net; s=20230601; t=1759083043; x=1759687843; h=cc:to:from:subject:message-id:date:x-gm-message-state:from:to:cc :subject:date:message-id:reply-to; bh=4UzUxIKXyOjjhp9nsgnHh1htv7IkI4jvwhGwt8GlqE8=; b=dv6tR6vhflLgZ7A72WoqNMV/YcMmcN+plCStxAHxcQbIbnG4K+hfoTVMCza+3E3fbE pTfno8uSuPkrFsB/pvvkMjmxOTQoiSm3d1EbkbW0aEwrWkd4N1w8Tx9rFZar6SGFk+li CmoZhUVt/Al3xbujFj1IV6W4xj0WomWtrpF5r3ZQ9ZX+ztGaPtmsDH2l7QCFS1gOtl/+ 8snvQ4NzEsgfLK9MTLWoqFKh86ZryaaTk7OzqXENl+8zbr5GC0zuFcGJL0KpBxmuSgjD TwP3FdWYJWbJFrz+Co2Djq/sxilivXhM6aoRjjyfdMwZdVFr5mBvH4o+1qhXefoGPIMN y5kQ== X-Gm-Message-State: AOJu0YwFHo8/a83y7g5KnMZj2USVcZKxvnNighq23y72ExZXIuWkA0M+ AOONEFJw02HENyTVpe4CZ/DkkLhtBZXC4LZRt+I/WoznrNsmfXclqVRIEO5Ah2gznQEs5Pj/wFa DQ5rMcyaPcKXecyG9HNgUCtFCAVV3bx3RBalPzMNSyOFrGlTbXjNE83jtvEJI X-Gm-Gg: ASbGncsrPhkL7KOC7r2OSMChmUUL0xzgXke/A6Iau7vcNDeEOq233hUw6qmsk1hjdIN fBhx7EfmIWbLdZ1ULyuNhjBBBKTSkyyudeiuOXSQJ9NKNelbTTU9q+fK+TCV254smivOx/M3EVF uyZB7ummi2Pl60b/8CJUmhjwQO+o8lXYxPSwsxe0gqM7ZMnmAAt2tCFprYOKjQ8E6isR4LSgwSL bIn1N0HME+CB/uaQwZBYwv0IB5Bb1jro017jJoWhYH7M0CoLEIIOUnXgt325AcQp0r1kV2GD0ap xA4yPhq8Xg5DPukceeZOWS/8T9AKpV8khf0AiwJpzTKzkUbZrw== X-Google-Smtp-Source: AGHT+IHER9Hjxc3QoabdJVdy25xx02FLkYd9/GC0ck9F9iF137EffAvBhNVN0QbgZG4+cPqtcLkWa9dUH/8g X-Received: by 2002:a17:902:e805:b0:267:b6f9:2ce with SMTP id d9443c01a7336-27ed4a465cbmr148219085ad.41.1759083043232; Sun, 28 Sep 2025 11:10:43 -0700 (PDT) Received: from postal.iol.unh.edu (postal.iol.unh.edu. [2606:4100:3880:1234::84]) by smtp-relay.gmail.com with ESMTPS id d9443c01a7336-27ed6816df9sm8231315ad.60.2025.09.28.11.10.43 (version=TLS1_2 cipher=ECDHE-ECDSA-AES128-GCM-SHA256 bits=128/128); Sun, 28 Sep 2025 11:10:43 -0700 (PDT) X-Relaying-Domain: iol.unh.edu Date: Sun, 28 Sep 2025 11:10:43 -0700 (PDT) Message-ID: <68d97a23.170a0220.210e87.3f68SMTPIN_ADDED_MISSING@mx.google.com> Received: from [172.21.0.2] (unknown [172.18.0.240]) by postal.iol.unh.edu (Postfix) with ESMTP id 325826051830; Sun, 28 Sep 2025 14:10:42 -0400 (EDT) Subject: |SUCCESS| [GIT MASTER] 9e36adf88c49b437c4c5ffa46158e53d96bef82c From: dpdklab@iol.unh.edu To: Test Report Cc: dpdk-test-reports@iol.unh.edu, Jerin Jacob Content-Type: text/plain X-BeenThere: test-report@dpdk.org X-Mailman-Version: 2.1.29 Precedence: list List-Id: automatic DPDK test reports List-Unsubscribe: , List-Archive: List-Post: List-Help: List-Subscribe: , Errors-To: test-report-bounces@dpdk.org _Testing PASS_ Branch: dpdk-next-eventdev 9e36adf88c49b437c4c5ffa46158e53d96bef82c --> testing pass Upstream job id: Generic-Unit-Test-DPDK#375956 Test environment and result as below: +-------------------------------+----------------+ | Environment | dpdk_unit_test | +===============================+================+ | Fedora Linux 42 | PASS | +-------------------------------+----------------+ | Debian GNU/Linux 12 | PASS | +-------------------------------+----------------+ | Fedora Linux 41 | PASS | +-------------------------------+----------------+ | CentOS Stream 10 | PASS | +-------------------------------+----------------+ | Red Hat Enterprise Linux 8.10 | PASS | +-------------------------------+----------------+ | Fedora Linux 40 | PASS | +-------------------------------+----------------+ | Ubuntu 20.04 | PASS | +-------------------------------+----------------+ | CentOS Stream 9 | PASS | +-------------------------------+----------------+ | Ubuntu 22.04 | PASS | +-------------------------------+----------------+ | Ubuntu 24.04 | PASS | +-------------------------------+----------------+ | Red Hat Enterprise Linux 9.5 | PASS | +-------------------------------+----------------+ | Windows Server 2022 | PASS | +-------------------------------+----------------+ Fedora Linux 42 Kernel: 5.15 Compiler: clang gcc (GCC) 15.2.1 20250808 (Red Hat 15.2.1-1) Debian GNU/Linux 12 Kernel: 5.15 Compiler: gcc gcc (Debian 12.2.0-14+deb12u1) 12.2.0 Fedora Linux 41 Kernel: 5.15 Compiler: gcc gcc (GCC) 14.3.1 20250523 (Red Hat 14.3.1-1) CentOS Stream 10 Kernel: 5.15 Compiler: gcc gcc (GCC) 14.2.1 20250110 (Red Hat 14.2.1-8) Red Hat Enterprise Linux 8.10 Kernel: 5.15 Compiler: gcc gcc (GCC) 8.5.0 20210514 (Red Hat 8.5.0-22) Fedora Linux 40 Kernel: 5.15 Compiler: gcc gcc (GCC) 14.2.1 20240912 (Red Hat 14.2.1-3) Ubuntu 20.04 Kernel: 5.15 Compiler: gcc gcc (Ubuntu 9.4.0-1ubuntu1~20.04.2) 9.4.0 CentOS Stream 9 Kernel: 5.15 Compiler: gcc gcc (GCC) 11.5.0 20240719 (Red Hat 11.5.0-11) Ubuntu 22.04 Kernel: 5.15 Compiler: gcc gcc (Ubuntu 11.4.0-1ubuntu1~22.04) 11.4.0 Ubuntu 24.04 Kernel: 5.15 Compiler: gcc gcc (Ubuntu 13.3.0-6ubuntu2~24.04) 13.3.0 Red Hat Enterprise Linux 9.5 Kernel: 5.15 Compiler: gcc gcc (GCC) 11.5.0 20240719 (Red Hat 11.5.0-2) Windows Server 2022 Kernel: 10.0.20348.2031 Compiler: clang 15.0.7, gcc 14.1.0 (MinGW), and MSVC VS 19.39.33521 To view detailed results, visit: https://lab.dpdk.org/results/dashboard/tarballs/35035/ UNH-IOL DPDK Community Lab To manage your email subscriptions, visit: https://lab.dpdk.org/results/dashboard/preferences/subscriptions/