From mboxrd@z Thu Jan 1 00:00:00 1970 Return-Path: Received: from mails.dpdk.org (mails.dpdk.org [217.70.189.124]) by inbox.dpdk.org (Postfix) with ESMTP id 4446D48859 for ; Sun, 28 Sep 2025 22:47:50 +0200 (CEST) Received: from mails.dpdk.org (localhost [127.0.0.1]) by mails.dpdk.org (Postfix) with ESMTP id 1C5AD40144; Sun, 28 Sep 2025 22:47:50 +0200 (CEST) Received: from mail-qk1-f226.google.com (mail-qk1-f226.google.com [209.85.222.226]) by mails.dpdk.org (Postfix) with ESMTP id DC5EE40144 for ; Sun, 28 Sep 2025 22:47:48 +0200 (CEST) Received: by mail-qk1-f226.google.com with SMTP id af79cd13be357-858183680b4so529541285a.2 for ; Sun, 28 Sep 2025 13:47:48 -0700 (PDT) DKIM-Signature: v=1; a=rsa-sha256; c=relaxed/relaxed; d=iol.unh.edu; s=unh-iol; t=1759092468; x=1759697268; darn=dpdk.org; h=cc:to:from:subject:message-id:date:from:to:cc:subject:date :message-id:reply-to; bh=EfFpGW8yG4AlzifxthOMNuoJQKAoA2m3ENrg6UKqx54=; b=CxCtqlyytjSQMzeu2DCRWSSS0/G5U/xi2V9CHm8gQxjXkeUVseMc8hlqAoEiTUcPZJ dBHk8wxEQGOYL/pUDgHQA4r9Bve3XjTp78+k8dmdmpsfCE2akJsp1cppCe7mcC2H3m8l tiknI7KPqKARSTA/CK5kCka48FaxPAAOXjTks= X-Google-DKIM-Signature: v=1; a=rsa-sha256; c=relaxed/relaxed; d=1e100.net; s=20230601; t=1759092468; x=1759697268; h=cc:to:from:subject:message-id:date:x-gm-message-state:from:to:cc :subject:date:message-id:reply-to; bh=EfFpGW8yG4AlzifxthOMNuoJQKAoA2m3ENrg6UKqx54=; b=MTwND6xmE2ONBtgwdH6Iputkf5cYbCKizQzUUCS8WsuoIwy5lBf7vFUv68v8a5Q5RB EgQRax5oalBHLPiSJ5/aQM59ReRw1vwwXLYvcN21c/1pCmQLgUWx5AnqvscElLHkoNrp Nxi+QvSWDmq3hS3KyJ97JYpDS+ZQkSL/Pzj6EoNkMxe0303h7F86MJ1hAiQ8G5zhFtc5 tnZcfzU1n02G6nC8+m3WqrXeoe9Q12uaJCgYoLQQN66JhjdnB1YTHFpi+L79+hO9FcAq 2jV9tKwiIRJLvcuF0AFgSrSMUAYcDX8Du2K3z8uEJzIqxMWKU7Wwzokv+SfwHrAemRNG sBQw== X-Gm-Message-State: AOJu0YzMGyvwToptqJnz/gb5Mf8wbd6WqcTjs/IxOOwuDFfbXfSjRvi/ eHDLv6tvuTKTqzPnz/DnqD9dfjzriMocSn0buc/kzXVBLrZ4AHWOJ/Cfr2pXKF+ZvgwwrbW5AO4 XeJmQl6KuKcLxX2mMkzfasaoFx6StlHpxf0Fhgde1AVpX X-Gm-Gg: ASbGnctLiRMDxUiBYpRqXyjvKPPvR+MBo64EnQ2WP3PH/BAHOn/oP9/zXAAypi6uG47 1PfxWDguDXCeXPKPMqcKXlK4ZkV9HsYjebjxIWpt3jk7HXOkxtsCJWcott6ngU5luo8z6hFhMb8 +c66kaPSn2m8W4iMvP7Izeph6ioj6Ti/c+KjzQnp/CFA/trj20G9Bl+6SvQRXF0cZVRW5QIV4RZ tKTZKFcOtpaNWHb5QoMuS2g3BJ+Hrd9E58IiCjx+yfEw2iGUbsI/gkA6E9Ns414dH5tiQD3feD+ 3Aay5VvnoaBrd6gfn64Naxq2/OOPgLYkPUM2BgfB4JSSrpi6709FJolVWflp8iwljRrZtPjE X-Google-Smtp-Source: AGHT+IGbnNcHg1rOtfaADUQmzKuiFr3ME35qska7XEIlJGAuJABQqn3qsM3oNUrNs/X+FRcAZwa03WXmbwL6 X-Received: by 2002:a05:6214:d8c:b0:781:d761:5468 with SMTP id 6a1803df08f44-7fc3ca0b894mr244659916d6.39.1759092467991; Sun, 28 Sep 2025 13:47:47 -0700 (PDT) Received: from postal.iol.unh.edu (postal.iol.unh.edu. [132.177.123.84]) by smtp-relay.gmail.com with ESMTPS id 6a1803df08f44-8016193ce9fsm6545976d6.21.2025.09.28.13.47.47 (version=TLS1_2 cipher=ECDHE-ECDSA-AES128-GCM-SHA256 bits=128/128); Sun, 28 Sep 2025 13:47:47 -0700 (PDT) X-Relaying-Domain: iol.unh.edu Date: Sun, 28 Sep 2025 13:47:47 -0700 (PDT) Message-ID: <68d99ef3.050a0220.aa48d.7103SMTPIN_ADDED_MISSING@mx.google.com> Received: from [172.21.0.2] (unknown [172.18.0.240]) by postal.iol.unh.edu (Postfix) with ESMTP id B5FBB6051830; Sun, 28 Sep 2025 16:47:47 -0400 (EDT) Subject: |SUCCESS| [GIT MASTER] 4159ea62922ce41566c7bab44655ad78bee85458 From: dpdklab@iol.unh.edu To: Test Report Cc: dpdk-test-reports@iol.unh.edu, Akhil Goyal Content-Type: text/plain X-BeenThere: test-report@dpdk.org X-Mailman-Version: 2.1.29 Precedence: list List-Id: automatic DPDK test reports List-Unsubscribe: , List-Archive: List-Post: List-Help: List-Subscribe: , Errors-To: test-report-bounces@dpdk.org _Testing PASS_ Branch: dpdk-next-crypto 4159ea62922ce41566c7bab44655ad78bee85458 --> testing pass Upstream job id: Generic-Unit-Test-DPDK#375989 Test environment and result as below: +-------------------------------+----------------+ | Environment | dpdk_unit_test | +===============================+================+ | Fedora Linux 40 | PASS | +-------------------------------+----------------+ | Fedora Linux 41 | PASS | +-------------------------------+----------------+ | CentOS Stream 9 | PASS | +-------------------------------+----------------+ | Debian GNU/Linux 12 | PASS | +-------------------------------+----------------+ | Ubuntu 20.04 | PASS | +-------------------------------+----------------+ | Ubuntu 22.04 | PASS | +-------------------------------+----------------+ | Fedora Linux 42 | PASS | +-------------------------------+----------------+ | Red Hat Enterprise Linux 8.10 | PASS | +-------------------------------+----------------+ | CentOS Stream 10 | PASS | +-------------------------------+----------------+ | Red Hat Enterprise Linux 9.5 | PASS | +-------------------------------+----------------+ | Ubuntu 24.04 | PASS | +-------------------------------+----------------+ | Windows Server 2022 | PASS | +-------------------------------+----------------+ Fedora Linux 40 Kernel: 5.15 Compiler: clang gcc (GCC) 14.2.1 20240912 (Red Hat 14.2.1-3) Fedora Linux 41 Kernel: 5.15 Compiler: gcc gcc (GCC) 14.3.1 20250523 (Red Hat 14.3.1-1) CentOS Stream 9 Kernel: 5.15 Compiler: gcc gcc (GCC) 11.5.0 20240719 (Red Hat 11.5.0-11) Debian GNU/Linux 12 Kernel: 5.15 Compiler: gcc gcc (Debian 12.2.0-14+deb12u1) 12.2.0 Ubuntu 20.04 Kernel: 5.15 Compiler: gcc gcc (Ubuntu 9.4.0-1ubuntu1~20.04.2) 9.4.0 Ubuntu 22.04 Kernel: 5.15 Compiler: gcc gcc (Ubuntu 11.4.0-1ubuntu1~22.04) 11.4.0 Fedora Linux 42 Kernel: 5.15 Compiler: clang gcc (GCC) 15.2.1 20250808 (Red Hat 15.2.1-1) Red Hat Enterprise Linux 8.10 Kernel: 5.15 Compiler: gcc gcc (GCC) 8.5.0 20210514 (Red Hat 8.5.0-22) CentOS Stream 10 Kernel: 5.15 Compiler: gcc gcc (GCC) 14.2.1 20250110 (Red Hat 14.2.1-8) Red Hat Enterprise Linux 9.5 Kernel: 5.15 Compiler: gcc gcc (GCC) 11.5.0 20240719 (Red Hat 11.5.0-2) Ubuntu 24.04 Kernel: 5.15 Compiler: gcc gcc (Ubuntu 13.3.0-6ubuntu2~24.04) 13.3.0 Windows Server 2022 Kernel: 10.0.20348.2031 Compiler: clang 15.0.7, gcc 14.1.0 (MinGW), and MSVC VS 19.39.33521 To view detailed results, visit: https://lab.dpdk.org/results/dashboard/tarballs/35036/ UNH-IOL DPDK Community Lab To manage your email subscriptions, visit: https://lab.dpdk.org/results/dashboard/preferences/subscriptions/