From mboxrd@z Thu Jan 1 00:00:00 1970 Return-Path: Received: from mails.dpdk.org (mails.dpdk.org [217.70.189.124]) by inbox.dpdk.org (Postfix) with ESMTP id 9F0AE48859 for ; Sun, 28 Sep 2025 22:51:40 +0200 (CEST) Received: from mails.dpdk.org (localhost [127.0.0.1]) by mails.dpdk.org (Postfix) with ESMTP id 8786A40144; Sun, 28 Sep 2025 22:51:40 +0200 (CEST) Received: from mail-qv1-f98.google.com (mail-qv1-f98.google.com [209.85.219.98]) by mails.dpdk.org (Postfix) with ESMTP id 921A840144 for ; Sun, 28 Sep 2025 22:51:39 +0200 (CEST) Received: by mail-qv1-f98.google.com with SMTP id 6a1803df08f44-78defc1a2afso46017966d6.2 for ; Sun, 28 Sep 2025 13:51:39 -0700 (PDT) DKIM-Signature: v=1; a=rsa-sha256; c=relaxed/relaxed; d=iol.unh.edu; s=unh-iol; t=1759092699; x=1759697499; darn=dpdk.org; h=cc:to:from:subject:message-id:date:from:to:cc:subject:date :message-id:reply-to; bh=hDIckpubUFpm+MsSO4iNMyC53o0FGU7WiPiw0pQL33Q=; b=X859/kVVzvCxAqhza3Sz0kvwF0jpMa/30tZ1VtSLkpPXlP8+NkIEVjZRbqKYE5V30+ 7hLcCR2kg682WySmRxtwEqO2Ukzp1XVW9lS8oqhauWDu7lKBAxHiVHoD//b4x5IA3tRG Xv1I/3CNskUgoTTr5GonRbfH4TNnn3SER1d+4= X-Google-DKIM-Signature: v=1; a=rsa-sha256; c=relaxed/relaxed; d=1e100.net; s=20230601; t=1759092699; x=1759697499; h=cc:to:from:subject:message-id:date:x-gm-message-state:from:to:cc :subject:date:message-id:reply-to; bh=hDIckpubUFpm+MsSO4iNMyC53o0FGU7WiPiw0pQL33Q=; b=shh5NYqlVuUtTLVTUrzWFUNTi4qrZ7JwzZs6dAIJFt5feXopxPWsUAQM+oRIZNqi4Z kQPcqT7PbPM9QdHcloYarLdTzfVEAkEeEVSBPBti0V63NgFTsWWsqy1SxnCIRmDz9BNE WzJLr9iXKxpt6uundrQ3mx/q/hBdRIOZIMXgqD1kcmreF6zS4vF6JLDh1JSQSzWvH2by rxmH09qnXcx6AILCdM3J2x/g9xab/1si5upqo+7wXooa1a3Ic6Twtry+Um2HpGozlIBT ohVNrxASWPuExmRgbHQ7nQ5/bRQY2f0natrstGmHwPP+0Dg0GOecl/WoqoZEnrc0FrFH 9uYA== X-Gm-Message-State: AOJu0Yw6rg5G49VmDuIMiBk/V/QmEDbT1LSpxYa8hPsj3lhxd1ztTkk/ 9dlL0O0x4+NBw5GAkhYzyuUcmRCxnNMEVMep00VxprS+T6fp81zdrTwD44GtS8PGJ7x7/CCf35X fsXVBWSipJtDTdhnkVRyExwXHlxRxGo/yibEm0RsZOJ+SinSXknGjC6fvG9nP X-Gm-Gg: ASbGncvxzhzA75Iq+UBdKWhrMj5hCxl0l1RnYoL+GmhmmP/PoGAoBjimDJWRjzmrIWO Qv91uKQBrRkfE7Q9r5T0q45Z1X0OHk5RyS7EGT7Ucxeiskb1WDz4k/UGRlDd7l75XqOi+hhtV7E 2tRGeTxZ3EwPpBdmGgVfXYaJRWp4GMXPuWUyN9uEfvp4e0wNNeaOhucq8M631x3Njb0Avn4rafS iZbJLTTlIPEkobQCwiv+Jc8zYcWcgNWW+vjOv5+XnSrmefoi+g0WTO+vJ63a0EgwiykoJt0Mg+2 UGCaf1X8M4/YIEKrqNgiCM16Lhrxl3qUf2gYT8EBP16dtN+iAQ== X-Google-Smtp-Source: AGHT+IHfhJEC6MQQYsdNV8EqWz5jt2HbA+pLA1fwREgoNWjRHNHp4imiBtPLv0ISSP7ZnttfoYyQ1GeGvkzS X-Received: by 2002:a05:620a:3912:b0:849:d312:d6e5 with SMTP id af79cd13be357-85ae5c41aeamr2196668885a.33.1759092698879; Sun, 28 Sep 2025 13:51:38 -0700 (PDT) Received: from postal.iol.unh.edu (postal.iol.unh.edu. [2606:4100:3880:1234::84]) by smtp-relay.gmail.com with ESMTPS id d75a77b69052e-4db03da6910sm2140041cf.0.2025.09.28.13.51.38 (version=TLS1_2 cipher=ECDHE-ECDSA-AES128-GCM-SHA256 bits=128/128); Sun, 28 Sep 2025 13:51:38 -0700 (PDT) X-Relaying-Domain: iol.unh.edu Date: Sun, 28 Sep 2025 13:51:38 -0700 (PDT) Message-ID: <68d99fda.050a0220.b8dae.c3a0SMTPIN_ADDED_MISSING@mx.google.com> Received: from [172.21.0.2] (unknown [172.18.0.240]) by postal.iol.unh.edu (Postfix) with ESMTP id 632E460003F7; Sun, 28 Sep 2025 16:51:38 -0400 (EDT) Subject: |SUCCESS| [GIT MASTER] 4159ea62922ce41566c7bab44655ad78bee85458 From: dpdklab@iol.unh.edu To: Test Report Cc: dpdk-test-reports@iol.unh.edu, Akhil Goyal Content-Type: text/plain X-BeenThere: test-report@dpdk.org X-Mailman-Version: 2.1.29 Precedence: list List-Id: automatic DPDK test reports List-Unsubscribe: , List-Archive: List-Post: List-Help: List-Subscribe: , Errors-To: test-report-bounces@dpdk.org _Testing PASS_ Branch: dpdk-next-crypto 4159ea62922ce41566c7bab44655ad78bee85458 --> testing pass Upstream job id: Generic-DPDK-Compile-Meson#429483 Test environment and result as below: +-------------------------------+--------------------+-------------------+------------------+-------------------+-------------------------+----------------------+ | Environment | dpdk_meson_compile | dpdk_compile_spdk | dpdk_compile_ovs | dpdk_msvc_compile | dpdk_llvm_clang_compile | dpdk_mingw64_compile | +===============================+====================+===================+==================+===================+=========================+======================+ | CentOS Stream 9 | PASS | PASS | SKIPPED | SKIPPED | SKIPPED | SKIPPED | +-------------------------------+--------------------+-------------------+------------------+-------------------+-------------------------+----------------------+ | Fedora Linux 42 | PASS | PASS | PASS | SKIPPED | SKIPPED | SKIPPED | +-------------------------------+--------------------+-------------------+------------------+-------------------+-------------------------+----------------------+ | Debian GNU/Linux 12 | PASS | PASS | SKIPPED | SKIPPED | SKIPPED | SKIPPED | +-------------------------------+--------------------+-------------------+------------------+-------------------+-------------------------+----------------------+ | FreeBSD 14.2 | PASS | SKIPPED | SKIPPED | SKIPPED | SKIPPED | SKIPPED | +-------------------------------+--------------------+-------------------+------------------+-------------------+-------------------------+----------------------+ | Ubuntu 24.04 | PASS | PASS | PASS | SKIPPED | SKIPPED | SKIPPED | +-------------------------------+--------------------+-------------------+------------------+-------------------+-------------------------+----------------------+ | CentOS Stream 10 | PASS | SKIPPED | SKIPPED | SKIPPED | SKIPPED | SKIPPED | +-------------------------------+--------------------+-------------------+------------------+-------------------+-------------------------+----------------------+ | Red Hat Enterprise Linux 8.10 | PASS | SKIPPED | SKIPPED | SKIPPED | SKIPPED | SKIPPED | +-------------------------------+--------------------+-------------------+------------------+-------------------+-------------------------+----------------------+ | Ubuntu 20.04 | PASS | SKIPPED | SKIPPED | SKIPPED | SKIPPED | SKIPPED | +-------------------------------+--------------------+-------------------+------------------+-------------------+-------------------------+----------------------+ | Red Hat Enterprise Linux 9.5 | PASS | SKIPPED | SKIPPED | SKIPPED | SKIPPED | SKIPPED | +-------------------------------+--------------------+-------------------+------------------+-------------------+-------------------------+----------------------+ | openSUSE Leap 15.6 | PASS | SKIPPED | SKIPPED | SKIPPED | SKIPPED | SKIPPED | +-------------------------------+--------------------+-------------------+------------------+-------------------+-------------------------+----------------------+ | Alpine Linux 3.22.0 | PASS | SKIPPED | SKIPPED | SKIPPED | SKIPPED | SKIPPED | +-------------------------------+--------------------+-------------------+------------------+-------------------+-------------------------+----------------------+ | Ubuntu 22.04 | PASS | PASS | SKIPPED | SKIPPED | SKIPPED | SKIPPED | +-------------------------------+--------------------+-------------------+------------------+-------------------+-------------------------+----------------------+ | Windows Server 2022 | SKIPPED | SKIPPED | SKIPPED | PASS | PASS | PASS | +-------------------------------+--------------------+-------------------+------------------+-------------------+-------------------------+----------------------+ CentOS Stream 9 Kernel: 5.15 Compiler: gcc gcc (GCC) 11.5.0 20240719 (Red Hat 11.5.0-11) Fedora Linux 42 Kernel: 5.15 Compiler: gcc gcc (GCC) 15.2.1 20250808 (Red Hat 15.2.1-1) Debian GNU/Linux 12 Kernel: 5.15 Compiler: gcc gcc (Debian 12.2.0-14+deb12u1) 12.2.0 FreeBSD 14.2 Kernel: 14.2-RELEASE Compiler: clang 18.1.6 Ubuntu 24.04 Kernel: 5.15 Compiler: gcc gcc (Ubuntu 13.3.0-6ubuntu2~24.04) 13.3.0 CentOS Stream 10 Kernel: 5.15 Compiler: gcc gcc (GCC) 14.2.1 20250110 (Red Hat 14.2.1-8) Red Hat Enterprise Linux 8.10 Kernel: 5.15 Compiler: gcc gcc (GCC) 8.5.0 20210514 (Red Hat 8.5.0-22) Ubuntu 20.04 Kernel: 4.19 Compiler: gcc gcc (Ubuntu 9.4.0-1ubuntu1~20.04.2) 9.4.0 Red Hat Enterprise Linux 9.5 Kernel: 5.15 Compiler: gcc gcc (GCC) 11.5.0 20240719 (Red Hat 11.5.0-2) openSUSE Leap 15.6 Kernel: 5.15 Compiler: gcc gcc (SUSE Linux) 7.5.0 Alpine Linux 3.22.0 Kernel: 5.15 Compiler: gcc gcc (Alpine 14.2.0) 14.2.0 Ubuntu 22.04 Kernel: 5.15 Compiler: gcc gcc (Ubuntu 11.4.0-1ubuntu1~22.04) 11.4.0 Windows Server 2022 Kernel: 10.0.20348.2031 Compiler: clang 15.0.7, gcc 14.1.0 (MinGW), and MSVC VS 19.39.33521 To view detailed results, visit: https://lab.dpdk.org/results/dashboard/tarballs/35036/ UNH-IOL DPDK Community Lab To manage your email subscriptions, visit: https://lab.dpdk.org/results/dashboard/preferences/subscriptions/