From mboxrd@z Thu Jan 1 00:00:00 1970 Return-Path: Received: from mails.dpdk.org (mails.dpdk.org [217.70.189.124]) by inbox.dpdk.org (Postfix) with ESMTP id 2E0DC4885B for ; Mon, 29 Sep 2025 07:11:28 +0200 (CEST) Received: from mails.dpdk.org (localhost [127.0.0.1]) by mails.dpdk.org (Postfix) with ESMTP id 295F3402D6; Mon, 29 Sep 2025 07:11:28 +0200 (CEST) Received: from mail-pl1-f228.google.com (mail-pl1-f228.google.com [209.85.214.228]) by mails.dpdk.org (Postfix) with ESMTP id EF82A402D6 for ; Mon, 29 Sep 2025 07:11:26 +0200 (CEST) Received: by mail-pl1-f228.google.com with SMTP id d9443c01a7336-2681660d604so39494105ad.0 for ; Sun, 28 Sep 2025 22:11:26 -0700 (PDT) DKIM-Signature: v=1; a=rsa-sha256; c=relaxed/relaxed; d=iol.unh.edu; s=unh-iol; t=1759122686; x=1759727486; darn=dpdk.org; h=cc:to:from:subject:message-id:date:from:to:cc:subject:date :message-id:reply-to; bh=sh9waU4xK0ZpUb2UPLfxWd/Tj9H9mmNRrO+brLXAbG4=; b=GPonvmSKSq4GGZxyF6AGUCTp8YTktdIRXwgmvB0pdcyOu/MRBip597/yIc43xg53Yr FZkQWNEvlCWPP9RvvsDwPOR2m8QSeT8gERecM4P5oHzX2Ba9Mjnr7KuAQeHiGof6VY6a uJDSKy18+QdomRjDTqGQr3uUcjS5TIbckpr5s= X-Google-DKIM-Signature: v=1; a=rsa-sha256; c=relaxed/relaxed; d=1e100.net; s=20230601; t=1759122686; x=1759727486; h=cc:to:from:subject:message-id:date:x-gm-message-state:from:to:cc :subject:date:message-id:reply-to; bh=sh9waU4xK0ZpUb2UPLfxWd/Tj9H9mmNRrO+brLXAbG4=; b=Go+L1M9+IjoWa9aJ8uv1EPis8bEeqcVTsnp9Uosf9tk50rkgg7HZ/8zA8LZbSMWnWb zobGiF6Dv3T8N4n1wXL7sFz+wklv5qRK5OvuHv07m93HLH+PXPLta45kZ39UR+lszyL3 QiYhTLc1+qhsY3KQ8wawHRhHou8BQIORtsYfRoioy3vpMC+HePhxRU1PELf7AO4lX4YK cSbPz+zwSrgrtzt99C/Tg029HxfCY1x5SuBa/49Ju7MM2VwflZ2iWsc6rK3fwXDI1+YG IaPzfCQJRvpHux8WYCw/PCQpKjdryLAMg9ZzgMcnmYKH985r27e9hw17EvmInTk+3cBN 7JlA== X-Gm-Message-State: AOJu0Yw34HH+tMIClHRkw7qOgDg3EFuMY2/eyzrIxulQuAMzgQFu5m/a cXhW1nA+cnBRLvsQQipm+jpUEhBroDsNsFJsk/iQvMOIImO8G8JwsmCmKXmFn108QJRj6bHNQNm H5ryde6lnfOFBHFHy4/PRi1ep7c5Y/5pTjFTNsuY9mr7Uj4uKXhzA X-Gm-Gg: ASbGncuxsU5HygbX0pYw0P2mdZdPwvG71ugMfwJk3Q2+9umAQMoBoQssqMlDUPJBMth A7JRAMaVMhqYur2o3Dka25lnbMbfwDhjIADbg+No2dUlzhImD27NqJGhyL/eg6v7yei8dxLuuEa 4T7CW3XOwEDcNw9M5fT+U3206sZ/T9WEEvoMnZRJIL7l6kkz19faRDpGwRZZVHx9SYLnKDNV+e3 vgRjqmrhVp9881jED34iAzyGCvYyrDBsr/b6LalrR+7z0LIl1d3FmmlZQu9R/owQdMvz2Y4Dnve UPsvKDsGhb1ZwCTTM5D2F6wyqFl9fYlKkEREWU5LZtSOgAndRA== X-Google-Smtp-Source: AGHT+IGi/31wnNSkMLc+jYNgdWyLzDke/khAoIVnGg1Wvp3RX3nOPZBlstGS3Qyxy/0vFPUbjLECdFNygHRf X-Received: by 2002:a17:902:d484:b0:278:aaa9:c35e with SMTP id d9443c01a7336-27ed49b9b57mr171747085ad.7.1759122686122; Sun, 28 Sep 2025 22:11:26 -0700 (PDT) Received: from postal.iol.unh.edu (postal.iol.unh.edu. [2606:4100:3880:1234::84]) by smtp-relay.gmail.com with ESMTPS id d9443c01a7336-27ed66dd44fsm9039915ad.18.2025.09.28.22.11.26 (version=TLS1_2 cipher=ECDHE-ECDSA-AES128-GCM-SHA256 bits=128/128); Sun, 28 Sep 2025 22:11:26 -0700 (PDT) X-Relaying-Domain: iol.unh.edu Date: Sun, 28 Sep 2025 22:11:26 -0700 (PDT) Message-ID: <68da14fe.170a0220.329672.760bSMTPIN_ADDED_MISSING@mx.google.com> Received: from [172.21.0.2] (unknown [172.18.0.240]) by postal.iol.unh.edu (Postfix) with ESMTP id 5C0D16051830; Mon, 29 Sep 2025 01:11:25 -0400 (EDT) Subject: |SUCCESS| [GIT MASTER] b287e404643aeab5bb5db084c142789df187844e From: dpdklab@iol.unh.edu To: Test Report Cc: dpdk-test-reports@iol.unh.edu, Xueming Li , Christian Ehrhardt , Kevin Traynor , Luca Boccassi Content-Type: text/plain X-BeenThere: test-report@dpdk.org X-Mailman-Version: 2.1.29 Precedence: list List-Id: automatic DPDK test reports List-Unsubscribe: , List-Archive: List-Post: List-Help: List-Subscribe: , Errors-To: test-report-bounces@dpdk.org _Testing PASS_ Branch: tags/v24.11 b287e404643aeab5bb5db084c142789df187844e --> testing pass Upstream job id: Generic-Unit-Test-DPDK#376002 Test environment and result as below: +-------------------------------+----------------+ | Environment | dpdk_unit_test | +===============================+================+ | Debian GNU/Linux 12 | PASS | +-------------------------------+----------------+ | Fedora Linux 41 | PASS | +-------------------------------+----------------+ | Ubuntu 24.04 | PASS | +-------------------------------+----------------+ | Fedora Linux 40 | PASS | +-------------------------------+----------------+ | Ubuntu 20.04 | PASS | +-------------------------------+----------------+ | Red Hat Enterprise Linux 9.5 | PASS | +-------------------------------+----------------+ | Fedora Linux 42 | PASS | +-------------------------------+----------------+ | CentOS Stream 9 | PASS | +-------------------------------+----------------+ | CentOS Stream 10 | PASS | +-------------------------------+----------------+ | Red Hat Enterprise Linux 8.10 | PASS | +-------------------------------+----------------+ | Ubuntu 22.04 | PASS | +-------------------------------+----------------+ | Windows Server 2022 | PASS | +-------------------------------+----------------+ Debian GNU/Linux 12 Kernel: 5.15 Compiler: gcc gcc (Debian 12.2.0-14+deb12u1) 12.2.0 Fedora Linux 41 Kernel: 5.15 Compiler: clang gcc (GCC) 14.3.1 20250523 (Red Hat 14.3.1-1) Ubuntu 24.04 Kernel: 5.15 Compiler: gcc gcc (Ubuntu 13.3.0-6ubuntu2~24.04) 13.3.0 Fedora Linux 40 Kernel: 5.15 Compiler: gcc gcc (GCC) 14.2.1 20240912 (Red Hat 14.2.1-3) Ubuntu 20.04 Kernel: 5.15 Compiler: gcc gcc (Ubuntu 9.4.0-1ubuntu1~20.04.2) 9.4.0 Red Hat Enterprise Linux 9.5 Kernel: 5.15 Compiler: gcc gcc (GCC) 11.5.0 20240719 (Red Hat 11.5.0-2) Fedora Linux 42 Kernel: 5.15 Compiler: gcc gcc (GCC) 15.2.1 20250808 (Red Hat 15.2.1-1) CentOS Stream 9 Kernel: 5.15 Compiler: gcc gcc (GCC) 11.5.0 20240719 (Red Hat 11.5.0-11) CentOS Stream 10 Kernel: 5.15 Compiler: gcc gcc (GCC) 14.2.1 20250110 (Red Hat 14.2.1-8) Red Hat Enterprise Linux 8.10 Kernel: 5.15 Compiler: gcc gcc (GCC) 8.5.0 20210514 (Red Hat 8.5.0-22) Ubuntu 22.04 Kernel: 5.15 Compiler: gcc gcc (Ubuntu 11.4.0-1ubuntu1~22.04) 11.4.0 Windows Server 2022 Kernel: 10.0.20348.2031 Compiler: clang 15.0.7, gcc 14.1.0 (MinGW), and MSVC VS 19.39.33521 To view detailed results, visit: https://lab.dpdk.org/results/dashboard/tarballs/35038/ UNH-IOL DPDK Community Lab To manage your email subscriptions, visit: https://lab.dpdk.org/results/dashboard/preferences/subscriptions/