From mboxrd@z Thu Jan 1 00:00:00 1970 Return-Path: Received: from mails.dpdk.org (mails.dpdk.org [217.70.189.124]) by inbox.dpdk.org (Postfix) with ESMTP id 060B74885F for ; Mon, 29 Sep 2025 08:06:17 +0200 (CEST) Received: from mails.dpdk.org (localhost [127.0.0.1]) by mails.dpdk.org (Postfix) with ESMTP id E51B7402D6; Mon, 29 Sep 2025 08:06:16 +0200 (CEST) Received: from mail-pg1-f228.google.com (mail-pg1-f228.google.com [209.85.215.228]) by mails.dpdk.org (Postfix) with ESMTP id C44EC402D6 for ; Mon, 29 Sep 2025 08:06:15 +0200 (CEST) Received: by mail-pg1-f228.google.com with SMTP id 41be03b00d2f7-b54a74f9150so3658375a12.0 for ; Sun, 28 Sep 2025 23:06:15 -0700 (PDT) DKIM-Signature: v=1; a=rsa-sha256; c=relaxed/relaxed; d=iol.unh.edu; s=unh-iol; t=1759125975; x=1759730775; darn=dpdk.org; h=cc:to:from:subject:message-id:date:from:to:cc:subject:date :message-id:reply-to; bh=0BTF6kmJ0hhCxYfeAVStmoBZXkTLY9fK2BIfmzAp9UI=; b=bYRUgznj65LJ1n7loSiihj/5lmKaOKDjddvCbaUb6qFd8EPkvR4hFcsFEIcJBhCOLH n3MP4MFoLDssMPhTspNkRxmiCn/JT21ml2H/jLAhrtnOqEjPXZLBb53VxoEKMtagq/fJ zQycAh2gV4irs+yEd0isQANXRyeHjzmcokxLk= X-Google-DKIM-Signature: v=1; a=rsa-sha256; c=relaxed/relaxed; d=1e100.net; s=20230601; t=1759125975; x=1759730775; h=cc:to:from:subject:message-id:date:x-gm-message-state:from:to:cc :subject:date:message-id:reply-to; bh=0BTF6kmJ0hhCxYfeAVStmoBZXkTLY9fK2BIfmzAp9UI=; b=JyOtG/YKtA1aMvTqSV+MNA4oEvxynlHbu7HdkiM67mZ1LtQObZ/wdmEaU5EXaXPG4X rHFEq2uHcOdamPzMIMXIH6mpw9t4EVWbUEZydGGyNW7UNQGk3q1nLNeHZaEq+k0nNkaN 8xtzOsKGf4cPOdO1Xg6fdC4yy3EZnFFZZU7jUGC4AIpf5z8Kw4ITtHblCKh0FNJGE38m 2m+sPh8YVMLXlS26/IWVZJ4yIq3eQ57TfR0qnMNa2bfmwWutqPL/CH02n7bedKcUbPIw zM/uCkDMW5q6GTtpmKdtqwBmpgDdNINJFBLn5eXCDCj8ItnJndrxh+G+TYkKMgJneVWi M8vQ== X-Gm-Message-State: AOJu0YzXa3YpFw7CkmyRx60FkF81D0uYKeIWISwvT9r0L1wuOtL6lfyg Uod5pOnurgOue6IKxP9I+mlEJmuobXGax5yJPfhv9QfAh/xoNQ7MO1lm+M6w6gwFLrrO1+X8vn6 JOTUDvtvP/GerJDdAjTulniBQJSQytPzHghJ+ X-Gm-Gg: ASbGnctwiUhDlcu+9WHkyA92x9/0z2EWbNpc+ADiE8bvwLKSs8OPYpd9vbhUkJX/6GQ jEJvpR6GAUBDK68dBtOos/WRaONKlkvbDTCAKpZfmi+2lr0Rn0pkAaxVL/MVq93satgOFqHyO25 CZEIoj/pvAC87z75wMvCMXIxuMf3s8Wz3dNHshHgQofJRGeo7X8y/VwNy4OPfKdTwBKZUHAWjok SVZardujjbZqzj1wbi3ZyBQ0QxdaCNZevVUmxQl0IR9e9HcLclDPU5UVyQrGbL3beTwqA/JPZRV PUWOJWxvLoJXO+pskuWKCvrlHeJL5STE1+MCW0t4Sv18qhwI1riLbXTOl19IcW82Fqvvxqup X-Google-Smtp-Source: AGHT+IHYFZatOFcoe+HFYzfVj/ZjuySlAF2b8aZnhHqx6M2ahDAmOwvp8XPEmY8/GDCyrSmW42cSFCWyUaH1 X-Received: by 2002:a17:903:b47:b0:248:a4e2:e6d6 with SMTP id d9443c01a7336-27ed4a91a05mr161298075ad.39.1759125974740; Sun, 28 Sep 2025 23:06:14 -0700 (PDT) Received: from postal.iol.unh.edu (postal.iol.unh.edu. [132.177.123.84]) by smtp-relay.gmail.com with ESMTPS id d2e1a72fcca58-781025307a9sm603061b3a.8.2025.09.28.23.06.14 (version=TLS1_2 cipher=ECDHE-ECDSA-AES128-GCM-SHA256 bits=128/128); Sun, 28 Sep 2025 23:06:14 -0700 (PDT) X-Relaying-Domain: iol.unh.edu Date: Sun, 28 Sep 2025 23:06:14 -0700 (PDT) Message-ID: <68da21d6.050a0220.22aefc.4b4eSMTPIN_ADDED_MISSING@mx.google.com> Received: from [172.21.0.4] (unknown [172.18.0.240]) by postal.iol.unh.edu (Postfix) with ESMTP id 926656051830; Mon, 29 Sep 2025 02:06:13 -0400 (EDT) Subject: |SUCCESS| [GIT MASTER] b287e404643aeab5bb5db084c142789df187844e From: dpdklab@iol.unh.edu To: Test Report Cc: dpdk-test-reports@iol.unh.edu, Xueming Li , Christian Ehrhardt , Kevin Traynor , Luca Boccassi Content-Type: text/plain X-BeenThere: test-report@dpdk.org X-Mailman-Version: 2.1.29 Precedence: list List-Id: automatic DPDK test reports List-Unsubscribe: , List-Archive: List-Post: List-Help: List-Subscribe: , Errors-To: test-report-bounces@dpdk.org _Testing PASS_ Branch: tags/v24.11 b287e404643aeab5bb5db084c142789df187844e --> testing pass Upstream job id: Generic-DPDK-Compile-Meson#429487 Test environment and result as below: +-------------------------------+--------------------+-------------------+-------------------------+-------------------+------------------+----------------------+ | Environment | dpdk_meson_compile | dpdk_msvc_compile | dpdk_llvm_clang_compile | dpdk_compile_spdk | dpdk_compile_ovs | dpdk_mingw64_compile | +===============================+====================+===================+=========================+===================+==================+======================+ | FreeBSD 14.2 | PASS | SKIPPED | SKIPPED | SKIPPED | SKIPPED | SKIPPED | +-------------------------------+--------------------+-------------------+-------------------------+-------------------+------------------+----------------------+ | Ubuntu 20.04 | PASS | SKIPPED | SKIPPED | SKIPPED | SKIPPED | SKIPPED | +-------------------------------+--------------------+-------------------+-------------------------+-------------------+------------------+----------------------+ | Red Hat Enterprise Linux 9.5 | PASS | SKIPPED | SKIPPED | SKIPPED | SKIPPED | SKIPPED | +-------------------------------+--------------------+-------------------+-------------------------+-------------------+------------------+----------------------+ | CentOS Stream 10 | PASS | SKIPPED | SKIPPED | SKIPPED | SKIPPED | SKIPPED | +-------------------------------+--------------------+-------------------+-------------------------+-------------------+------------------+----------------------+ | Red Hat Enterprise Linux 8.10 | PASS | SKIPPED | SKIPPED | SKIPPED | SKIPPED | SKIPPED | +-------------------------------+--------------------+-------------------+-------------------------+-------------------+------------------+----------------------+ | openSUSE Leap 15.6 | PASS | SKIPPED | SKIPPED | SKIPPED | SKIPPED | SKIPPED | +-------------------------------+--------------------+-------------------+-------------------------+-------------------+------------------+----------------------+ | Ubuntu 22.04 | PASS | SKIPPED | SKIPPED | PASS | SKIPPED | SKIPPED | +-------------------------------+--------------------+-------------------+-------------------------+-------------------+------------------+----------------------+ | Ubuntu 24.04 | PASS | SKIPPED | SKIPPED | PASS | PASS | SKIPPED | +-------------------------------+--------------------+-------------------+-------------------------+-------------------+------------------+----------------------+ | Fedora Linux 42 | PASS | SKIPPED | SKIPPED | PASS | PASS | SKIPPED | +-------------------------------+--------------------+-------------------+-------------------------+-------------------+------------------+----------------------+ | Debian GNU/Linux 12 | PASS | SKIPPED | SKIPPED | PASS | SKIPPED | SKIPPED | +-------------------------------+--------------------+-------------------+-------------------------+-------------------+------------------+----------------------+ | Alpine Linux 3.22.0 | PASS | SKIPPED | SKIPPED | SKIPPED | SKIPPED | SKIPPED | +-------------------------------+--------------------+-------------------+-------------------------+-------------------+------------------+----------------------+ | CentOS Stream 9 | PASS | SKIPPED | SKIPPED | PASS | SKIPPED | SKIPPED | +-------------------------------+--------------------+-------------------+-------------------------+-------------------+------------------+----------------------+ | Windows Server 2022 | SKIPPED | PASS | PASS | SKIPPED | SKIPPED | PASS | +-------------------------------+--------------------+-------------------+-------------------------+-------------------+------------------+----------------------+ FreeBSD 14.2 Kernel: 14.2-RELEASE Compiler: clang 18.1.6 Ubuntu 20.04 Kernel: 4.19 Compiler: gcc gcc (Ubuntu 9.4.0-1ubuntu1~20.04.2) 9.4.0 Red Hat Enterprise Linux 9.5 Kernel: 5.15 Compiler: gcc gcc (GCC) 11.5.0 20240719 (Red Hat 11.5.0-2) CentOS Stream 10 Kernel: 5.15 Compiler: gcc gcc (GCC) 14.2.1 20250110 (Red Hat 14.2.1-8) Red Hat Enterprise Linux 8.10 Kernel: 5.15 Compiler: gcc gcc (GCC) 8.5.0 20210514 (Red Hat 8.5.0-22) openSUSE Leap 15.6 Kernel: 5.15 Compiler: gcc gcc (SUSE Linux) 7.5.0 Ubuntu 22.04 Kernel: 5.15 Compiler: gcc gcc (Ubuntu 11.4.0-1ubuntu1~22.04) 11.4.0 Ubuntu 24.04 Kernel: 5.15 Compiler: gcc gcc (Ubuntu 13.3.0-6ubuntu2~24.04) 13.3.0 Fedora Linux 42 Kernel: 5.15 Compiler: clang gcc (GCC) 15.2.1 20250808 (Red Hat 15.2.1-1) Debian GNU/Linux 12 Kernel: 5.15 Compiler: gcc gcc (Debian 12.2.0-14+deb12u1) 12.2.0 Alpine Linux 3.22.0 Kernel: 5.15 Compiler: gcc gcc (Alpine 14.2.0) 14.2.0 CentOS Stream 9 Kernel: 5.15 Compiler: gcc gcc (GCC) 11.5.0 20240719 (Red Hat 11.5.0-11) Windows Server 2022 Kernel: 10.0.20348.2031 Compiler: clang 15.0.7, gcc 14.1.0 (MinGW), and MSVC VS 19.39.33521 To view detailed results, visit: https://lab.dpdk.org/results/dashboard/tarballs/35038/ UNH-IOL DPDK Community Lab To manage your email subscriptions, visit: https://lab.dpdk.org/results/dashboard/preferences/subscriptions/