From mboxrd@z Thu Jan 1 00:00:00 1970 Return-Path: Received: from mails.dpdk.org (mails.dpdk.org [217.70.189.124]) by inbox.dpdk.org (Postfix) with ESMTP id 147DE4885F for ; Mon, 29 Sep 2025 08:06:30 +0200 (CEST) Received: from mails.dpdk.org (localhost [127.0.0.1]) by mails.dpdk.org (Postfix) with ESMTP id 0E863402D6; Mon, 29 Sep 2025 08:06:30 +0200 (CEST) Received: from mail-io1-f99.google.com (mail-io1-f99.google.com [209.85.166.99]) by mails.dpdk.org (Postfix) with ESMTP id 75AF0402D6 for ; Mon, 29 Sep 2025 08:06:24 +0200 (CEST) Received: by mail-io1-f99.google.com with SMTP id ca18e2360f4ac-90a0b3ddebeso143804739f.0 for ; Sun, 28 Sep 2025 23:06:24 -0700 (PDT) DKIM-Signature: v=1; a=rsa-sha256; c=relaxed/relaxed; d=iol.unh.edu; s=unh-iol; t=1759125984; x=1759730784; darn=dpdk.org; h=cc:to:from:subject:message-id:date:from:to:cc:subject:date :message-id:reply-to; bh=YvEwUiArOr6nyZqW0MM1S1T83Ta/kP7cGwPTQeWaiBQ=; b=IMjBrkZYtI6LbX/P/ZFFLmS4FdFBxTvug6lgGr2bTAR4taG65YD+G+1wQMGv32f/az 36KeCDda/zrQxOibfoIOVRN1doG0HVKeRb3OCgsySz/erFN+1sGILFgEJGHerase63Gi S7DP7uF2KilCjexXW2nRIzSBCoiZlLx0BgtrA= X-Google-DKIM-Signature: v=1; a=rsa-sha256; c=relaxed/relaxed; d=1e100.net; s=20230601; t=1759125984; x=1759730784; h=cc:to:from:subject:message-id:date:x-gm-message-state:from:to:cc :subject:date:message-id:reply-to; bh=YvEwUiArOr6nyZqW0MM1S1T83Ta/kP7cGwPTQeWaiBQ=; b=MdIL3o0eppNe6Nio2+rMNwJlKScsWtTo6qdqyVW3YjOtKKT9KauSOebE3r0IHDKdjq lwFUNc10TLNkLQUcPD6CrjroqgXp9hz/HgcqBxvyvqAuY4Rbpti08Ior/+UrY/pIlpzv E3J8Vc4d7jt3c8DfR3tr+zM1rjXf6OieRcaNVGpw4V1PhXRcSlWTgrcfx1Xagfg3o4+T YEVPHLLFuL1IV4ALZ0TAAQ89NBdDqk2BSSm9uS0QUvHsTnI9EmA0nKxUgSeN19APpS+Y ZvP4+NM7O2dWngxt/8z8c3GzDWJ/qfqADevU7ZipE4WeRNDPCDBp05qO2R52c9rAiA5C 51Fw== X-Gm-Message-State: AOJu0Yx+jzZLgtnMwZJyV7Lo72k+ZkRf1d4YzDzbgR500O6/8sZJAtOo owSfkkSsan0K4lN6hjh2k20tXJlmhcdSozT89W2K6wCcYrkbWhL8zCauc5uSg8pcjBXw8i8KQkf Bh+yFU+sFpvJuL/gg8XT+cwv/v+77qYqyPIiCubnsKxYT2AmW6QqD X-Gm-Gg: ASbGnct56ySc/vdKyh3wj7jZ9N4iUagsflS805ZWHcicWpRUO9BlRqfS5OoFxnXYUWz 8Q0IrMa7aEBo7hE6bgYJuimoLSplC8fzepzor8fhWEEzd3JENmLfEg1mph61/h6mhLpEEf219E+ h4eSYXVJXqvp+PijpK7aRuRTTSg++78wsNSCcUzOYn84EozrauzwU6oJJjtQISmeaVUvzGsiuIk B1/zbsZoztt49K2RFwLta2f3nQlDdY33f5IXr1bvncDj2I/Y94n/MPS5w5onq0sR4jkcQACMB8I rf88E0yq3zy7LLVtqnmd7/Aj0wH0vwe9EzyDF3sHFPBrI2mH9Q== X-Google-Smtp-Source: AGHT+IGJOuP3Ng0VylANjjJN43LnQPpY9+wxskYygLiUPRCGqTVz1xJWu2A2Ub4kJm4quN8BE2k/Sp8MQKQJ X-Received: by 2002:a92:cd8c:0:b0:425:720f:deec with SMTP id e9e14a558f8ab-4259566e447mr199833635ab.31.1759125983132; Sun, 28 Sep 2025 23:06:23 -0700 (PDT) Received: from postal.iol.unh.edu (postal.iol.unh.edu. [2606:4100:3880:1234::84]) by smtp-relay.gmail.com with ESMTPS id 8926c6da1cb9f-575225eab93sm51524173.24.2025.09.28.23.06.23 (version=TLS1_2 cipher=ECDHE-ECDSA-AES128-GCM-SHA256 bits=128/128); Sun, 28 Sep 2025 23:06:23 -0700 (PDT) X-Relaying-Domain: iol.unh.edu Date: Sun, 28 Sep 2025 23:06:23 -0700 (PDT) Message-ID: <68da21df.050a0220.209280.34daSMTPIN_ADDED_MISSING@mx.google.com> Received: from [172.21.0.2] (unknown [172.18.0.240]) by postal.iol.unh.edu (Postfix) with ESMTP id B045B6051830; Mon, 29 Sep 2025 02:06:22 -0400 (EDT) Subject: |SUCCESS| [GIT MASTER] b287e404643aeab5bb5db084c142789df187844e From: dpdklab@iol.unh.edu To: Test Report Cc: dpdk-test-reports@iol.unh.edu, Xueming Li , Christian Ehrhardt , Kevin Traynor , Luca Boccassi Content-Type: text/plain X-BeenThere: test-report@dpdk.org X-Mailman-Version: 2.1.29 Precedence: list List-Id: automatic DPDK test reports List-Unsubscribe: , List-Archive: List-Post: List-Help: List-Subscribe: , Errors-To: test-report-bounces@dpdk.org _Testing PASS_ Branch: tags/v24.11 b287e404643aeab5bb5db084c142789df187844e --> testing pass Upstream job id: Generic-DPDK-Compile-Meson#429489 Test environment and result as below: +-------------------------------+--------------------+-------------------+-------------------------+-------------------+------------------+----------------------+ | Environment | dpdk_meson_compile | dpdk_msvc_compile | dpdk_llvm_clang_compile | dpdk_compile_spdk | dpdk_compile_ovs | dpdk_mingw64_compile | +===============================+====================+===================+=========================+===================+==================+======================+ | FreeBSD 14.2 | PASS | SKIPPED | SKIPPED | SKIPPED | SKIPPED | SKIPPED | +-------------------------------+--------------------+-------------------+-------------------------+-------------------+------------------+----------------------+ | Ubuntu 20.04 | PASS | SKIPPED | SKIPPED | SKIPPED | SKIPPED | SKIPPED | +-------------------------------+--------------------+-------------------+-------------------------+-------------------+------------------+----------------------+ | Red Hat Enterprise Linux 9.5 | PASS | SKIPPED | SKIPPED | SKIPPED | SKIPPED | SKIPPED | +-------------------------------+--------------------+-------------------+-------------------------+-------------------+------------------+----------------------+ | CentOS Stream 10 | PASS | SKIPPED | SKIPPED | SKIPPED | SKIPPED | SKIPPED | +-------------------------------+--------------------+-------------------+-------------------------+-------------------+------------------+----------------------+ | Red Hat Enterprise Linux 8.10 | PASS | SKIPPED | SKIPPED | SKIPPED | SKIPPED | SKIPPED | +-------------------------------+--------------------+-------------------+-------------------------+-------------------+------------------+----------------------+ | openSUSE Leap 15.6 | PASS | SKIPPED | SKIPPED | SKIPPED | SKIPPED | SKIPPED | +-------------------------------+--------------------+-------------------+-------------------------+-------------------+------------------+----------------------+ | Ubuntu 22.04 | PASS | SKIPPED | SKIPPED | PASS | SKIPPED | SKIPPED | +-------------------------------+--------------------+-------------------+-------------------------+-------------------+------------------+----------------------+ | Ubuntu 24.04 | PASS | SKIPPED | SKIPPED | PASS | PASS | SKIPPED | +-------------------------------+--------------------+-------------------+-------------------------+-------------------+------------------+----------------------+ | Fedora Linux 42 | PASS | SKIPPED | SKIPPED | PASS | PASS | SKIPPED | +-------------------------------+--------------------+-------------------+-------------------------+-------------------+------------------+----------------------+ | Debian GNU/Linux 12 | PASS | SKIPPED | SKIPPED | PASS | SKIPPED | SKIPPED | +-------------------------------+--------------------+-------------------+-------------------------+-------------------+------------------+----------------------+ | Alpine Linux 3.22.0 | PASS | SKIPPED | SKIPPED | SKIPPED | SKIPPED | SKIPPED | +-------------------------------+--------------------+-------------------+-------------------------+-------------------+------------------+----------------------+ | CentOS Stream 9 | PASS | SKIPPED | SKIPPED | PASS | SKIPPED | SKIPPED | +-------------------------------+--------------------+-------------------+-------------------------+-------------------+------------------+----------------------+ | Windows Server 2022 | SKIPPED | PASS | PASS | SKIPPED | SKIPPED | PASS | +-------------------------------+--------------------+-------------------+-------------------------+-------------------+------------------+----------------------+ FreeBSD 14.2 Kernel: 14.2-RELEASE Compiler: clang 18.1.6 Ubuntu 20.04 Kernel: 4.19 Compiler: gcc gcc (Ubuntu 9.4.0-1ubuntu1~20.04.2) 9.4.0 Red Hat Enterprise Linux 9.5 Kernel: 5.15 Compiler: gcc gcc (GCC) 11.5.0 20240719 (Red Hat 11.5.0-2) CentOS Stream 10 Kernel: 5.15 Compiler: gcc gcc (GCC) 14.2.1 20250110 (Red Hat 14.2.1-8) Red Hat Enterprise Linux 8.10 Kernel: 5.15 Compiler: gcc gcc (GCC) 8.5.0 20210514 (Red Hat 8.5.0-22) openSUSE Leap 15.6 Kernel: 5.15 Compiler: gcc gcc (SUSE Linux) 7.5.0 Ubuntu 22.04 Kernel: 5.15 Compiler: gcc gcc (Ubuntu 11.4.0-1ubuntu1~22.04) 11.4.0 Ubuntu 24.04 Kernel: 5.15 Compiler: gcc gcc (Ubuntu 13.3.0-6ubuntu2~24.04) 13.3.0 Fedora Linux 42 Kernel: 5.15 Compiler: clang gcc (GCC) 15.2.1 20250808 (Red Hat 15.2.1-1) Debian GNU/Linux 12 Kernel: 5.15 Compiler: gcc gcc (Debian 12.2.0-14+deb12u1) 12.2.0 Alpine Linux 3.22.0 Kernel: 5.15 Compiler: gcc gcc (Alpine 14.2.0) 14.2.0 CentOS Stream 9 Kernel: 5.15 Compiler: gcc gcc (GCC) 11.5.0 20240719 (Red Hat 11.5.0-11) Windows Server 2022 Kernel: 10.0.20348.2031 Compiler: clang 15.0.7, gcc 14.1.0 (MinGW), and MSVC VS 19.39.33521 To view detailed results, visit: https://lab.dpdk.org/results/dashboard/tarballs/35038/ UNH-IOL DPDK Community Lab To manage your email subscriptions, visit: https://lab.dpdk.org/results/dashboard/preferences/subscriptions/