From mboxrd@z Thu Jan 1 00:00:00 1970 Return-Path: Received: from mails.dpdk.org (mails.dpdk.org [217.70.189.124]) by inbox.dpdk.org (Postfix) with ESMTP id 710B94885F for ; Mon, 29 Sep 2025 08:08:54 +0200 (CEST) Received: from mails.dpdk.org (localhost [127.0.0.1]) by mails.dpdk.org (Postfix) with ESMTP id 6C247402D6; Mon, 29 Sep 2025 08:08:54 +0200 (CEST) Received: from mail-pf1-f228.google.com (mail-pf1-f228.google.com [209.85.210.228]) by mails.dpdk.org (Postfix) with ESMTP id 3001C402D6 for ; Mon, 29 Sep 2025 08:08:53 +0200 (CEST) Received: by mail-pf1-f228.google.com with SMTP id d2e1a72fcca58-76e4fc419a9so4326954b3a.0 for ; Sun, 28 Sep 2025 23:08:53 -0700 (PDT) DKIM-Signature: v=1; a=rsa-sha256; c=relaxed/relaxed; d=iol.unh.edu; s=unh-iol; t=1759126132; x=1759730932; darn=dpdk.org; h=cc:to:from:subject:message-id:date:from:to:cc:subject:date :message-id:reply-to; bh=6QFf82ldso41PGGX0GihtMx4Hn1VXDf4lNPuDzcsTh4=; b=VzAiciS6EOCmpxVklYzsOrknKNFlu8fbxenAHnegLjLyxQysd9ihi63Np4K+zETKXk grz2a57G7bHCuxcQIA3JMUWRiOxv849HUX0q9C5OindSakuomYwKwicWjbaqWbtfKCdy GWFZu1RBSnu+fYDYetyLr6PT6WrlYA0dsIbo8= X-Google-DKIM-Signature: v=1; a=rsa-sha256; c=relaxed/relaxed; d=1e100.net; s=20230601; t=1759126132; x=1759730932; h=cc:to:from:subject:message-id:date:x-gm-message-state:from:to:cc :subject:date:message-id:reply-to; bh=6QFf82ldso41PGGX0GihtMx4Hn1VXDf4lNPuDzcsTh4=; b=b7BjvMBwKEhGj36zlreuYy3afPbjcfCVQzoWeV+0Fk4OpU8CDnlo8UPy5pmu6x2JL8 hn+8E2aaxxUyE787OkDXJhO3Q9DAKwq6nlU01my7vnwGmp6plhrQpBggotsEtWS6vmZ+ VLmCO5dwVpCV953LtkqBN84GYZG8DafmCjBgMXS//9gJTlhoaek8YDYWq60CmCye5hcr 7qY1LIML+fTfciH4NaaNSxwyWCjO+aWJQKpvWkyg5ldfvI/zSSNx/6bzdQrjyIDLIVdJ gb935PCMZcNIjGBC0RkBGgU5ewuFl8peo2pCAmTnahpKkOvwJjco+corMa2yrnFsl+9V 6QZg== X-Gm-Message-State: AOJu0Yx5TzVpgefH7M0JnmeJLoLYxd9ELJBOXwiKTdqkBbnKUShOdPrD Qg88MqS0b04kjKIS+/MGpKXbWIQkWloDsnH6+XLEntRf018xJhHlP8kV/aOpr06miqClnn11tXz s3QmVbrtdz+IXkI0c1gaV+ma9QvPY3ybpT2xtpGPJBMcRrVVlTUnk X-Gm-Gg: ASbGncvmnK5GYlGMY9rb82ZmCUvDaApBsHt6jTMd/s+mo6++ERQSLEJtrvzyIpTClDF Or5vubU2Vj5tBgs7m54YheYfmx6RBkAFSTJRTS5hqpdc5uItwAYXyHPO15ee5NQYblVqFHRf0cq ht3tz/MfMOtDmbClGMp4du885idX3LnsyDVG+h/FjHb98ET1vKbWynpC9STc38TnO18JdClfsrY at0uSqglARZQ5Y4r6oh3xLj+Ew04tAAy9STrWEUo+e4zJSqO1qeKt54NXpQyxnmihw2ZJKGW5pa irMnMpgD4v13cQUWa5dl60es7afBjYNiRfT+RMyjCqsBI6o/9g== X-Google-Smtp-Source: AGHT+IFwClew80umQkJ3hMGVzXpLA9CbYhg9oTLBzm/R1eFNhTMysK/fHYfl8wsgX0TyeXCFEI1lRuQRMo4k X-Received: by 2002:a05:6a00:3c91:b0:781:1562:1f92 with SMTP id d2e1a72fcca58-781156220e4mr11284887b3a.26.1759126132347; Sun, 28 Sep 2025 23:08:52 -0700 (PDT) Received: from postal.iol.unh.edu (postal.iol.unh.edu. [2606:4100:3880:1234::84]) by smtp-relay.gmail.com with ESMTPS id d2e1a72fcca58-7811b75812dsm452279b3a.12.2025.09.28.23.08.52 (version=TLS1_2 cipher=ECDHE-ECDSA-AES128-GCM-SHA256 bits=128/128); Sun, 28 Sep 2025 23:08:52 -0700 (PDT) X-Relaying-Domain: iol.unh.edu Date: Sun, 28 Sep 2025 23:08:52 -0700 (PDT) Message-ID: <68da2274.050a0220.200a7f.a996SMTPIN_ADDED_MISSING@mx.google.com> Received: from [172.21.0.6] (unknown [172.18.0.240]) by postal.iol.unh.edu (Postfix) with ESMTP id 9CDC16051830; Mon, 29 Sep 2025 02:08:51 -0400 (EDT) Subject: |SUCCESS| [GIT MASTER] 3b43ce3f4a54468e7ef65760c2fd7b4d6ee6d9fc From: dpdklab@iol.unh.edu To: Test Report Cc: dpdk-test-reports@iol.unh.edu, Xueming Li , Christian Ehrhardt , Kevin Traynor , Luca Boccassi Content-Type: text/plain X-BeenThere: test-report@dpdk.org X-Mailman-Version: 2.1.29 Precedence: list List-Id: automatic DPDK test reports List-Unsubscribe: , List-Archive: List-Post: List-Help: List-Subscribe: , Errors-To: test-report-bounces@dpdk.org _Testing PASS_ Branch: tags/v22.11 3b43ce3f4a54468e7ef65760c2fd7b4d6ee6d9fc --> testing pass Upstream job id: Generic-DPDK-Compile-Meson#429545 Test environment and result as below: +-------------------------------+--------------------+-------------------------+----------------------+ | Environment | dpdk_meson_compile | dpdk_llvm_clang_compile | dpdk_mingw64_compile | +===============================+====================+=========================+======================+ | CentOS Stream 9 | PASS | SKIPPED | SKIPPED | +-------------------------------+--------------------+-------------------------+----------------------+ | CentOS Stream 10 | PASS | SKIPPED | SKIPPED | +-------------------------------+--------------------+-------------------------+----------------------+ | Fedora Linux 42 | PASS | SKIPPED | SKIPPED | +-------------------------------+--------------------+-------------------------+----------------------+ | Debian GNU/Linux 12 | PASS | SKIPPED | SKIPPED | +-------------------------------+--------------------+-------------------------+----------------------+ | openSUSE Leap 15.6 | PASS | SKIPPED | SKIPPED | +-------------------------------+--------------------+-------------------------+----------------------+ | Ubuntu 22.04 | PASS | SKIPPED | SKIPPED | +-------------------------------+--------------------+-------------------------+----------------------+ | Ubuntu 20.04 | PASS | SKIPPED | SKIPPED | +-------------------------------+--------------------+-------------------------+----------------------+ | Red Hat Enterprise Linux 9.5 | PASS | SKIPPED | SKIPPED | +-------------------------------+--------------------+-------------------------+----------------------+ | Red Hat Enterprise Linux 8.10 | PASS | SKIPPED | SKIPPED | +-------------------------------+--------------------+-------------------------+----------------------+ | Ubuntu 24.04 | PASS | SKIPPED | SKIPPED | +-------------------------------+--------------------+-------------------------+----------------------+ | FreeBSD 14.2 | PASS | SKIPPED | SKIPPED | +-------------------------------+--------------------+-------------------------+----------------------+ | Windows Server 2022 | SKIPPED | PASS | PASS | +-------------------------------+--------------------+-------------------------+----------------------+ CentOS Stream 9 Kernel: 5.15 Compiler: gcc gcc (GCC) 11.5.0 20240719 (Red Hat 11.5.0-11) CentOS Stream 10 Kernel: 5.15 Compiler: gcc gcc (GCC) 14.2.1 20250110 (Red Hat 14.2.1-8) Fedora Linux 42 Kernel: 5.15 Compiler: clang gcc (GCC) 15.2.1 20250808 (Red Hat 15.2.1-1) Debian GNU/Linux 12 Kernel: 5.15 Compiler: gcc gcc (Debian 12.2.0-14+deb12u1) 12.2.0 openSUSE Leap 15.6 Kernel: 5.15 Compiler: gcc gcc (SUSE Linux) 7.5.0 Ubuntu 22.04 Kernel: 5.15 Compiler: gcc gcc (Ubuntu 11.4.0-1ubuntu1~22.04) 11.4.0 Ubuntu 20.04 Kernel: 5.15 Compiler: gcc gcc (Ubuntu 9.4.0-1ubuntu1~20.04.2) 9.4.0 Red Hat Enterprise Linux 9.5 Kernel: 5.15 Compiler: gcc gcc (GCC) 11.5.0 20240719 (Red Hat 11.5.0-2) Red Hat Enterprise Linux 8.10 Kernel: 5.15 Compiler: gcc gcc (GCC) 8.5.0 20210514 (Red Hat 8.5.0-22) Ubuntu 24.04 Kernel: 5.15 Compiler: gcc gcc (Ubuntu 13.3.0-6ubuntu2~24.04) 13.3.0 FreeBSD 14.2 Kernel: 14.2-RELEASE Compiler: clang 18.1.6 Windows Server 2022 Kernel: 10.0.20348.2031 Compiler: clang 15.0.7, gcc 14.1.0 (MinGW), and MSVC VS 19.39.33521 To view detailed results, visit: https://lab.dpdk.org/results/dashboard/tarballs/35039/ UNH-IOL DPDK Community Lab To manage your email subscriptions, visit: https://lab.dpdk.org/results/dashboard/preferences/subscriptions/