From mboxrd@z Thu Jan 1 00:00:00 1970 Return-Path: Received: from mails.dpdk.org (mails.dpdk.org [217.70.189.124]) by inbox.dpdk.org (Postfix) with ESMTP id 7F6144885F for ; Mon, 29 Sep 2025 08:09:03 +0200 (CEST) Received: from mails.dpdk.org (localhost [127.0.0.1]) by mails.dpdk.org (Postfix) with ESMTP id 7B1C1402D6; Mon, 29 Sep 2025 08:09:03 +0200 (CEST) Received: from mail-il1-f228.google.com (mail-il1-f228.google.com [209.85.166.228]) by mails.dpdk.org (Postfix) with ESMTP id 23C7B402D6 for ; Mon, 29 Sep 2025 08:09:02 +0200 (CEST) Received: by mail-il1-f228.google.com with SMTP id e9e14a558f8ab-4258bd8c19bso37433115ab.2 for ; Sun, 28 Sep 2025 23:09:02 -0700 (PDT) DKIM-Signature: v=1; a=rsa-sha256; c=relaxed/relaxed; d=iol.unh.edu; s=unh-iol; t=1759126141; x=1759730941; darn=dpdk.org; h=cc:to:from:subject:message-id:date:from:to:cc:subject:date :message-id:reply-to; bh=zXCim0WxTKOSuVCAe9hyD2qGmkoNiL0mv/JWDd5ztuQ=; b=ib9FC8v0KTafSY7HYiqNge7knZiD52COusieEM3+7l7v098E46/SUj2I1W/OqP3gRf 4fS6b6jDeN7t4tbLjUUPL0T6CaLokyY1W2tQKkxPtJVgdWMTjFjz+CwUTi7JOkMbAYKO ZZGsjv2q/+UVJIqJ9P3rykr3QhZw+qPv6tdSs= X-Google-DKIM-Signature: v=1; a=rsa-sha256; c=relaxed/relaxed; d=1e100.net; s=20230601; t=1759126141; x=1759730941; h=cc:to:from:subject:message-id:date:x-gm-message-state:from:to:cc :subject:date:message-id:reply-to; bh=zXCim0WxTKOSuVCAe9hyD2qGmkoNiL0mv/JWDd5ztuQ=; b=rS5VXvUhjv3TDsjeKkuPc8+0KEdBa5292LCNYaYmZyoqaln3NzbqCx2lIW7QnD/Jcv 1mPDInEfqgPmcdGmfpEyEtELS3g70UQneJGYjvBmu9wq9k/EilxTOfEvBxMJKw6RTxWC eOP5eXHC/FxKcC4WspCzToOcy9DR6XK5Dqv7DdsPeennyD+jFMNO/vxvXrjolYjOogDZ qGnTN2c6FUMr03l/nBBY11Hta9Zc3HWsX0IBg3rPMrfZ1V3mQuPQG4SFwi+WKR1UBa4P j7PBQZBUygRLapjVvBs26g6onVmrKWiJufPpWdsATM+BLQjUr5Hdqb11ehC+peKo+6Bh OAwA== X-Gm-Message-State: AOJu0Yw1l8uw1Ab4Lo21hEUzUqBxt0COshqv15cGXw1T5qR43RIfVDXd Pr6mj63l/HXwaoMYajell6KzXycTx+UCzmoKQ98yg49YSjcbw5S+bTuaVm6xCfWXfjFFov19lCH UOwxaY0Z6bM3JTJcvJgnD+siwM5MJcCdduL/U X-Gm-Gg: ASbGncscIK0WgMsb9m70vSD0piE8Z8sOWKjX2g3nvb/fopAS2sukU+8ahlmeOseDJDw 1YFXQyvIN93gtC1ba0+Kmt5M0LMzafVQz+wL9wycS1+4hfgkzdC1xjoHxd40U1+4euRbdB7Y/hF p72b+XP50XyL7krdtFo8fvVxQyJfPvU4ByGjuEArlwbHBIJGi6jW9w507FBwxSiFVpXrJdry5na 0/ztwdmePq37pt7D5iBPjnGJR4HelVWE29TBbd7NpHa+Wj9XASrbVURfxLR8nNsSpxqt5elLT+K Ex8mXGHkbxdx4vjPMdratLmItL/bauqKxz1HkK/SV3hA152fx4Wm+ltxy8hAPLhkmXg4pNKo X-Google-Smtp-Source: AGHT+IEq98H027eJ8NIYym6OlK0q4gZsgI3bRWkR6lXvaro43qNskAwsl9jHbloKlzpxfU/pwyMKmuvehdfN X-Received: by 2002:a05:6e02:1a26:b0:426:e476:a735 with SMTP id e9e14a558f8ab-426e476b2ecmr186221445ab.32.1759126141445; Sun, 28 Sep 2025 23:09:01 -0700 (PDT) Received: from postal.iol.unh.edu (postal.iol.unh.edu. [132.177.123.84]) by smtp-relay.gmail.com with ESMTPS id e9e14a558f8ab-425bff8345bsm7767255ab.37.2025.09.28.23.09.01 (version=TLS1_2 cipher=ECDHE-ECDSA-AES128-GCM-SHA256 bits=128/128); Sun, 28 Sep 2025 23:09:01 -0700 (PDT) X-Relaying-Domain: iol.unh.edu Date: Sun, 28 Sep 2025 23:09:01 -0700 (PDT) Message-ID: <68da227d.050a0220.33e86f.f000SMTPIN_ADDED_MISSING@mx.google.com> Received: from [172.21.0.2] (unknown [172.18.0.240]) by postal.iol.unh.edu (Postfix) with ESMTP id 08E456051830; Mon, 29 Sep 2025 02:09:01 -0400 (EDT) Subject: |SUCCESS| [GIT MASTER] 3b43ce3f4a54468e7ef65760c2fd7b4d6ee6d9fc From: dpdklab@iol.unh.edu To: Test Report Cc: dpdk-test-reports@iol.unh.edu, Xueming Li , Christian Ehrhardt , Kevin Traynor , Luca Boccassi Content-Type: text/plain X-BeenThere: test-report@dpdk.org X-Mailman-Version: 2.1.29 Precedence: list List-Id: automatic DPDK test reports List-Unsubscribe: , List-Archive: List-Post: List-Help: List-Subscribe: , Errors-To: test-report-bounces@dpdk.org _Testing PASS_ Branch: tags/v22.11 3b43ce3f4a54468e7ef65760c2fd7b4d6ee6d9fc --> testing pass Upstream job id: Generic-DPDK-Compile-Meson#429540 Test environment and result as below: +-------------------------------+--------------------+-------------------------+----------------------+ | Environment | dpdk_meson_compile | dpdk_llvm_clang_compile | dpdk_mingw64_compile | +===============================+====================+=========================+======================+ | CentOS Stream 9 | PASS | SKIPPED | SKIPPED | +-------------------------------+--------------------+-------------------------+----------------------+ | CentOS Stream 10 | PASS | SKIPPED | SKIPPED | +-------------------------------+--------------------+-------------------------+----------------------+ | Fedora Linux 42 | PASS | SKIPPED | SKIPPED | +-------------------------------+--------------------+-------------------------+----------------------+ | Debian GNU/Linux 12 | PASS | SKIPPED | SKIPPED | +-------------------------------+--------------------+-------------------------+----------------------+ | openSUSE Leap 15.6 | PASS | SKIPPED | SKIPPED | +-------------------------------+--------------------+-------------------------+----------------------+ | Ubuntu 22.04 | PASS | SKIPPED | SKIPPED | +-------------------------------+--------------------+-------------------------+----------------------+ | Ubuntu 20.04 | PASS | SKIPPED | SKIPPED | +-------------------------------+--------------------+-------------------------+----------------------+ | Red Hat Enterprise Linux 9.5 | PASS | SKIPPED | SKIPPED | +-------------------------------+--------------------+-------------------------+----------------------+ | Red Hat Enterprise Linux 8.10 | PASS | SKIPPED | SKIPPED | +-------------------------------+--------------------+-------------------------+----------------------+ | Ubuntu 24.04 | PASS | SKIPPED | SKIPPED | +-------------------------------+--------------------+-------------------------+----------------------+ | FreeBSD 14.2 | PASS | SKIPPED | SKIPPED | +-------------------------------+--------------------+-------------------------+----------------------+ | Windows Server 2022 | SKIPPED | PASS | PASS | +-------------------------------+--------------------+-------------------------+----------------------+ CentOS Stream 9 Kernel: 5.15 Compiler: gcc gcc (GCC) 11.5.0 20240719 (Red Hat 11.5.0-11) CentOS Stream 10 Kernel: 5.15 Compiler: gcc gcc (GCC) 14.2.1 20250110 (Red Hat 14.2.1-8) Fedora Linux 42 Kernel: 5.15 Compiler: clang gcc (GCC) 15.2.1 20250808 (Red Hat 15.2.1-1) Debian GNU/Linux 12 Kernel: 5.15 Compiler: gcc gcc (Debian 12.2.0-14+deb12u1) 12.2.0 openSUSE Leap 15.6 Kernel: 5.15 Compiler: gcc gcc (SUSE Linux) 7.5.0 Ubuntu 22.04 Kernel: 5.15 Compiler: gcc gcc (Ubuntu 11.4.0-1ubuntu1~22.04) 11.4.0 Ubuntu 20.04 Kernel: 5.15 Compiler: gcc gcc (Ubuntu 9.4.0-1ubuntu1~20.04.2) 9.4.0 Red Hat Enterprise Linux 9.5 Kernel: 5.15 Compiler: gcc gcc (GCC) 11.5.0 20240719 (Red Hat 11.5.0-2) Red Hat Enterprise Linux 8.10 Kernel: 5.15 Compiler: gcc gcc (GCC) 8.5.0 20210514 (Red Hat 8.5.0-22) Ubuntu 24.04 Kernel: 5.15 Compiler: gcc gcc (Ubuntu 13.3.0-6ubuntu2~24.04) 13.3.0 FreeBSD 14.2 Kernel: 14.2-RELEASE Compiler: clang 18.1.6 Windows Server 2022 Kernel: 10.0.20348.2031 Compiler: clang 15.0.7, gcc 14.1.0 (MinGW), and MSVC VS 19.39.33521 To view detailed results, visit: https://lab.dpdk.org/results/dashboard/tarballs/35039/ UNH-IOL DPDK Community Lab To manage your email subscriptions, visit: https://lab.dpdk.org/results/dashboard/preferences/subscriptions/