From mboxrd@z Thu Jan 1 00:00:00 1970 Return-Path: Received: from mails.dpdk.org (mails.dpdk.org [217.70.189.124]) by inbox.dpdk.org (Postfix) with ESMTP id AF4944885F for ; Mon, 29 Sep 2025 08:59:23 +0200 (CEST) Received: from mails.dpdk.org (localhost [127.0.0.1]) by mails.dpdk.org (Postfix) with ESMTP id 8E41F4026D; Mon, 29 Sep 2025 08:59:23 +0200 (CEST) Received: from mail-io1-f98.google.com (mail-io1-f98.google.com [209.85.166.98]) by mails.dpdk.org (Postfix) with ESMTP id F0C494026D for ; Mon, 29 Sep 2025 08:59:21 +0200 (CEST) Received: by mail-io1-f98.google.com with SMTP id ca18e2360f4ac-88f1b8e448bso81078139f.2 for ; Sun, 28 Sep 2025 23:59:21 -0700 (PDT) DKIM-Signature: v=1; a=rsa-sha256; c=relaxed/relaxed; d=iol.unh.edu; s=unh-iol; t=1759129161; x=1759733961; darn=dpdk.org; h=cc:to:from:subject:message-id:date:from:to:cc:subject:date :message-id:reply-to; bh=00cJR6z6Wnf3wzRs0Fqe5JoQiL/6dKEhOurC0ScZK4k=; b=PCG+wCy4N+NA0WMpNCchg6LQCaXgwl2VKeD+IFWdBp+WmURRgFECij2JokhTBYXsQh dhwRd+pG8lUEdmt6jJv0OI4T4kD+EH7kWwrzYgT0S9cQLcNwONh5pWdpdGxCm0/vu/SZ aYBCnJWTdM7UcgEf5maEX0CTk0sG2NKDI84dg= X-Google-DKIM-Signature: v=1; a=rsa-sha256; c=relaxed/relaxed; d=1e100.net; s=20230601; t=1759129161; x=1759733961; h=cc:to:from:subject:message-id:date:x-gm-message-state:from:to:cc :subject:date:message-id:reply-to; bh=00cJR6z6Wnf3wzRs0Fqe5JoQiL/6dKEhOurC0ScZK4k=; b=fqzZWM1DjXYMfnwuEPzZAFJGDCQNZ5c9t86TZPI3Z1tZKcNjZHmN/Nlfbu0yqlScaV iTk57GLL0fcmjquapUIj10JhtEGkujr6zmZ396/dTdcges/BR5vMSg7Pbm0aaz/z+zRr z81IXCzwXM+573iJdFxTlBI9PYFLxSuoODXAlmB14lEdo/6bVodSe7mHTy+WdGDcO9L+ hQv/ZcFLAhXgeREHbN2Ze/P0uO3HP41JOn48MK7vf10I5ZM73tyPg6Z3Hpi1XZvom1Qs K08ISef9CVa9CwqGAYTwfoinVVZ2S0tNjb7B/xi3i+XsidgVDKVs0rUTkHtWOxubEqOB F0oA== X-Gm-Message-State: AOJu0YwfWCizDE9aWNjYAR/+KGBKQG4JfvHl45CznI4t4MQAhUG1oQL8 x9NsqA6nzTsVvUTXPBGzS2z4oThuIJysoFNMTowp0nn0gajqnz2jkqbeMsKcXUJ9JkzvF7HywYv AWbkRCFETbzbM4Buh9Z5msGNAj0qFWGd/51Rg39MYdsG+6eo8Hq0Dr4+YXQOu X-Gm-Gg: ASbGncsjzEV70zGiRplhr7CIvjjyegsNQceKzzK8VNF8RvUOpuHE8XCqfJFQoouxCGm x71kHD+bpMa+huFkZm2PbQweE/l9qQhX3UGJUGc53xPUNnWXHlHEsW71tcpxBl/qIaD47K43ES8 AAEUCWEmpKgHITHlAc0t4iWjvpkC5T8o+VfNc80QGjuFSpzkw21YybLv4VASNAXrOtgT/I9fyT1 820W7bGPECODpdQZM/AqVqvocZGiNvqMWZ9fhQ3rkjhoaOTQXW5TrStn9rZ4GsgE4xZduBMR0hP UJvEkzeCwaoN43V8uItCZktuqX+676MoJIfG9K+pDhR7MhAHcw== X-Google-Smtp-Source: AGHT+IFYL6vfohox48Ebtm5wnvHG0L+nUh0DftBFVG4G4tICq39gGnFcmlu2BPDGTI+xYe+ertE9o/uE7zm2 X-Received: by 2002:a05:6e02:1d91:b0:425:8c47:1404 with SMTP id e9e14a558f8ab-42bfde2d55bmr30208235ab.7.1759129161167; Sun, 28 Sep 2025 23:59:21 -0700 (PDT) Received: from postal.iol.unh.edu (postal.iol.unh.edu. [2606:4100:3880:1234::84]) by smtp-relay.gmail.com with ESMTPS id e9e14a558f8ab-425bf6d4f6fsm7891225ab.26.2025.09.28.23.59.21 (version=TLS1_2 cipher=ECDHE-ECDSA-AES128-GCM-SHA256 bits=128/128); Sun, 28 Sep 2025 23:59:21 -0700 (PDT) X-Relaying-Domain: iol.unh.edu Date: Sun, 28 Sep 2025 23:59:21 -0700 (PDT) Message-ID: <68da2e49.050a0220.588e8.eddcSMTPIN_ADDED_MISSING@mx.google.com> Received: from [172.21.0.2] (unknown [172.18.0.240]) by postal.iol.unh.edu (Postfix) with ESMTP id C3BD360003F7; Mon, 29 Sep 2025 02:59:20 -0400 (EDT) Subject: |SUCCESS| [GIT MASTER] 4159ea62922ce41566c7bab44655ad78bee85458 From: dpdklab@iol.unh.edu To: Test Report Cc: dpdk-test-reports@iol.unh.edu, Chenbo Xia , Maxime Coquelin Content-Type: text/plain X-BeenThere: test-report@dpdk.org X-Mailman-Version: 2.1.29 Precedence: list List-Id: automatic DPDK test reports List-Unsubscribe: , List-Archive: List-Post: List-Help: List-Subscribe: , Errors-To: test-report-bounces@dpdk.org _Testing PASS_ Branch: dpdk-next-virtio 4159ea62922ce41566c7bab44655ad78bee85458 --> testing pass Upstream job id: Generic-DPDK-Compile-Meson#429583 Test environment and result as below: +-------------------------------+--------------------+-------------------+-------------------------+-------------------+------------------+----------------------+ | Environment | dpdk_meson_compile | dpdk_msvc_compile | dpdk_llvm_clang_compile | dpdk_compile_spdk | dpdk_compile_ovs | dpdk_mingw64_compile | +===============================+====================+===================+=========================+===================+==================+======================+ | Ubuntu 20.04 | PASS | SKIPPED | SKIPPED | SKIPPED | SKIPPED | SKIPPED | +-------------------------------+--------------------+-------------------+-------------------------+-------------------+------------------+----------------------+ | FreeBSD 14.2 | PASS | SKIPPED | SKIPPED | SKIPPED | SKIPPED | SKIPPED | +-------------------------------+--------------------+-------------------+-------------------------+-------------------+------------------+----------------------+ | CentOS Stream 9 | PASS | SKIPPED | SKIPPED | PASS | SKIPPED | SKIPPED | +-------------------------------+--------------------+-------------------+-------------------------+-------------------+------------------+----------------------+ | CentOS Stream 10 | PASS | SKIPPED | SKIPPED | SKIPPED | SKIPPED | SKIPPED | +-------------------------------+--------------------+-------------------+-------------------------+-------------------+------------------+----------------------+ | Fedora Linux 42 | PASS | SKIPPED | SKIPPED | PASS | PASS | SKIPPED | +-------------------------------+--------------------+-------------------+-------------------------+-------------------+------------------+----------------------+ | Debian GNU/Linux 12 | PASS | SKIPPED | SKIPPED | PASS | SKIPPED | SKIPPED | +-------------------------------+--------------------+-------------------+-------------------------+-------------------+------------------+----------------------+ | openSUSE Leap 15.6 | PASS | SKIPPED | SKIPPED | SKIPPED | SKIPPED | SKIPPED | +-------------------------------+--------------------+-------------------+-------------------------+-------------------+------------------+----------------------+ | Red Hat Enterprise Linux 8.10 | PASS | SKIPPED | SKIPPED | SKIPPED | SKIPPED | SKIPPED | +-------------------------------+--------------------+-------------------+-------------------------+-------------------+------------------+----------------------+ | Red Hat Enterprise Linux 9.5 | PASS | SKIPPED | SKIPPED | SKIPPED | SKIPPED | SKIPPED | +-------------------------------+--------------------+-------------------+-------------------------+-------------------+------------------+----------------------+ | Ubuntu 22.04 | PASS | SKIPPED | SKIPPED | PASS | SKIPPED | SKIPPED | +-------------------------------+--------------------+-------------------+-------------------------+-------------------+------------------+----------------------+ | Ubuntu 24.04 | PASS | SKIPPED | SKIPPED | PASS | PASS | SKIPPED | +-------------------------------+--------------------+-------------------+-------------------------+-------------------+------------------+----------------------+ | Alpine Linux 3.22.0 | PASS | SKIPPED | SKIPPED | SKIPPED | SKIPPED | SKIPPED | +-------------------------------+--------------------+-------------------+-------------------------+-------------------+------------------+----------------------+ | Windows Server 2022 | SKIPPED | PASS | PASS | SKIPPED | SKIPPED | PASS | +-------------------------------+--------------------+-------------------+-------------------------+-------------------+------------------+----------------------+ Ubuntu 20.04 Kernel: 4.19 Compiler: gcc gcc (Ubuntu 9.4.0-1ubuntu1~20.04.2) 9.4.0 FreeBSD 14.2 Kernel: 14.2-RELEASE Compiler: clang 18.1.6 CentOS Stream 9 Kernel: 5.15 Compiler: gcc gcc (GCC) 11.5.0 20240719 (Red Hat 11.5.0-11) CentOS Stream 10 Kernel: 5.15 Compiler: gcc gcc (GCC) 14.2.1 20250110 (Red Hat 14.2.1-8) Fedora Linux 42 Kernel: 5.15 Compiler: clang gcc (GCC) 15.2.1 20250808 (Red Hat 15.2.1-1) Debian GNU/Linux 12 Kernel: 5.15 Compiler: gcc gcc (Debian 12.2.0-14+deb12u1) 12.2.0 openSUSE Leap 15.6 Kernel: 5.15 Compiler: gcc gcc (SUSE Linux) 7.5.0 Red Hat Enterprise Linux 8.10 Kernel: 5.15 Compiler: gcc gcc (GCC) 8.5.0 20210514 (Red Hat 8.5.0-22) Red Hat Enterprise Linux 9.5 Kernel: 5.15 Compiler: gcc gcc (GCC) 11.5.0 20240719 (Red Hat 11.5.0-2) Ubuntu 22.04 Kernel: 5.15 Compiler: gcc gcc (Ubuntu 11.4.0-1ubuntu1~22.04) 11.4.0 Ubuntu 24.04 Kernel: 5.15 Compiler: gcc gcc (Ubuntu 13.3.0-6ubuntu2~24.04) 13.3.0 Alpine Linux 3.22.0 Kernel: 5.15 Compiler: gcc gcc (Alpine 14.2.0) 14.2.0 Windows Server 2022 Kernel: 10.0.20348.2031 Compiler: clang 15.0.7, gcc 14.1.0 (MinGW), and MSVC VS 19.39.33521 To view detailed results, visit: https://lab.dpdk.org/results/dashboard/tarballs/35040/ UNH-IOL DPDK Community Lab To manage your email subscriptions, visit: https://lab.dpdk.org/results/dashboard/preferences/subscriptions/