From mboxrd@z Thu Jan 1 00:00:00 1970 Return-Path: Received: from mails.dpdk.org (mails.dpdk.org [217.70.189.124]) by inbox.dpdk.org (Postfix) with ESMTP id 496614885F for ; Mon, 29 Sep 2025 09:05:50 +0200 (CEST) Received: from mails.dpdk.org (localhost [127.0.0.1]) by mails.dpdk.org (Postfix) with ESMTP id 2C19A4026D; Mon, 29 Sep 2025 09:05:50 +0200 (CEST) Received: from mail-pl1-f227.google.com (mail-pl1-f227.google.com [209.85.214.227]) by mails.dpdk.org (Postfix) with ESMTP id 3FB6D4028C for ; Mon, 29 Sep 2025 09:05:49 +0200 (CEST) Received: by mail-pl1-f227.google.com with SMTP id d9443c01a7336-27d4d6b7ab5so65166025ad.2 for ; Mon, 29 Sep 2025 00:05:49 -0700 (PDT) DKIM-Signature: v=1; a=rsa-sha256; c=relaxed/relaxed; d=iol.unh.edu; s=unh-iol; t=1759129548; x=1759734348; darn=dpdk.org; h=cc:to:from:subject:message-id:date:from:to:cc:subject:date :message-id:reply-to; bh=xe9PIPTjZEJiNtWw1w5jpzpexK/QYvm8UxgFKzoS5uI=; b=W0WX4OVZ5H8LcKefihsV7XiR8wIf16b9N1IG0RVR4hlfibiYrvGEBCJpnqOVz46Z8n tTpDhore6rkjCoh8TFex0DEJqnfpWIcCn/D43ZTvTqfV4bYbOBTv6tlQbd5+R5NxdRb/ gop3faSbKoK5gNHYVxLP8XC5VgWvPVqCdZinw= X-Google-DKIM-Signature: v=1; a=rsa-sha256; c=relaxed/relaxed; d=1e100.net; s=20230601; t=1759129548; x=1759734348; h=cc:to:from:subject:message-id:date:x-gm-message-state:from:to:cc :subject:date:message-id:reply-to; bh=xe9PIPTjZEJiNtWw1w5jpzpexK/QYvm8UxgFKzoS5uI=; b=WJxiPzPvnTneTbG88HD8y3nT3roFZeik2mO78SEc1NrclxavGE7y+1XAt3NrNR0sCT 4ElDrhgTBFO3ZMuwS3lCPp0TfECQ6x0Vn0/LRWvOuqNSPXeul8EneKeR9r3ALlcyTxCG fgzhsTVLSge3WQnlVYGYqrgOyxkAG69ry0g82imZS6/NeoWphL5ZCSkz5hM+iNhp1kH8 CSCpcYuNMc4A1lZ50kKs/KS0TzZCZPIRhCtwDqYv4vjO3OXN9XRTHPymLOjRjGw8AiGM w2vig1t0EL56TT1fGZP32VC/QEd2V/KxSS1luXsTAZhaZJfeMjdFtI03VcdboIwPsIj1 L9xA== X-Gm-Message-State: AOJu0YwRPmKzfgjvoaE256pxVq57/+RwzdjTJ6oSosx/YzF8BgbwrV2n 42+nE1koJRJMCpm0zQATMxwu0qLGNCeqHLW0w5MdPTv2vbgrRVU3HHPIdEEyPU8AUh51nRDCxpB 9WqKPEi7os5CBP2zFNb7ymo/twvMUao1999bKwCkFgS6e X-Gm-Gg: ASbGncsz6Og70Kv/kh5rPtdRwXWOcwmfF2g5D/JOHRQWHLZCG8FBIhZ6Gh2vZPsFJy2 qcnxnHabyIrj1uC4nx2awWkNljvoaZrio2vEMzANSckYnb0FO95dX6oxfjA4Y50EPxOnWsNAfku Jqz3hzxOVH9dfM2/sj4fIarRQnHAE3SojBfZDCa6TDte8P2gUGRTWJBz9g6EdO96HRpLPLblDyn EWEmSRxBCFGZsSU78VP5zZotDTWLWZqE9Dabg4NkgaMufYDRoZpRPq534ZUybaQYBEWxaP6w0mO YXjI9WDpXVCfNayldaAm5Qz3LLHW2jmABvwTvup7bI4Zx6q4wfdV2HtHCMh8iuujIkyl86V1 X-Google-Smtp-Source: AGHT+IEUevAihf+pr/ftdINZP801WlAHk70qAJjN1megFRCINN6T/BNkLc6mU7CZfeu4McPDbKYwMMQMTrEx X-Received: by 2002:a17:903:1a87:b0:28c:834f:d855 with SMTP id d9443c01a7336-28c834fda0fmr3327645ad.27.1759129548337; Mon, 29 Sep 2025 00:05:48 -0700 (PDT) Received: from postal.iol.unh.edu (postal.iol.unh.edu. [132.177.123.84]) by smtp-relay.gmail.com with ESMTPS id d9443c01a7336-27ed66bb8b8sm8764145ad.14.2025.09.29.00.05.48 (version=TLS1_2 cipher=ECDHE-ECDSA-AES128-GCM-SHA256 bits=128/128); Mon, 29 Sep 2025 00:05:48 -0700 (PDT) X-Relaying-Domain: iol.unh.edu Date: Mon, 29 Sep 2025 00:05:48 -0700 (PDT) Message-ID: <68da2fcc.170a0220.15f201.4822SMTPIN_ADDED_MISSING@mx.google.com> Received: from [172.21.0.2] (unknown [172.18.0.240]) by postal.iol.unh.edu (Postfix) with ESMTP id BE4176051830; Mon, 29 Sep 2025 03:05:47 -0400 (EDT) Subject: |SUCCESS| [GIT MASTER] 4159ea62922ce41566c7bab44655ad78bee85458 From: dpdklab@iol.unh.edu To: Test Report Cc: dpdk-test-reports@iol.unh.edu, Chenbo Xia , Maxime Coquelin Content-Type: text/plain X-BeenThere: test-report@dpdk.org X-Mailman-Version: 2.1.29 Precedence: list List-Id: automatic DPDK test reports List-Unsubscribe: , List-Archive: List-Post: List-Help: List-Subscribe: , Errors-To: test-report-bounces@dpdk.org _Testing PASS_ Branch: dpdk-next-virtio 4159ea62922ce41566c7bab44655ad78bee85458 --> testing pass Upstream job id: Generic-Unit-Test-DPDK#376083 Test environment and result as below: +-------------------------------+----------------+ | Environment | dpdk_unit_test | +===============================+================+ | CentOS Stream 9 | PASS | +-------------------------------+----------------+ | Fedora Linux 42 | PASS | +-------------------------------+----------------+ | CentOS Stream 10 | PASS | +-------------------------------+----------------+ | Debian GNU/Linux 12 | PASS | +-------------------------------+----------------+ | Windows Server 2022 | PASS | +-------------------------------+----------------+ | Fedora Linux 41 | PASS | +-------------------------------+----------------+ | Fedora Linux 40 | PASS | +-------------------------------+----------------+ | Red Hat Enterprise Linux 9.5 | PASS | +-------------------------------+----------------+ | Red Hat Enterprise Linux 8.10 | PASS | +-------------------------------+----------------+ | Ubuntu 22.04 | PASS | +-------------------------------+----------------+ | Ubuntu 24.04 | PASS | +-------------------------------+----------------+ | Ubuntu 20.04 | PASS | +-------------------------------+----------------+ CentOS Stream 9 Kernel: 5.15 Compiler: gcc gcc (GCC) 11.5.0 20240719 (Red Hat 11.5.0-11) Fedora Linux 42 Kernel: 5.15 Compiler: gcc gcc (GCC) 15.2.1 20250808 (Red Hat 15.2.1-1) CentOS Stream 10 Kernel: 5.15 Compiler: gcc gcc (GCC) 14.2.1 20250110 (Red Hat 14.2.1-8) Debian GNU/Linux 12 Kernel: 5.15 Compiler: gcc gcc (Debian 12.2.0-14+deb12u1) 12.2.0 Windows Server 2022 Kernel: 10.0.20348.2031 Compiler: clang 15.0.7, gcc 14.1.0 (MinGW), and MSVC VS 19.39.33521 Fedora Linux 41 Kernel: 5.15 Compiler: gcc gcc (GCC) 14.3.1 20250523 (Red Hat 14.3.1-1) Fedora Linux 40 Kernel: 5.15 Compiler: gcc gcc (GCC) 14.2.1 20240912 (Red Hat 14.2.1-3) Red Hat Enterprise Linux 9.5 Kernel: 5.15 Compiler: gcc gcc (GCC) 11.5.0 20240719 (Red Hat 11.5.0-2) Red Hat Enterprise Linux 8.10 Kernel: 5.15 Compiler: gcc gcc (GCC) 8.5.0 20210514 (Red Hat 8.5.0-22) Ubuntu 22.04 Kernel: 5.15 Compiler: gcc gcc (Ubuntu 11.4.0-1ubuntu1~22.04) 11.4.0 Ubuntu 24.04 Kernel: 5.15 Compiler: gcc gcc (Ubuntu 13.3.0-6ubuntu2~24.04) 13.3.0 Ubuntu 20.04 Kernel: 5.15 Compiler: gcc gcc (Ubuntu 9.4.0-1ubuntu1~20.04.2) 9.4.0 To view detailed results, visit: https://lab.dpdk.org/results/dashboard/tarballs/35040/ UNH-IOL DPDK Community Lab To manage your email subscriptions, visit: https://lab.dpdk.org/results/dashboard/preferences/subscriptions/