From mboxrd@z Thu Jan 1 00:00:00 1970 Return-Path: Received: from mails.dpdk.org (mails.dpdk.org [217.70.189.124]) by inbox.dpdk.org (Postfix) with ESMTP id 4E1984885F for ; Mon, 29 Sep 2025 09:16:57 +0200 (CEST) Received: from mails.dpdk.org (localhost [127.0.0.1]) by mails.dpdk.org (Postfix) with ESMTP id 286054026D; Mon, 29 Sep 2025 09:16:57 +0200 (CEST) Received: from mail-io1-f97.google.com (mail-io1-f97.google.com [209.85.166.97]) by mails.dpdk.org (Postfix) with ESMTP id 2DE0B4026D for ; Mon, 29 Sep 2025 09:16:56 +0200 (CEST) Received: by mail-io1-f97.google.com with SMTP id ca18e2360f4ac-9194a0241aaso78583939f.3 for ; Mon, 29 Sep 2025 00:16:56 -0700 (PDT) DKIM-Signature: v=1; a=rsa-sha256; c=relaxed/relaxed; d=iol.unh.edu; s=unh-iol; t=1759130215; x=1759735015; darn=dpdk.org; h=cc:to:from:subject:message-id:date:from:to:cc:subject:date :message-id:reply-to; bh=bjHuXRa/dzjeGQJXVirTkiZjvLCrmneGRBhrQmED2pU=; b=HAuUaGE2SASAf7UIZEVUWvESbIg9U9VwLvI/n+ATXPqySTW6og/f/c3x1sjQJ/6cDs faGc4AtRjqe3VB3pO8zt/J4a72KYm/WdjyI5vx4fqHXCZBH6DQQKTN3vonBdYyXd4uzA YQviv/ofNFsyKLVig5PNqv6+6UMijj+HOU9cE= X-Google-DKIM-Signature: v=1; a=rsa-sha256; c=relaxed/relaxed; d=1e100.net; s=20230601; t=1759130215; x=1759735015; h=cc:to:from:subject:message-id:date:x-gm-message-state:from:to:cc :subject:date:message-id:reply-to; bh=bjHuXRa/dzjeGQJXVirTkiZjvLCrmneGRBhrQmED2pU=; b=bNXjpvO15JOipUUBu0Bjk7wyMVaSzWHnkafTvRId4SOXJfI2xPP93654FiIEufSEEW /sZlQO0cENBOVGVFRjpHB8xnicMVad03ln3HpUu8R+5NvLyeQbrkWRTxiFXcAXN3JkGS 9LVB1ut/I5KnygBX0KUdq+qi3uD3+txu8jvBGAlcUY+6gkYKwrnsl4ZPxB/OJidxXEts 3jZgZ4U/s2Qf8ky7FTXeLaci4mLNwln17O11S1G9GvAwZR4pzY7qU/b3TAcoX2hzSIkI LTMM4Sq+BiwKZdP4K0S6fH6VMGW11pZ/Tdu35eOti1FO4k1+4YfhwJRu+rIW6FC7iTNU TL8A== X-Gm-Message-State: AOJu0YyDO4nHA7H410hiWyPI79EdCU2btkmaV0WvNvXR2W1dC0uMKDrp Uao89wE17FBbetY08R/6RWWzEAKYQnCCP7EsiHLU+eeJE+EaK9e7iBql4EbFB1Yh7taenmNGbAG No0ThtyvbTJ1TkApHC0p45lb2TjWi5d2TWtZXnekKlPDj X-Gm-Gg: ASbGncvqwmReeRjC20VjuQ8W4F+ARLVQxxPew16+7Xak9/DI/mo9lAUorhLJWOLnOji X2l3lMUCYx0DfGLTSa1GCKwenSjb9xHssxxf1Q2zfrhaCruN1/ppTz+d+XW1GFmio6Q/cbo5awu Z+pQWQRol6DU8oB3wYv0GVY2/c5/T6Ce8+eEaOdqB+UO42Kgo5z2J06viSt5cUhfzO5eciB+G1Z 4QibFdjeBkdvH3N+1BZPKMlPqyFybYV5iaRzhZP+oFHxzR7HjiUMiq1Z1VEYMclkAPIciMrtjzX p8A9sGfShW5ZfmEdLrTH6USXRmPapymZZdRr2C4TzQHScBA6ZvzONy4tfYMBxut8D41Cjbz4 X-Google-Smtp-Source: AGHT+IH4bI/X0aULVwLsy0NVdfzcwleyE1Q2J85H1Ab2+jBLgnIkCqMpaIras5ZsH9Met98HfgrrWh9Q0jX3 X-Received: by 2002:a05:6e02:3c83:b0:426:c373:25db with SMTP id e9e14a558f8ab-426c3732a86mr177607915ab.4.1759130215394; Mon, 29 Sep 2025 00:16:55 -0700 (PDT) Received: from postal.iol.unh.edu (postal.iol.unh.edu. [132.177.123.84]) by smtp-relay.gmail.com with ESMTPS id e9e14a558f8ab-425bfd92532sm7878195ab.33.2025.09.29.00.16.55 (version=TLS1_2 cipher=ECDHE-ECDSA-AES128-GCM-SHA256 bits=128/128); Mon, 29 Sep 2025 00:16:55 -0700 (PDT) X-Relaying-Domain: iol.unh.edu Date: Mon, 29 Sep 2025 00:16:55 -0700 (PDT) Message-ID: <68da3267.050a0220.331903.e733SMTPIN_ADDED_MISSING@mx.google.com> Received: from [172.21.0.2] (unknown [172.18.0.240]) by postal.iol.unh.edu (Postfix) with ESMTP id EAFEB6051830; Mon, 29 Sep 2025 03:16:54 -0400 (EDT) Subject: |SUCCESS| [GIT MASTER] c04bbd131b2c14b3049bf86d3ef367b34e6fdf1e From: dpdklab@iol.unh.edu To: Test Report Cc: dpdk-test-reports@iol.unh.edu, Stephen Hemminger Content-Type: text/plain X-BeenThere: test-report@dpdk.org X-Mailman-Version: 2.1.29 Precedence: list List-Id: automatic DPDK test reports List-Unsubscribe: , List-Archive: List-Post: List-Help: List-Subscribe: , Errors-To: test-report-bounces@dpdk.org _Testing PASS_ Branch: dpdk-next-net c04bbd131b2c14b3049bf86d3ef367b34e6fdf1e --> testing pass Upstream job id: Generic-DPDK-Compile-Meson#429602 Test environment and result as below: +-------------------------------+--------------------+-------------------+------------------+-------------------------+-------------------+----------------------+ | Environment | dpdk_meson_compile | dpdk_compile_spdk | dpdk_compile_ovs | dpdk_llvm_clang_compile | dpdk_msvc_compile | dpdk_mingw64_compile | +===============================+====================+===================+==================+=========================+===================+======================+ | CentOS Stream 9 | PASS | PASS | SKIPPED | SKIPPED | SKIPPED | SKIPPED | +-------------------------------+--------------------+-------------------+------------------+-------------------------+-------------------+----------------------+ | CentOS Stream 10 | PASS | SKIPPED | SKIPPED | SKIPPED | SKIPPED | SKIPPED | +-------------------------------+--------------------+-------------------+------------------+-------------------------+-------------------+----------------------+ | Debian GNU/Linux 12 | PASS | PASS | SKIPPED | SKIPPED | SKIPPED | SKIPPED | +-------------------------------+--------------------+-------------------+------------------+-------------------------+-------------------+----------------------+ | Fedora Linux 42 | PASS | PASS | PASS | SKIPPED | SKIPPED | SKIPPED | +-------------------------------+--------------------+-------------------+------------------+-------------------------+-------------------+----------------------+ | openSUSE Leap 15.6 | PASS | SKIPPED | SKIPPED | SKIPPED | SKIPPED | SKIPPED | +-------------------------------+--------------------+-------------------+------------------+-------------------------+-------------------+----------------------+ | Red Hat Enterprise Linux 8.10 | PASS | SKIPPED | SKIPPED | SKIPPED | SKIPPED | SKIPPED | +-------------------------------+--------------------+-------------------+------------------+-------------------------+-------------------+----------------------+ | Red Hat Enterprise Linux 9.5 | PASS | SKIPPED | SKIPPED | SKIPPED | SKIPPED | SKIPPED | +-------------------------------+--------------------+-------------------+------------------+-------------------------+-------------------+----------------------+ | Ubuntu 20.04 | PASS | SKIPPED | SKIPPED | SKIPPED | SKIPPED | SKIPPED | +-------------------------------+--------------------+-------------------+------------------+-------------------------+-------------------+----------------------+ | Ubuntu 22.04 | PASS | PASS | SKIPPED | SKIPPED | SKIPPED | SKIPPED | +-------------------------------+--------------------+-------------------+------------------+-------------------------+-------------------+----------------------+ | Ubuntu 24.04 | PASS | PASS | PASS | SKIPPED | SKIPPED | SKIPPED | +-------------------------------+--------------------+-------------------+------------------+-------------------------+-------------------+----------------------+ | FreeBSD 14.2 | PASS | SKIPPED | SKIPPED | SKIPPED | SKIPPED | SKIPPED | +-------------------------------+--------------------+-------------------+------------------+-------------------------+-------------------+----------------------+ | Alpine Linux 3.22.0 | PASS | SKIPPED | SKIPPED | SKIPPED | SKIPPED | SKIPPED | +-------------------------------+--------------------+-------------------+------------------+-------------------------+-------------------+----------------------+ | Windows Server 2022 | SKIPPED | SKIPPED | SKIPPED | PASS | PASS | PASS | +-------------------------------+--------------------+-------------------+------------------+-------------------------+-------------------+----------------------+ CentOS Stream 9 Kernel: 5.15 Compiler: gcc gcc (GCC) 11.5.0 20240719 (Red Hat 11.5.0-11) CentOS Stream 10 Kernel: 5.15 Compiler: gcc gcc (GCC) 14.2.1 20250110 (Red Hat 14.2.1-8) Debian GNU/Linux 12 Kernel: 5.15 Compiler: gcc gcc (Debian 12.2.0-14+deb12u1) 12.2.0 Fedora Linux 42 Kernel: 5.15 Compiler: clang gcc (GCC) 15.2.1 20250808 (Red Hat 15.2.1-1) openSUSE Leap 15.6 Kernel: 5.15 Compiler: gcc gcc (SUSE Linux) 7.5.0 Red Hat Enterprise Linux 8.10 Kernel: 5.15 Compiler: gcc gcc (GCC) 8.5.0 20210514 (Red Hat 8.5.0-22) Red Hat Enterprise Linux 9.5 Kernel: 5.15 Compiler: gcc gcc (GCC) 11.5.0 20240719 (Red Hat 11.5.0-2) Ubuntu 20.04 Kernel: 5.15 Compiler: gcc gcc (Ubuntu 9.4.0-1ubuntu1~20.04.2) 9.4.0 Ubuntu 22.04 Kernel: 5.15 Compiler: gcc gcc (Ubuntu 11.4.0-1ubuntu1~22.04) 11.4.0 Ubuntu 24.04 Kernel: 5.15 Compiler: gcc gcc (Ubuntu 13.3.0-6ubuntu2~24.04) 13.3.0 FreeBSD 14.2 Kernel: 14.2-RELEASE Compiler: clang 18.1.6 Alpine Linux 3.22.0 Kernel: 5.15 Compiler: gcc gcc (Alpine 14.2.0) 14.2.0 Windows Server 2022 Kernel: 10.0.20348.2031 Compiler: clang 15.0.7, gcc 14.1.0 (MinGW), and MSVC VS 19.39.33521 To view detailed results, visit: https://lab.dpdk.org/results/dashboard/tarballs/35041/ UNH-IOL DPDK Community Lab To manage your email subscriptions, visit: https://lab.dpdk.org/results/dashboard/preferences/subscriptions/