From mboxrd@z Thu Jan 1 00:00:00 1970 Return-Path: Received: from mails.dpdk.org (mails.dpdk.org [217.70.189.124]) by inbox.dpdk.org (Postfix) with ESMTP id 8833B4885F for ; Mon, 29 Sep 2025 09:31:57 +0200 (CEST) Received: from mails.dpdk.org (localhost [127.0.0.1]) by mails.dpdk.org (Postfix) with ESMTP id 6A9CC4026D; Mon, 29 Sep 2025 09:31:57 +0200 (CEST) Received: from mail-il1-f228.google.com (mail-il1-f228.google.com [209.85.166.228]) by mails.dpdk.org (Postfix) with ESMTP id 6A8E34026D for ; Mon, 29 Sep 2025 09:31:56 +0200 (CEST) Received: by mail-il1-f228.google.com with SMTP id e9e14a558f8ab-428fabe2175so5972215ab.0 for ; Mon, 29 Sep 2025 00:31:56 -0700 (PDT) DKIM-Signature: v=1; a=rsa-sha256; c=relaxed/relaxed; d=iol.unh.edu; s=unh-iol; t=1759131115; x=1759735915; darn=dpdk.org; h=cc:to:from:subject:message-id:date:from:to:cc:subject:date :message-id:reply-to; bh=gjTYkSHSBi3r/wAN0Gtpa2PtWYT4y3ZH44IQMb6Wz+w=; b=Tm4k/gXLdwpB/wPCBhG8UA32T6PkFnT11kGq1Eq3os16UppwpVL7s25dA1IX+SBMo8 GH2QJlsppm14y4EkksIk5FffpBjhD4hRzFHFBiPcQh4nDswRkEtd82rAJFN9KD1hS4lc Qjvgo2Bvo4HF7ZmtpKhe1Wdls+56QEBnOOJf0= X-Google-DKIM-Signature: v=1; a=rsa-sha256; c=relaxed/relaxed; d=1e100.net; s=20230601; t=1759131115; x=1759735915; h=cc:to:from:subject:message-id:date:x-gm-message-state:from:to:cc :subject:date:message-id:reply-to; bh=gjTYkSHSBi3r/wAN0Gtpa2PtWYT4y3ZH44IQMb6Wz+w=; b=DrorsyJi1edj7oQnsK4AfKGYO2ZCskyyGGdMRfkMjYA7CVJctokLj4+3GR5YlKzZNB k+vOG0WEUC29vWnhyABGFdvQUDQE1vIs+JfXJhVCvgovX0MTy63jpTpDjcq4OTUAM2A4 29zXk7SjsGZ/dFuDRXoOMsM8iKxI8QJU5axObrXJAPoQjNUNeFBUmnPDne62FQ0Vt9y5 8faC8vDCrYKTViMTOI0PkDVuggmenzIDRRG/EdrViijMqhpOK8FQX7m4rv7X9ClXzpN9 s9bHtdFRonu92TmS08+NkKFHFQyzbOBAb/qXWBE64+MRG0Hg9kDAWWihk0DvZh/5Z1fN F7jA== X-Gm-Message-State: AOJu0Yyy1UJyvHsOcj+Mb8po+wsHZOQzTdGMdwXUgeenViMoD9t/KrRv gHIXHdSZfG0okQBpoFVp2YXNFVmhFsyWhtQ4WL6RC/zjQUE63WmDKAs3gYs6fyDPtfD1AhYka30 VIAuNcZEyfdjOvEhjxzfvYrNsH+30MUc+JGIiAmXkaTS5 X-Gm-Gg: ASbGncsOQZ1pdHekYnHUOxxCL8fv1yDIZgrNxK7tdZykcV6ma489iBDKdGOcuTP8V/M wbardCJY0dVP/k39RcHERJgEV+XIymqB/jTECCiTkqz1eyo0Otk4i2UlYQMoN34FrIeJdAw1t1y 81cXxhAhbUNr1mLzwTZLZZG7LdZneuMaz2qzS88jBssNP4vZKZge7xHWFEECi35/fF+4Elfkhbn bNF9nj53DkwpONA1Spcfz0EJJy1kZpsJGvtmfjriF2khzn74k7KJKrY+1bMw8r8MjWQYjgMO9lA lDZSKevlxcR6grOL0I7PtzpL/UDtZWvm3GzKlxKFCNvr7frPJ0xQd5pYeTPMWgDuMt08VeGC X-Google-Smtp-Source: AGHT+IHHMgs644Qk8MFnWH4+msvNIwgiTFgKzlbrJCliuEzH1UxNbz5HpRPtY7qeJ02NFkiOrpfym9WvDvbL X-Received: by 2002:a05:6e02:18cd:b0:426:b592:5dff with SMTP id e9e14a558f8ab-426b5925e2fmr176172335ab.1.1759131115643; Mon, 29 Sep 2025 00:31:55 -0700 (PDT) Received: from postal.iol.unh.edu (postal.iol.unh.edu. [132.177.123.84]) by smtp-relay.gmail.com with ESMTPS id 8926c6da1cb9f-5720ce3fafesm215594173.49.2025.09.29.00.31.55 (version=TLS1_2 cipher=ECDHE-ECDSA-AES128-GCM-SHA256 bits=128/128); Mon, 29 Sep 2025 00:31:55 -0700 (PDT) X-Relaying-Domain: iol.unh.edu Date: Mon, 29 Sep 2025 00:31:55 -0700 (PDT) Message-ID: <68da35eb.050a0220.55753.d214SMTPIN_ADDED_MISSING@mx.google.com> Received: from [172.21.0.2] (unknown [172.18.0.240]) by postal.iol.unh.edu (Postfix) with ESMTP id 3B0136051830; Mon, 29 Sep 2025 03:31:55 -0400 (EDT) Subject: |SUCCESS| [GIT MASTER] c04bbd131b2c14b3049bf86d3ef367b34e6fdf1e From: dpdklab@iol.unh.edu To: Test Report Cc: dpdk-test-reports@iol.unh.edu, Stephen Hemminger Content-Type: text/plain X-BeenThere: test-report@dpdk.org X-Mailman-Version: 2.1.29 Precedence: list List-Id: automatic DPDK test reports List-Unsubscribe: , List-Archive: List-Post: List-Help: List-Subscribe: , Errors-To: test-report-bounces@dpdk.org _Testing PASS_ Branch: dpdk-next-net c04bbd131b2c14b3049bf86d3ef367b34e6fdf1e --> testing pass Upstream job id: Generic-Unit-Test-DPDK#376117 Test environment and result as below: +-------------------------------+----------------+ | Environment | dpdk_unit_test | +===============================+================+ | CentOS Stream 9 | PASS | +-------------------------------+----------------+ | Debian GNU/Linux 12 | PASS | +-------------------------------+----------------+ | Fedora Linux 40 | PASS | +-------------------------------+----------------+ | Fedora Linux 41 | PASS | +-------------------------------+----------------+ | CentOS Stream 10 | PASS | +-------------------------------+----------------+ | Fedora Linux 42 | PASS | +-------------------------------+----------------+ | Ubuntu 24.04 | PASS | +-------------------------------+----------------+ | Red Hat Enterprise Linux 9.5 | PASS | +-------------------------------+----------------+ | Ubuntu 20.04 | PASS | +-------------------------------+----------------+ | Ubuntu 22.04 | PASS | +-------------------------------+----------------+ | Red Hat Enterprise Linux 8.10 | PASS | +-------------------------------+----------------+ | Windows Server 2022 | PASS | +-------------------------------+----------------+ CentOS Stream 9 Kernel: 5.15 Compiler: gcc gcc (GCC) 11.5.0 20240719 (Red Hat 11.5.0-11) Debian GNU/Linux 12 Kernel: 5.15 Compiler: gcc gcc (Debian 12.2.0-14+deb12u1) 12.2.0 Fedora Linux 40 Kernel: 5.15 Compiler: clang gcc (GCC) 14.2.1 20240912 (Red Hat 14.2.1-3) Fedora Linux 41 Kernel: 5.15 Compiler: gcc gcc (GCC) 14.3.1 20250523 (Red Hat 14.3.1-1) CentOS Stream 10 Kernel: 5.15 Compiler: gcc gcc (GCC) 14.2.1 20250110 (Red Hat 14.2.1-8) Fedora Linux 42 Kernel: 5.15 Compiler: gcc gcc (GCC) 15.2.1 20250808 (Red Hat 15.2.1-1) Ubuntu 24.04 Kernel: 5.15 Compiler: gcc gcc (Ubuntu 13.3.0-6ubuntu2~24.04) 13.3.0 Red Hat Enterprise Linux 9.5 Kernel: 5.15 Compiler: gcc gcc (GCC) 11.5.0 20240719 (Red Hat 11.5.0-2) Ubuntu 20.04 Kernel: 5.15 Compiler: gcc gcc (Ubuntu 9.4.0-1ubuntu1~20.04.2) 9.4.0 Ubuntu 22.04 Kernel: 5.15 Compiler: gcc gcc (Ubuntu 11.4.0-1ubuntu1~22.04) 11.4.0 Red Hat Enterprise Linux 8.10 Kernel: 5.15 Compiler: gcc gcc (GCC) 8.5.0 20210514 (Red Hat 8.5.0-22) Windows Server 2022 Kernel: 10.0.20348.2031 Compiler: clang 15.0.7, gcc 14.1.0 (MinGW), and MSVC VS 19.39.33521 To view detailed results, visit: https://lab.dpdk.org/results/dashboard/tarballs/35041/ UNH-IOL DPDK Community Lab To manage your email subscriptions, visit: https://lab.dpdk.org/results/dashboard/preferences/subscriptions/