From mboxrd@z Thu Jan 1 00:00:00 1970 Return-Path: Received: from mails.dpdk.org (mails.dpdk.org [217.70.189.124]) by inbox.dpdk.org (Postfix) with ESMTP id 6563C48862 for ; Mon, 29 Sep 2025 13:16:40 +0200 (CEST) Received: from mails.dpdk.org (localhost [127.0.0.1]) by mails.dpdk.org (Postfix) with ESMTP id 4E5EB4028C; Mon, 29 Sep 2025 13:16:40 +0200 (CEST) Received: from mail-pl1-f228.google.com (mail-pl1-f228.google.com [209.85.214.228]) by mails.dpdk.org (Postfix) with ESMTP id 7DB654028C for ; Mon, 29 Sep 2025 13:16:38 +0200 (CEST) Received: by mail-pl1-f228.google.com with SMTP id d9443c01a7336-279e2554b5fso37437265ad.1 for ; Mon, 29 Sep 2025 04:16:38 -0700 (PDT) DKIM-Signature: v=1; a=rsa-sha256; c=relaxed/relaxed; d=iol.unh.edu; s=unh-iol; t=1759144597; x=1759749397; darn=dpdk.org; h=references:in-reply-to:cc:to:from:subject:message-id:date:from:to :cc:subject:date:message-id:reply-to; bh=ASbBNXAQ7py9IVombhdbqV9cAPV9bGmXhUlqBWo/ZFU=; b=M6emRC8uAgbBczOq104ETdiNoE3ERA9whutCbOLLOuG4fa4GjydlqVzO2a3fqjYfBk LHLhRXzIsvyVMOLG9XJjFZTZwiXesa8bq4odrfQcdsTDlqaAw1w21urY+tG72fID7QbZ cLtzFm6LXxwQzSzdR9uhggV3sse/XVd1srGps= X-Google-DKIM-Signature: v=1; a=rsa-sha256; c=relaxed/relaxed; d=1e100.net; s=20230601; t=1759144597; x=1759749397; h=references:in-reply-to:cc:to:from:subject:message-id:date :x-gm-message-state:from:to:cc:subject:date:message-id:reply-to; bh=ASbBNXAQ7py9IVombhdbqV9cAPV9bGmXhUlqBWo/ZFU=; b=jUKa5RxlmRkwXWT3tiwLIRJWFAbBZtkkmsXkLgBmRCXqEcgDLrwbYOfhLsYfLS0V7u +UnRtf0/rnmzLsEmBTA0aVlYOuudIPHYym9Vn7maWDEMOGr9J0YIWmNBUz/Ex7268jse i1Sj+xcm8cUFamf4qBHbtGnYs9UXN5QPcrqcRMth7QSZT7GJjD/BAqwprcRDl8C2///h w9ySCyNXLkzYk68kpj9jo+ijbqMsaVZuKUmGSnjn9HfdINooMizN/3jT/GijjS+8aKMF LX6+AMIO4Ayvs7Q652WOMqeL/Z99KAYXJsAE4J8CiB4ogJvb+Chq0TZh5rXCUIWBV5ut dB7g== X-Gm-Message-State: AOJu0YyobR3p0xQzcDYTVw7ixBm3/Bnq/OrGJR5CI2I2DtCI5wwEYHCd zgDMYA28SEe/gt1DYrvCO1p0tt7Zrkt6pfygGI8pE39paW89Tg3OHg8CnmE2unOxjQdXgRPWfyZ XG+LRDE6GxjZ/6ik3Z3305zaWf5Tw1RoIQJBOGqpOO6wx6kWPml+LrfhzLENt X-Gm-Gg: ASbGncuktfROzzMVXXkiPiZqxrqtXEMxsreXxGDbSq25C9LHdHlf6l5kVqxNXHSw1GL jTXm3XaRkRFoAZ81gBd7sEdIv8IJ3JUnytZCvsXXNONZHKx4t02wN4Jlwe8wTA7v9ZjszL+Jr6S 2E13HBRxR575br7aHFZ5UAoCWe8WN2Ud/ElVwWkmwalLJDSla0zs1YCWAbufo6TMrv82NxTpfQT nWpqQdiAUJCPst8MIpXzZNdhpXux6of1yjolStG5LjsIkz7LdQKD40dFF1zotMx0ZpzhWGay6QX /qGRn8p9d5LrVxXWCKEcN1SXnFcguqL5/+9w9sVfZVYRzBwtsA== X-Google-Smtp-Source: AGHT+IEUN2ox3y1FPbMpizHzc78Zu8xDxN81XCls+bg75axuXhrEQj62r8WufpEh3NKBTJWrJKLS5VI4xl9T X-Received: by 2002:a17:903:2ecc:b0:272:a847:cabb with SMTP id d9443c01a7336-28d1713a306mr1904405ad.28.1759144597537; Mon, 29 Sep 2025 04:16:37 -0700 (PDT) Received: from postal.iol.unh.edu (postal.iol.unh.edu. [2606:4100:3880:1234::84]) by smtp-relay.gmail.com with ESMTPS id 98e67ed59e1d1-3341bdf72d8sm929406a91.3.2025.09.29.04.16.37 (version=TLS1_2 cipher=ECDHE-ECDSA-AES128-GCM-SHA256 bits=128/128); Mon, 29 Sep 2025 04:16:37 -0700 (PDT) X-Relaying-Domain: iol.unh.edu Date: Mon, 29 Sep 2025 04:16:37 -0700 (PDT) Message-ID: <68da6a95.170a0220.2ee0e7.7decSMTPIN_ADDED_MISSING@mx.google.com> Received: from [172.21.0.2] (unknown [172.18.0.240]) by postal.iol.unh.edu (Postfix) with ESMTP id C16886051830; Mon, 29 Sep 2025 07:16:36 -0400 (EDT) Subject: |SUCCESS| pw157016-157025 [PATCH] [v3,10/10] crypto/cnxk: fix tls mb From: dpdklab@iol.unh.edu To: Test Report Cc: dpdk-test-reports@iol.unh.edu In-Reply-To: <20250929094353.1027744-11-ktejasree@marvell.com> References: <20250929094353.1027744-11-ktejasree@marvell.com> Content-Type: text/plain X-BeenThere: test-report@dpdk.org X-Mailman-Version: 2.1.29 Precedence: list List-Id: automatic DPDK test reports List-Unsubscribe: , List-Archive: List-Post: List-Help: List-Subscribe: , Errors-To: test-report-bounces@dpdk.org Test-Label: iol-unit-amd64-testing Test-Status: SUCCESS http://dpdk.org/patch/157025 _Testing PASS_ Submitter: Tejasree Kondoj Date: Monday, September 29 2025 09:43:53 DPDK git baseline: Repo:dpdk Branch: master CommitID:1d627ea13aeec2bcccf27246e6be2508370d171e 157016-157025 --> testing pass Upstream job id: Generic-Unit-Test-DPDK#376143 Test environment and result as below: +-------------------------------+----------------+ | Environment | dpdk_unit_test | +===============================+================+ | Red Hat Enterprise Linux 8.10 | PASS | +-------------------------------+----------------+ | Ubuntu 22.04 | PASS | +-------------------------------+----------------+ | Windows Server 2022 | PASS | +-------------------------------+----------------+ | Ubuntu 24.04 | PASS | +-------------------------------+----------------+ | Fedora Linux 42 | PASS | +-------------------------------+----------------+ | Fedora Linux 41 | PASS | +-------------------------------+----------------+ | Fedora Linux 40 | PASS | +-------------------------------+----------------+ | Debian GNU/Linux 12 | PASS | +-------------------------------+----------------+ | Red Hat Enterprise Linux 9.5 | PASS | +-------------------------------+----------------+ | CentOS Stream 9 | PASS | +-------------------------------+----------------+ | CentOS Stream 10 | PASS | +-------------------------------+----------------+ | Ubuntu 20.04 | PASS | +-------------------------------+----------------+ Red Hat Enterprise Linux 8.10 Kernel: 5.15 Compiler: gcc gcc (GCC) 8.5.0 20210514 (Red Hat 8.5.0-22) Ubuntu 22.04 Kernel: 5.15 Compiler: gcc gcc (Ubuntu 11.4.0-1ubuntu1~22.04) 11.4.0 Windows Server 2022 Kernel: 10.0.20348.2031 Compiler: clang 15.0.7, gcc 14.1.0 (MinGW), and MSVC VS 19.39.33521 Ubuntu 24.04 Kernel: 5.15 Compiler: gcc gcc (Ubuntu 13.3.0-6ubuntu2~24.04) 13.3.0 Fedora Linux 42 Kernel: 5.15 Compiler: clang gcc (GCC) 15.2.1 20250808 (Red Hat 15.2.1-1) Fedora Linux 41 Kernel: 5.15 Compiler: gcc gcc (GCC) 14.3.1 20250523 (Red Hat 14.3.1-1) Fedora Linux 40 Kernel: 5.15 Compiler: clang gcc (GCC) 14.2.1 20240912 (Red Hat 14.2.1-3) Debian GNU/Linux 12 Kernel: 5.15 Compiler: gcc gcc (Debian 12.2.0-14+deb12u1) 12.2.0 Red Hat Enterprise Linux 9.5 Kernel: 5.15 Compiler: gcc gcc (GCC) 11.5.0 20240719 (Red Hat 11.5.0-2) CentOS Stream 9 Kernel: 5.15 Compiler: gcc gcc (GCC) 11.5.0 20240719 (Red Hat 11.5.0-11) CentOS Stream 10 Kernel: 5.15 Compiler: gcc gcc (GCC) 14.2.1 20250110 (Red Hat 14.2.1-8) Ubuntu 20.04 Kernel: 5.15 Compiler: gcc gcc (Ubuntu 9.4.0-1ubuntu1~20.04.2) 9.4.0 To view detailed results, visit: https://lab.dpdk.org/results/dashboard/patchsets/34166/ UNH-IOL DPDK Community Lab To manage your email subscriptions, visit: https://lab.dpdk.org/results/dashboard/preferences/subscriptions/